BEGIN:VCALENDAR
VERSION:2.0
PRODID:-//I &amp; M Canal - ECPv6.15.20//NONSGML v1.0//EN
CALSCALE:GREGORIAN
METHOD:PUBLISH
X-WR-CALNAME:I &amp; M Canal
X-ORIGINAL-URL:https://iandmcanal.org
X-WR-CALDESC:Events for I &amp; M Canal
REFRESH-INTERVAL;VALUE=DURATION:PT1H
X-Robots-Tag:noindex
X-PUBLISHED-TTL:PT1H
BEGIN:VTIMEZONE
TZID:America/Chicago
BEGIN:DAYLIGHT
TZOFFSETFROM:-0600
TZOFFSETTO:-0500
TZNAME:CDT
DTSTART:20230312T080000
END:DAYLIGHT
BEGIN:STANDARD
TZOFFSETFROM:-0500
TZOFFSETTO:-0600
TZNAME:CST
DTSTART:20231105T070000
END:STANDARD
BEGIN:DAYLIGHT
TZOFFSETFROM:-0600
TZOFFSETTO:-0500
TZNAME:CDT
DTSTART:20240310T080000
END:DAYLIGHT
BEGIN:STANDARD
TZOFFSETFROM:-0500
TZOFFSETTO:-0600
TZNAME:CST
DTSTART:20241103T070000
END:STANDARD
BEGIN:DAYLIGHT
TZOFFSETFROM:-0600
TZOFFSETTO:-0500
TZNAME:CDT
DTSTART:20250309T080000
END:DAYLIGHT
BEGIN:STANDARD
TZOFFSETFROM:-0500
TZOFFSETTO:-0600
TZNAME:CST
DTSTART:20251102T070000
END:STANDARD
BEGIN:DAYLIGHT
TZOFFSETFROM:-0600
TZOFFSETTO:-0500
TZNAME:CDT
DTSTART:20260308T080000
END:DAYLIGHT
BEGIN:STANDARD
TZOFFSETFROM:-0500
TZOFFSETTO:-0600
TZNAME:CST
DTSTART:20261101T070000
END:STANDARD
END:VTIMEZONE
BEGIN:VEVENT
DTSTART;TZID=America/Chicago:20250704T100000
DTEND;TZID=America/Chicago:20250704T220000
DTSTAMP:20260422T032243
CREATED:20250624T191303Z
LAST-MODIFIED:20250624T204805Z
UID:10003025-1751623200-1751666400@iandmcanal.org
SUMMARY:Princeton's 4th of July Celebration
DESCRIPTION:Princeton Chamber of Commerce invites you to celebrate the 4th of July holiday with an entertaining fireworks display at Zearing Park.\nCome early and enjoy other activities happening before the big show. \nFeaturing Birdchild! \n 
URL:https://iandmcanal.org/events/princetons-4th-of-july-celebration/
LOCATION:Zearing Park\, S. Euclid & E. Thompson\, Princeton\, IL\, 61356\, United States
ATTACH;FMTTYPE=image/jpeg:https://iandmcanal.org/wp-content/uploads/2025/06/Firework-e1750798075386.jpg
END:VEVENT
BEGIN:VEVENT
DTSTART;TZID=America/Chicago:20250621T053000
DTEND;TZID=America/Chicago:20250621T160000
DTSTAMP:20260422T032243
CREATED:20250612T200207Z
LAST-MODIFIED:20250612T202445Z
UID:10002983-1750483800-1750521600@iandmcanal.org
SUMMARY:Z Tour Bike Ride & Bike Fest
DESCRIPTION:Z Tour Bike Ride & Bike Fest\nPROCEEDS BENEFIT THE ZEARING CHILD ENRICHMENT CENTER IN PRINCETON\, ILLINOIS \nThis Z Tour Bike Ride provides you a chance to enjoy some of the best bike roads that northwest Illinois has to offer. The routes will feature loops that incorporate hills\, rolling terrain\, beautiful views of Bureau Creek with minimal traffic\, beginning and ending at Princeton’s beautiful Zearing Park. \nWell-marked bike routes Well-paved\, low traveled roadways Map and cue for all routes Radio-dispatched SAG until 3:00 pm Post-ride meal provided Rest stops supplied with food and beverages. Easy and fast check-in All riders must start between 6:00 am-9:30 am \n 
URL:https://iandmcanal.org/events/z-tour-bike-ride-bike-fest/
LOCATION:Zearing Park\, S. Euclid & E. Thompson\, Princeton\, IL\, 61356\, United States
ATTACH;FMTTYPE=image/png:https://iandmcanal.org/wp-content/uploads/2025/06/Screenshot-2025-06-12-at-2.56.35 PM-e1749759870738.png
END:VEVENT
BEGIN:VEVENT
DTSTART;TZID=America/Chicago:20240704T170000
DTEND;TZID=America/Chicago:20240704T220000
DTSTAMP:20260422T032243
CREATED:20240703T200835Z
LAST-MODIFIED:20240703T200835Z
UID:10001838-1720112400-1720130400@iandmcanal.org
SUMMARY:4th of July at Zearing Park
DESCRIPTION:Princeton Chamber of Commerce invites you to celebrate the 4th of July holiday with an entertaining fireworks display at Zearing Park. Come early and enjoy other activities happening before the big show. Featuring Bluewater Kings Band!
URL:https://iandmcanal.org/events/4th-of-july-at-zearing-park/
LOCATION:Zearing Park\, S. Euclid & E. Thompson\, Princeton\, IL\, 61356\, United States
END:VEVENT
END:VCALENDAR