BEGIN:VCALENDAR
VERSION:2.0
PRODID:-//I &amp; M Canal - ECPv6.15.20//NONSGML v1.0//EN
CALSCALE:GREGORIAN
METHOD:PUBLISH
X-WR-CALNAME:I &amp; M Canal
X-ORIGINAL-URL:https://iandmcanal.org
X-WR-CALDESC:Events for I &amp; M Canal
REFRESH-INTERVAL;VALUE=DURATION:PT1H
X-Robots-Tag:noindex
X-PUBLISHED-TTL:PT1H
BEGIN:VTIMEZONE
TZID:America/Chicago
BEGIN:DAYLIGHT
TZOFFSETFROM:-0600
TZOFFSETTO:-0500
TZNAME:CDT
DTSTART:20230312T080000
END:DAYLIGHT
BEGIN:STANDARD
TZOFFSETFROM:-0500
TZOFFSETTO:-0600
TZNAME:CST
DTSTART:20231105T070000
END:STANDARD
BEGIN:DAYLIGHT
TZOFFSETFROM:-0600
TZOFFSETTO:-0500
TZNAME:CDT
DTSTART:20240310T080000
END:DAYLIGHT
BEGIN:STANDARD
TZOFFSETFROM:-0500
TZOFFSETTO:-0600
TZNAME:CST
DTSTART:20241103T070000
END:STANDARD
BEGIN:DAYLIGHT
TZOFFSETFROM:-0600
TZOFFSETTO:-0500
TZNAME:CDT
DTSTART:20250309T080000
END:DAYLIGHT
BEGIN:STANDARD
TZOFFSETFROM:-0500
TZOFFSETTO:-0600
TZNAME:CST
DTSTART:20251102T070000
END:STANDARD
BEGIN:DAYLIGHT
TZOFFSETFROM:-0600
TZOFFSETTO:-0500
TZNAME:CDT
DTSTART:20260308T080000
END:DAYLIGHT
BEGIN:STANDARD
TZOFFSETFROM:-0500
TZOFFSETTO:-0600
TZNAME:CST
DTSTART:20261101T070000
END:STANDARD
END:VTIMEZONE
BEGIN:VEVENT
DTSTART;TZID=America/Chicago:20250314T190000
DTEND;TZID=America/Chicago:20250314T203000
DTSTAMP:20260419T225346
CREATED:20250228T202325Z
LAST-MODIFIED:20250303T170958Z
UID:10002768-1741978800-1741984200@iandmcanal.org
SUMMARY:Pre-lunar Eclipse of the Moon
DESCRIPTION:Celebrate the upcoming lunar eclipse under the full moon at Whalon Lake.\nDiscover the wonders of a lunar eclipse and unearth the importance of the namesake of this month’s moon — the worm moon — while on a night hike with a naturalist. Note: This program does not take place during the lunar eclipse\, which occurs overnight. \nFee: Free! Age: Ages 8 and older. Registration required by Wednesday\, March 12\, by calling 815-722-4121 or online. \nThis program takes place entirely outdoors; please dress for the weather. Please refrain from bringing flashlights and other lights\, including light-up shoes. \nThe hike will be 1.5 miles to 2 miles on a paved trail. The event is hosted along paved pathways and natural surfaces across uneven terrain. Anyone who requires an auxiliary aid or service to participate in this program should submit a request online no later than 48 hours before the program. \n 
URL:https://iandmcanal.org/events/pre-lunar-eclipse-of-the-moon/
LOCATION:Whalon Lake\, Royce rd. West of Rt. 53\, Naperville\, IL\, United States
ATTACH;FMTTYPE=image/jpeg:https://iandmcanal.org/wp-content/uploads/2025/02/FullMoonWithTreeShutterstock-e1741017003598.jpg
END:VEVENT
BEGIN:VEVENT
DTSTART;TZID=America/Chicago:20240811T200000
DTEND;TZID=America/Chicago:20240811T220000
DTSTAMP:20260419T225346
CREATED:20240808T163421Z
LAST-MODIFIED:20240808T193812Z
UID:10002090-1723406400-1723413600@iandmcanal.org
SUMMARY:Perseids in the Preserve
DESCRIPTION:Have you ever seen a shooting star? You can up your odds by checking out the night sky during the Perseids meteor shower. This is considered one of the brighter meteor showers of the year. This year\, peak activity will be from Aug. 11 to 13. Pack a chair\, a blanket and snacks and join us in the preserves at night when the gates are usually locked. \nDrop in at Whalon Lake’s Lakeside Shelter any time between 8 and 10 p.m. for star viewing and take a break by the fire to roast a marshmallow. Want to stay all night? Consider camping at one of the Forest Preserve District of Will County campsites. This offers you the chance to be outdoors all night to view meteors when conditions are best. Camping is by reservation only\, and fees apply. Make sure to reserve your spot now to view this annual astronomical event. \nFee: Free! Age: All ages. No registration required. \nThe event is hosted along paved pathways and natural surfaces across uneven terrain. Anyone who requires an auxiliary aid or service to participate in this program should submit a request online no later than 48 hours before the program. \n 
URL:https://iandmcanal.org/events/perseids-in-the-preserve/
LOCATION:Whalon Lake\, Royce rd. West of Rt. 53\, Naperville\, IL\, United States
ATTACH;FMTTYPE=image/png:https://iandmcanal.org/wp-content/uploads/2024/08/Screen-Shot-2024-08-08-at-11.18.48-AM-300x186-1.png
END:VEVENT
END:VCALENDAR