BEGIN:VCALENDAR
VERSION:2.0
PRODID:-//I &amp; M Canal - ECPv6.15.20//NONSGML v1.0//EN
CALSCALE:GREGORIAN
METHOD:PUBLISH
X-WR-CALNAME:I &amp; M Canal
X-ORIGINAL-URL:https://iandmcanal.org
X-WR-CALDESC:Events for I &amp; M Canal
REFRESH-INTERVAL;VALUE=DURATION:PT1H
X-Robots-Tag:noindex
X-PUBLISHED-TTL:PT1H
BEGIN:VTIMEZONE
TZID:America/Chicago
BEGIN:DAYLIGHT
TZOFFSETFROM:-0600
TZOFFSETTO:-0500
TZNAME:CDT
DTSTART:20230312T080000
END:DAYLIGHT
BEGIN:STANDARD
TZOFFSETFROM:-0500
TZOFFSETTO:-0600
TZNAME:CST
DTSTART:20231105T070000
END:STANDARD
BEGIN:DAYLIGHT
TZOFFSETFROM:-0600
TZOFFSETTO:-0500
TZNAME:CDT
DTSTART:20240310T080000
END:DAYLIGHT
BEGIN:STANDARD
TZOFFSETFROM:-0500
TZOFFSETTO:-0600
TZNAME:CST
DTSTART:20241103T070000
END:STANDARD
BEGIN:DAYLIGHT
TZOFFSETFROM:-0600
TZOFFSETTO:-0500
TZNAME:CDT
DTSTART:20250309T080000
END:DAYLIGHT
BEGIN:STANDARD
TZOFFSETFROM:-0500
TZOFFSETTO:-0600
TZNAME:CST
DTSTART:20251102T070000
END:STANDARD
END:VTIMEZONE
BEGIN:VEVENT
DTSTART;TZID=America/Chicago:20240803T130000
DTEND;TZID=America/Chicago:20240803T170000
DTSTAMP:20260419T140900
CREATED:20240731T185317Z
LAST-MODIFIED:20240801T191902Z
UID:10002037-1722690000-1722704400@iandmcanal.org
SUMMARY:Utica Brew Bazaar
DESCRIPTION:Utica Brew Bazaar!!! The NEW and IMPROVED Craft Beer Street fest.\nWe have listened to your voices over the years and have designed a whole new event!!! Not only can you get tastings of brews from some of Illinois’s best breweries\, you can now BUY the brew onsite!! This is our first year allowing breweries to sell liquid on site! We also will have food trucks\, live music from Steve & Steve and Vendors selling all sorts of items!! Utica Downtown (Mill Street) will be shut down for this event as we let the breweries take over for a wonderful event! \nThis year the event will feature Breweries\, Cideries and Meaderies from though-out the state of Illinois. Check back often for new additions to the line-up!!! \nPast years line up consisted of over 30 participating breweries representing over 50 different beers! Check back regularly as we are trying to confirm over 50 breweries for this amazing fest!!! \nJoin us from 2-5pm for General Admission ($35) where the ticket gets you in and tasting until the kegs run dry. Join us for the VIP hour ($45)\, starting at 1pm and get into the event an hour before all other attendees! \nALL proceeds from this event go to Charity!! Charities receiving donations from the event include the Utica Fire Protection District and the Waltham Elementary Education Foundation (WEEF). \n 
URL:https://iandmcanal.org/events/utica-brew-bazaar/
LOCATION:Utica Brew Bazaar Site\, Mill St. & E. Canal St.\, Utica\, 61373\, United States
ATTACH;FMTTYPE=image/jpeg:https://iandmcanal.org/wp-content/uploads/2024/07/utica-brew.jpg
END:VEVENT
END:VCALENDAR