BEGIN:VCALENDAR
VERSION:2.0
PRODID:-//I &amp; M Canal - ECPv6.15.20//NONSGML v1.0//EN
CALSCALE:GREGORIAN
METHOD:PUBLISH
X-ORIGINAL-URL:https://iandmcanal.org
X-WR-CALDESC:Events for I &amp; M Canal
REFRESH-INTERVAL;VALUE=DURATION:PT1H
X-Robots-Tag:noindex
X-PUBLISHED-TTL:PT1H
BEGIN:VTIMEZONE
TZID:America/Chicago
BEGIN:DAYLIGHT
TZOFFSETFROM:-0600
TZOFFSETTO:-0500
TZNAME:CDT
DTSTART:20250309T080000
END:DAYLIGHT
BEGIN:STANDARD
TZOFFSETFROM:-0500
TZOFFSETTO:-0600
TZNAME:CST
DTSTART:20251102T070000
END:STANDARD
BEGIN:DAYLIGHT
TZOFFSETFROM:-0600
TZOFFSETTO:-0500
TZNAME:CDT
DTSTART:20260308T080000
END:DAYLIGHT
BEGIN:STANDARD
TZOFFSETFROM:-0500
TZOFFSETTO:-0600
TZNAME:CST
DTSTART:20261101T070000
END:STANDARD
BEGIN:DAYLIGHT
TZOFFSETFROM:-0600
TZOFFSETTO:-0500
TZNAME:CDT
DTSTART:20270314T080000
END:DAYLIGHT
BEGIN:STANDARD
TZOFFSETFROM:-0500
TZOFFSETTO:-0600
TZNAME:CST
DTSTART:20271107T070000
END:STANDARD
END:VTIMEZONE
BEGIN:VEVENT
DTSTART;TZID=America/Chicago:20260417T193000
DTEND;TZID=America/Chicago:20260417T203000
DTSTAMP:20260419T133048
CREATED:20260328T184239Z
LAST-MODIFIED:20260328T184302Z
UID:10003717-1776454200-1776457800@iandmcanal.org
SUMMARY:Rainy Umbrella Painting
DESCRIPTION:When the rain falls\, creativity shines. Join us for a Rainy Umbrella Acrylic Paint Night filled with moody skies\, glowing colors\, and artistic vibes.\nNo experience is needed. Cost is $40 per person.
URL:https://iandmcanal.org/events/rainy-umbrella-painting/
LOCATION:SOL Art Solutions\, 81 N. Chicago St.\, Joliet\, IL\, 60432\, United States
ATTACH;FMTTYPE=image/png:https://iandmcanal.org/wp-content/uploads/2026/03/Screenshot-2026-03-28-at-1.38.54-PM.png
END:VEVENT
BEGIN:VEVENT
DTSTART;TZID=America/Chicago:20260320T190000
DTEND;TZID=America/Chicago:20260320T203000
DTSTAMP:20260419T133048
CREATED:20260306T195453Z
LAST-MODIFIED:20260306T195533Z
UID:10003681-1774033200-1774038600@iandmcanal.org
SUMMARY:Abstract Blossom Paint Night
DESCRIPTION:Let creativity bloom! Join us for an Abstract Blossom Paint Night – where bold colors and expressive brushstrokes come together.\nNo experience needed- just paint\, relax\, and watch your art come alive. $40 per person.
URL:https://iandmcanal.org/events/abstract-blossom-paint-night/
LOCATION:SOL Art Solutions\, 81 N. Chicago St.\, Joliet\, IL\, 60432\, United States
ATTACH;FMTTYPE=image/png:https://iandmcanal.org/wp-content/uploads/2026/03/Screenshot-2026-03-06-at-1.50.57-PM.png
END:VEVENT
END:VCALENDAR