BEGIN:VCALENDAR
VERSION:2.0
PRODID:-//I &amp; M Canal - ECPv6.15.20//NONSGML v1.0//EN
CALSCALE:GREGORIAN
METHOD:PUBLISH
X-WR-CALNAME:I &amp; M Canal
X-ORIGINAL-URL:https://iandmcanal.org
X-WR-CALDESC:Events for I &amp; M Canal
REFRESH-INTERVAL;VALUE=DURATION:PT1H
X-Robots-Tag:noindex
X-PUBLISHED-TTL:PT1H
BEGIN:VTIMEZONE
TZID:America/Chicago
BEGIN:DAYLIGHT
TZOFFSETFROM:-0600
TZOFFSETTO:-0500
TZNAME:CDT
DTSTART:20230312T080000
END:DAYLIGHT
BEGIN:STANDARD
TZOFFSETFROM:-0500
TZOFFSETTO:-0600
TZNAME:CST
DTSTART:20231105T070000
END:STANDARD
BEGIN:DAYLIGHT
TZOFFSETFROM:-0600
TZOFFSETTO:-0500
TZNAME:CDT
DTSTART:20240310T080000
END:DAYLIGHT
BEGIN:STANDARD
TZOFFSETFROM:-0500
TZOFFSETTO:-0600
TZNAME:CST
DTSTART:20241103T070000
END:STANDARD
BEGIN:DAYLIGHT
TZOFFSETFROM:-0600
TZOFFSETTO:-0500
TZNAME:CDT
DTSTART:20250309T080000
END:DAYLIGHT
BEGIN:STANDARD
TZOFFSETFROM:-0500
TZOFFSETTO:-0600
TZNAME:CST
DTSTART:20251102T070000
END:STANDARD
END:VTIMEZONE
BEGIN:VEVENT
DTSTART;TZID=America/Chicago:20241019T160000
DTEND;TZID=America/Chicago:20241019T200000
DTSTAMP:20260422T190626
CREATED:20241015T214520Z
LAST-MODIFIED:20241016T161334Z
UID:10002392-1729353600-1729368000@iandmcanal.org
SUMMARY:A Victorian Haunting
DESCRIPTION:Get Your Tickets Now for A Victorian Haunting: A Taste of Ottawa and Its Spirits!\nStep into a world of mystery and delight on October 19\, 2024\, as the Ottawa Downtown Association presents an unforgettable evening with A Victorian Haunting: A Taste of Ottawa and Its Spirits. Secure your tickets today for a night filled with exquisite food\, tantalizing drinks\, and exclusive experiences that will leave you spellbound. \nWhy You Shouldn’t Miss This Event: -5 Chef-Curated Appetizers Indulge in a culinary adventure with five mouth-watering appetizers\, crafted by Ottawa’s top chefs. Each bite showcases the finest ingredients and culinary creativity\, making this a gourmet experience you won’t forget. \n-2 Hand-Crafted Cocktails Savor the artistry of Ottawa’s best mixologists with two exquisite hand-crafted cocktails. These drinks are specially designed to complement the evening’s Victorian theme\, adding a touch of elegance and sophistication to your night. \nExclusive Access to the Historic Reddick Mansion Gain exclusive entry to the Reddick Mansion\, one of Ottawa’s most iconic landmarks. Explore its stunning architecture and rich history while enjoying special presentations and ghostly tales that bring the past to life! Trust us\, you’ve never experienced the Mansion like you will during A Victorian Haunting! \nEntry into the Costume Contest Put on your best Victorian or Halloween costume and join in the fun! Our costume contest offers a chance to win fantastic prizes while showing off your creativity and style. It’s the perfect opportunity to immerse yourself in the evening’s theme. Dress as your favorite Bridgerton character\, Dracula\, Dr. Jeckyll\, Frankenstein\, or whatever your imagination can create. \n Victorian Parlor Activities Wander through downtown Ottawa and discover a variety of Victorian parlor activities hosted by local businesses. These engaging activities will transport you back in time and provide endless entertainment throughout the night. Palm reading\, reiki\, tarot\, ghostly tales\, and more! \nPlus so much more! New events and activities are being added to enhance your immersive experience! \nDon’t Miss Out! Tickets are selling fast\, so don’t wait! Purchase your tickets now and be part of an extraordinary evening that celebrates the best of Ottawa’s culinary scene\, rich history\, and vibrant community. \nTicket Information: \nDate: October 19\, 2024 Time: 4-8 PM \nTicket Pickup: Starting at 4 pm at Saffron Bazaar Location: Various historic sites in downtown Ottawa 21+ Must show ID at check-in. \n 
URL:https://iandmcanal.org/events/a-victorian-haunting/
LOCATION:Saffron Bazaar\, 1409 LaSalle St.\, Ottawa\, 61350\, United States
ATTACH;FMTTYPE=image/jpeg:https://iandmcanal.org/wp-content/uploads/2024/10/461510373_122100174284548199_9003061442945670915_n.jpg
END:VEVENT
END:VCALENDAR