BEGIN:VCALENDAR
VERSION:2.0
PRODID:-//I &amp; M Canal - ECPv6.15.20//NONSGML v1.0//EN
CALSCALE:GREGORIAN
METHOD:PUBLISH
X-WR-CALNAME:I &amp; M Canal
X-ORIGINAL-URL:https://iandmcanal.org
X-WR-CALDESC:Events for I &amp; M Canal
REFRESH-INTERVAL;VALUE=DURATION:PT1H
X-Robots-Tag:noindex
X-PUBLISHED-TTL:PT1H
BEGIN:VTIMEZONE
TZID:America/Chicago
BEGIN:DAYLIGHT
TZOFFSETFROM:-0600
TZOFFSETTO:-0500
TZNAME:CDT
DTSTART:20240310T080000
END:DAYLIGHT
BEGIN:STANDARD
TZOFFSETFROM:-0500
TZOFFSETTO:-0600
TZNAME:CST
DTSTART:20241103T070000
END:STANDARD
BEGIN:DAYLIGHT
TZOFFSETFROM:-0600
TZOFFSETTO:-0500
TZNAME:CDT
DTSTART:20250309T080000
END:DAYLIGHT
BEGIN:STANDARD
TZOFFSETFROM:-0500
TZOFFSETTO:-0600
TZNAME:CST
DTSTART:20251102T070000
END:STANDARD
BEGIN:DAYLIGHT
TZOFFSETFROM:-0600
TZOFFSETTO:-0500
TZNAME:CDT
DTSTART:20260308T080000
END:DAYLIGHT
BEGIN:STANDARD
TZOFFSETFROM:-0500
TZOFFSETTO:-0600
TZNAME:CST
DTSTART:20261101T070000
END:STANDARD
END:VTIMEZONE
BEGIN:VEVENT
DTSTART;TZID=America/Chicago:20250824T080000
DTEND;TZID=America/Chicago:20250824T200000
DTSTAMP:20260422T043016
CREATED:20250401T173937Z
LAST-MODIFIED:20250402T150341Z
UID:10002806-1756022400-1756065600@iandmcanal.org
SUMMARY:Vietnam Traveling Memorial Wall
DESCRIPTION:As Vietnam War Veterans Day approaches (March 29)\, the Village of Romeoville is honored to announce that the Vietnam Traveling Memorial Wall will be displayed in Romeoville from August 21 – August 24. Arriving by trailer\, a welcome parade will escort the wall into town on the morning of the 21st. The wall will then be assembled in the football field parking lot between Village Hall and the Recreation Center. The public will be welcome to view the wall starting at 1 pm on the 21st. Viewing hours are dawn to dusk\, ending when the sun sets on the 24th. \nSecuring the wall took significant advanced planning. Village staff initially reached out to the group behind the wall in July of 2023. The Vietnam Traveling Memorial Wall is six feet tall at the center and covers nearly 300 feet from end to end. It is a 3/5 scale replica of the Vietnam Memorial in Washington D.C. \n“As the son of a Vietnam War veteran\, it is especially moving for me that Romeoville will be hosting the wall\,” said Mayor Noak. “I encourage everyone to come view this display and to honor those who served in Vietnam and perished or remain missing.” \nMore details on the wall and accompanying festivities will be available on romeoville.org as August approaches. You can learn more about the Vietnam Traveling Memorial Wall at www.travelingwall.us.
URL:https://iandmcanal.org/events/vietnam-traveling-memorial-wall-4/
LOCATION:Romeoville Village Hall\, 1050 Romeo Rd.\, Romeoville\, IL\, 60446\, United States
ATTACH;FMTTYPE=image/jpeg:https://iandmcanal.org/wp-content/uploads/2025/04/FEDF2AD2-9928-482C-A421-7AB3063497EF-3-e1743539933772.jpeg
END:VEVENT
BEGIN:VEVENT
DTSTART;TZID=America/Chicago:20250823T080000
DTEND;TZID=America/Chicago:20250823T200000
DTSTAMP:20260422T043016
CREATED:20250401T173549Z
LAST-MODIFIED:20250401T204247Z
UID:10002805-1755936000-1755979200@iandmcanal.org
SUMMARY:Vietnam Traveling Memorial Wall
DESCRIPTION:As Vietnam War Veterans Day approaches (March 29)\, the Village of Romeoville is honored to announce that the Vietnam Traveling Memorial Wall will be displayed in Romeoville from August 21 – August 24. Arriving by trailer\, a welcome parade will escort the wall into town on the morning of the 21st. The wall will then be assembled in the football field parking lot between Village Hall and the Recreation Center. The public will be welcome to view the wall starting at 1 pm on the 21st. Viewing hours are dawn to dusk\, ending when the sun sets on the 24th. \nSecuring the wall took significant advanced planning. Village staff initially reached out to the group behind the wall in July of 2023. The Vietnam Traveling Memorial Wall is six feet tall at the center and covers nearly 300 feet from end to end. It is a 3/5 scale replica of the Vietnam Memorial in Washington D.C. \n“As the son of a Vietnam War veteran\, it is especially moving for me that Romeoville will be hosting the wall\,” said Mayor Noak. “I encourage everyone to come view this display and to honor those who served in Vietnam and perished or remain missing.” \nMore details on the wall and accompanying festivities will be available on romeoville.org as August approaches. You can learn more about the Vietnam Traveling Memorial Wall at www.travelingwall.us.
URL:https://iandmcanal.org/events/vietnam-traveling-memorial-wall-3/
LOCATION:Romeoville Village Hall\, 1050 Romeo Rd.\, Romeoville\, IL\, 60446\, United States
ATTACH;FMTTYPE=image/jpeg:https://iandmcanal.org/wp-content/uploads/2025/04/FEDF2AD2-9928-482C-A421-7AB3063497EF-3-e1743539933772.jpeg
END:VEVENT
BEGIN:VEVENT
DTSTART;TZID=America/Chicago:20250822T080000
DTEND;TZID=America/Chicago:20250822T200000
DTSTAMP:20260422T043016
CREATED:20250401T173110Z
LAST-MODIFIED:20250401T204251Z
UID:10002804-1755849600-1755892800@iandmcanal.org
SUMMARY:Vietnam Traveling Memorial Wall
DESCRIPTION:As Vietnam War Veterans Day approaches (March 29)\, the Village of Romeoville is honored to announce that the Vietnam Traveling Memorial Wall will be displayed in Romeoville from August 21 – August 24. Arriving by trailer\, a welcome parade will escort the wall into town on the morning of the 21st. The wall will then be assembled in the football field parking lot between Village Hall and the Recreation Center. The public will be welcome to view the wall starting at 1 pm on the 21st. Viewing hours are dawn to dusk\, ending when the sun sets on the 24th. \nSecuring the wall took significant advanced planning. Village staff initially reached out to the group behind the wall in July of 2023. The Vietnam Traveling Memorial Wall is six feet tall at the center and covers nearly 300 feet from end to end. It is a 3/5 scale replica of the Vietnam Memorial in Washington D.C. \n“As the son of a Vietnam War veteran\, it is especially moving for me that Romeoville will be hosting the wall\,” said Mayor Noak. “I encourage everyone to come view this display and to honor those who served in Vietnam and perished or remain missing.” \nMore details on the wall and accompanying festivities will be available on romeoville.org as August approaches. You can learn more about the Vietnam Traveling Memorial Wall at www.travelingwall.us.
URL:https://iandmcanal.org/events/vietnam-traveling-memorial-wall-2/
LOCATION:Romeoville Village Hall\, 1050 Romeo Rd.\, Romeoville\, IL\, 60446\, United States
ATTACH;FMTTYPE=image/jpeg:https://iandmcanal.org/wp-content/uploads/2025/04/FEDF2AD2-9928-482C-A421-7AB3063497EF-3-e1743539933772.jpeg
END:VEVENT
BEGIN:VEVENT
DTSTART;TZID=America/Chicago:20250821T130000
DTEND;TZID=America/Chicago:20250821T200000
DTSTAMP:20260422T043016
CREATED:20250401T172850Z
LAST-MODIFIED:20250401T204255Z
UID:10002803-1755781200-1755806400@iandmcanal.org
SUMMARY:Vietnam Traveling Memorial Wall
DESCRIPTION:As Vietnam War Veterans Day approaches (March 29)\, the Village of Romeoville is honored to announce that the Vietnam Traveling Memorial Wall will be displayed in Romeoville from August 21 – August 24. Arriving by trailer\, a welcome parade will escort the wall into town on the morning of the 21st. The wall will then be assembled in the football field parking lot between Village Hall and the Recreation Center. The public will be welcome to view the wall starting at 1 pm on the 21st. Viewing hours are dawn to dusk\, ending when the sun sets on the 24th. \nSecuring the wall took significant advanced planning. Village staff initially reached out to the group behind the wall in July of 2023. The Vietnam Traveling Memorial Wall is six feet tall at the center and covers nearly 300 feet from end to end. It is a 3/5 scale replica of the Vietnam Memorial in Washington D.C. \n“As the son of a Vietnam War veteran\, it is especially moving for me that Romeoville will be hosting the wall\,” said Mayor Noak. “I encourage everyone to come view this display and to honor those who served in Vietnam and perished or remain missing.” \nMore details on the wall and accompanying festivities will be available on romeoville.org as August approaches. You can learn more about the Vietnam Traveling Memorial Wall at www.travelingwall.us.
URL:https://iandmcanal.org/events/vietnam-traveling-memorial-wall/
LOCATION:Romeoville Village Hall\, 1050 Romeo Rd.\, Romeoville\, IL\, 60446\, United States
ATTACH;FMTTYPE=image/jpeg:https://iandmcanal.org/wp-content/uploads/2025/04/FEDF2AD2-9928-482C-A421-7AB3063497EF-3-e1743539933772.jpeg
END:VEVENT
BEGIN:VEVENT
DTSTART;TZID=America/Chicago:20250810T120000
DTEND;TZID=America/Chicago:20250810T190000
DTSTAMP:20260422T043016
CREATED:20250806T213348Z
LAST-MODIFIED:20250807T142238Z
UID:10003153-1754827200-1754852400@iandmcanal.org
SUMMARY:RomeoFest
DESCRIPTION:Bring the whole family out to RomeoFest — the ultimate 4-day celebration of community and fun!\nFrom delicious food and live music to exciting carnival rides and games\, there’s something for everyone! Enjoy bingo\, the car show\, and friendly tournaments\, plus extra-special experiences like the family fun Color Run\, breathtaking fireworks\, and a dazzling laser show to end your nights with a wow. It’s a jam-packed weekend full of fun— all right here in Romeoville! \n 
URL:https://iandmcanal.org/events/romeofest-4/
LOCATION:Romeoville Village Hall\, 1050 Romeo Rd.\, Romeoville\, IL\, 60446\, United States
ATTACH;FMTTYPE=image/png:https://iandmcanal.org/wp-content/uploads/2025/08/remeofest-scaled-e1754576429308.png
END:VEVENT
BEGIN:VEVENT
DTSTART;TZID=America/Chicago:20250809T120000
DTEND;TZID=America/Chicago:20250809T230000
DTSTAMP:20260422T043016
CREATED:20250806T212954Z
LAST-MODIFIED:20250807T142323Z
UID:10003152-1754740800-1754780400@iandmcanal.org
SUMMARY:RomeoFest
DESCRIPTION:Bring the whole family out to RomeoFest — the ultimate 4-day celebration of community and fun!\nFrom delicious food and live music to exciting carnival rides and games\, there’s something for everyone! Enjoy bingo\, the car show\, and friendly tournaments\, plus extra-special experiences like the family fun Color Run\, breathtaking fireworks\, and a dazzling laser show to end your nights with a wow. It’s a jam-packed weekend full of fun— all right here in Romeoville! \n 
URL:https://iandmcanal.org/events/romeofest-3/
LOCATION:Romeoville Village Hall\, 1050 Romeo Rd.\, Romeoville\, IL\, 60446\, United States
ATTACH;FMTTYPE=image/png:https://iandmcanal.org/wp-content/uploads/2025/08/remeofest-scaled-e1754576429308.png
END:VEVENT
END:VCALENDAR