BEGIN:VCALENDAR
VERSION:2.0
PRODID:-//I &amp; M Canal - ECPv6.15.20//NONSGML v1.0//EN
CALSCALE:GREGORIAN
METHOD:PUBLISH
X-WR-CALNAME:I &amp; M Canal
X-ORIGINAL-URL:https://iandmcanal.org
X-WR-CALDESC:Events for I &amp; M Canal
REFRESH-INTERVAL;VALUE=DURATION:PT1H
X-Robots-Tag:noindex
X-PUBLISHED-TTL:PT1H
BEGIN:VTIMEZONE
TZID:America/Chicago
BEGIN:DAYLIGHT
TZOFFSETFROM:-0600
TZOFFSETTO:-0500
TZNAME:CDT
DTSTART:20230312T080000
END:DAYLIGHT
BEGIN:STANDARD
TZOFFSETFROM:-0500
TZOFFSETTO:-0600
TZNAME:CST
DTSTART:20231105T070000
END:STANDARD
BEGIN:DAYLIGHT
TZOFFSETFROM:-0600
TZOFFSETTO:-0500
TZNAME:CDT
DTSTART:20240310T080000
END:DAYLIGHT
BEGIN:STANDARD
TZOFFSETFROM:-0500
TZOFFSETTO:-0600
TZNAME:CST
DTSTART:20241103T070000
END:STANDARD
BEGIN:DAYLIGHT
TZOFFSETFROM:-0600
TZOFFSETTO:-0500
TZNAME:CDT
DTSTART:20250309T080000
END:DAYLIGHT
BEGIN:STANDARD
TZOFFSETFROM:-0500
TZOFFSETTO:-0600
TZNAME:CST
DTSTART:20251102T070000
END:STANDARD
END:VTIMEZONE
BEGIN:VEVENT
DTSTART;TZID=America/Chicago:20240811T173000
DTEND;TZID=America/Chicago:20240811T203000
DTSTAMP:20260419T183602
CREATED:20240805T191007Z
LAST-MODIFIED:20240806T190656Z
UID:10002054-1723397400-1723408200@iandmcanal.org
SUMMARY:Back to School Pool Party ~ Canceled
DESCRIPTION:Swimming – Food – Snacks – Fun!!! Free Admission!
URL:https://iandmcanal.org/events/back-to-school-pool-party/
LOCATION:Riordan Pool\, 600 Utica Dr.\, Ottawa\, IL\, 61350\, United States
ATTACH;FMTTYPE=image/png:https://iandmcanal.org/wp-content/uploads/2024/08/Screen-Shot-2024-08-05-at-2.02.09-PM-300x192-1.png
END:VEVENT
BEGIN:VEVENT
DTSTART;TZID=America/Chicago:20240809T183000
DTEND;TZID=America/Chicago:20240809T203000
DTSTAMP:20260419T183602
CREATED:20240805T185804Z
LAST-MODIFIED:20240806T200416Z
UID:10002052-1723228200-1723235400@iandmcanal.org
SUMMARY:NCC Summer Splash Blast
DESCRIPTION:Join us for this free event to celebrate Natalie’s  birthday!!
URL:https://iandmcanal.org/events/ncc-summer-splash-blast/
LOCATION:Riordan Pool\, 600 Utica Dr.\, Ottawa\, IL\, 61350\, United States
ATTACH;FMTTYPE=image/png:https://iandmcanal.org/wp-content/uploads/2024/08/Screen-Shot-2024-08-05-at-1.53.34-PM-300x178-1.png
END:VEVENT
BEGIN:VEVENT
DTSTART;TZID=America/Chicago:20240806T170000
DTEND;TZID=America/Chicago:20240806T190000
DTSTAMP:20260419T183602
CREATED:20240801T194013Z
LAST-MODIFIED:20240802T142602Z
UID:10002048-1722963600-1722970800@iandmcanal.org
SUMMARY:National Night Out
DESCRIPTION:Come hang out with your first responders at Riordan Pool.\nJoin our first responders for a fun-filled night! Free food\, Free swim\, and Free goodies for all the kiddos! \nNational Night Out is an annual community-building campaign that promotes police-community partnerships and neighborhood camaraderie to make our neighborhoods safer\, more caring places to live. National Night Out enhances the relationships between neighbors and law enforcement while bringing back a true sense of community. \nCall Stacey at (815) 433-2131 or email sprindiville@ottawapdfd.org.
URL:https://iandmcanal.org/events/national-night-out/
LOCATION:Riordan Pool\, 600 Utica Dr.\, Ottawa\, IL\, 61350\, United States
ATTACH;FMTTYPE=image/png:https://iandmcanal.org/wp-content/uploads/2024/08/Screen-Shot-2024-08-01-at-2.27.45-PM-300x139-1.png
END:VEVENT
END:VCALENDAR