BEGIN:VCALENDAR
VERSION:2.0
PRODID:-//I &amp; M Canal - ECPv6.15.20//NONSGML v1.0//EN
CALSCALE:GREGORIAN
METHOD:PUBLISH
X-ORIGINAL-URL:https://iandmcanal.org
X-WR-CALDESC:Events for I &amp; M Canal
REFRESH-INTERVAL;VALUE=DURATION:PT1H
X-Robots-Tag:noindex
X-PUBLISHED-TTL:PT1H
BEGIN:VTIMEZONE
TZID:America/Chicago
BEGIN:DAYLIGHT
TZOFFSETFROM:-0600
TZOFFSETTO:-0500
TZNAME:CDT
DTSTART:20230312T080000
END:DAYLIGHT
BEGIN:STANDARD
TZOFFSETFROM:-0500
TZOFFSETTO:-0600
TZNAME:CST
DTSTART:20231105T070000
END:STANDARD
BEGIN:DAYLIGHT
TZOFFSETFROM:-0600
TZOFFSETTO:-0500
TZNAME:CDT
DTSTART:20240310T080000
END:DAYLIGHT
BEGIN:STANDARD
TZOFFSETFROM:-0500
TZOFFSETTO:-0600
TZNAME:CST
DTSTART:20241103T070000
END:STANDARD
BEGIN:DAYLIGHT
TZOFFSETFROM:-0600
TZOFFSETTO:-0500
TZNAME:CDT
DTSTART:20250309T080000
END:DAYLIGHT
BEGIN:STANDARD
TZOFFSETFROM:-0500
TZOFFSETTO:-0600
TZNAME:CST
DTSTART:20251102T070000
END:STANDARD
BEGIN:DAYLIGHT
TZOFFSETFROM:-0600
TZOFFSETTO:-0500
TZNAME:CDT
DTSTART:20260308T080000
END:DAYLIGHT
BEGIN:STANDARD
TZOFFSETFROM:-0500
TZOFFSETTO:-0600
TZNAME:CST
DTSTART:20261101T070000
END:STANDARD
END:VTIMEZONE
BEGIN:VEVENT
DTSTART;TZID=America/Chicago:20250320T173000
DTEND;TZID=America/Chicago:20250320T190000
DTSTAMP:20260419T190026
CREATED:20250305T210151Z
LAST-MODIFIED:20250305T213432Z
UID:10002779-1742491800-1742497200@iandmcanal.org
SUMMARY:Where the Wildflowers Are!
DESCRIPTION:You won’t need to sail off through night and day or in and out of weeks. Will County is where the wildflowers are! Anemone\, Dutchman’s breeches\, trillium\, hepatica – our wildflowers have stories to tell! Journey to Raccoon Grove\, a top spot to seek wildflowers. Join a naturalist for a hike to find wildflowers and hear stories of how these beauties were named\, their uses through time and other lore and legends. \nThese ephemeral blooms are beautiful but fleeting. Join us each month for more chapters in the everchanging tale of wildflowers as old ones fade and new ones bloom. Look for other preserves in this series or choose your own adventure. We invite you to visit the same preserve each month to see the changes unfold over time or mix it up and enjoy a different preserve for the full story of Will County wildflowers. \nFee: Free! Age: Ages 10 or older. Children must be accompanied by a registered adult. \nRegistration required by Thursday\, April 11\, by calling 708-946-2216 or online. Raccoon Grove does not have bathroom facilities; please plan accordingly. \nThe trail is approximately 0.75 mile in length on natural surfaces with some hills. Spring rains can make the trail muddy; please dress with that in mind. Anyone who requires an auxiliary aid or service to participate in this program should submit a request online no later than 48 hours before the program. \n 
URL:https://iandmcanal.org/events/where-the-wildflowers-are/
LOCATION:Raccoon Grove\, 5851 W. Pauling rd.\, Monee\, IL\, 60449\, United States
ATTACH;FMTTYPE=image/jpeg:https://iandmcanal.org/wp-content/uploads/2025/03/2DD72504-1469-4CF2-AC03-7E5103929398-e1741210467497.jpeg
END:VEVENT
BEGIN:VEVENT
DTSTART;TZID=America/Chicago:20241124T093000
DTEND;TZID=America/Chicago:20241124T110000
DTSTAMP:20260419T190026
CREATED:20241118T182234Z
LAST-MODIFIED:20241119T180622Z
UID:10002496-1732440600-1732446000@iandmcanal.org
SUMMARY:Wonder & Wander: Raccoon Grove
DESCRIPTION:Calling all those who seek to explore with wide eyes and a sense of wonder. Pause to peer inside a rotting log\, try to identify a mushroom\, listen to bird songs or even take pictures. This program is for those who hike for discovery over destination. This slow\, meandering hike will provide plenty of opportunities to stop and take it all in. Bring along binoculars\, magnifiers and your favorite nature guides if desired. \nFee: Free! Age: Ages 9 and older. \nRegistration required by Friday\, Nov. 22\, by calling 708-946-2216 or online. \nThis program takes place completely outdoors. Please dress for the weather. Raccoon Grove does not have bathroom facilities; please plan accordingly. \nBe prepared to hike up to 1 mile on natural terrain across uneven surfaces. Anyone who requires an auxiliary aid or service to participate in this program should submit a request online no later than 48 hours before the program. \n 
URL:https://iandmcanal.org/events/wonder-wander-raccoon-grove/
LOCATION:Raccoon Grove\, 5851 W. Pauling rd.\, Monee\, IL\, 60449\, United States
ATTACH;FMTTYPE=image/png:https://iandmcanal.org/wp-content/uploads/2024/11/Screen-Shot-2024-11-18-at-12.17.33-PM-300x211-1.png
END:VEVENT
END:VCALENDAR