BEGIN:VCALENDAR
VERSION:2.0
PRODID:-//I &amp; M Canal - ECPv6.15.20//NONSGML v1.0//EN
CALSCALE:GREGORIAN
METHOD:PUBLISH
X-ORIGINAL-URL:https://iandmcanal.org
X-WR-CALDESC:Events for I &amp; M Canal
REFRESH-INTERVAL;VALUE=DURATION:PT1H
X-Robots-Tag:noindex
X-PUBLISHED-TTL:PT1H
BEGIN:VTIMEZONE
TZID:America/Chicago
BEGIN:DAYLIGHT
TZOFFSETFROM:-0600
TZOFFSETTO:-0500
TZNAME:CDT
DTSTART:20250309T080000
END:DAYLIGHT
BEGIN:STANDARD
TZOFFSETFROM:-0500
TZOFFSETTO:-0600
TZNAME:CST
DTSTART:20251102T070000
END:STANDARD
BEGIN:DAYLIGHT
TZOFFSETFROM:-0600
TZOFFSETTO:-0500
TZNAME:CDT
DTSTART:20260308T080000
END:DAYLIGHT
BEGIN:STANDARD
TZOFFSETFROM:-0500
TZOFFSETTO:-0600
TZNAME:CST
DTSTART:20261101T070000
END:STANDARD
BEGIN:DAYLIGHT
TZOFFSETFROM:-0600
TZOFFSETTO:-0500
TZNAME:CDT
DTSTART:20270314T080000
END:DAYLIGHT
BEGIN:STANDARD
TZOFFSETFROM:-0500
TZOFFSETTO:-0600
TZNAME:CST
DTSTART:20271107T070000
END:STANDARD
END:VTIMEZONE
BEGIN:VEVENT
DTSTART;TZID=America/Chicago:20260426T110000
DTEND;TZID=America/Chicago:20260426T130000
DTSTAMP:20260419T133526
CREATED:20260323T201704Z
LAST-MODIFIED:20260323T202036Z
UID:10003706-1777201200-1777208400@iandmcanal.org
SUMMARY:Defying Gravi-Tea Party
DESCRIPTION:Calling all Elphabas and Glindas… You won’t want to miss this spellbinding afternoon inspired by Wicked! Sip tea\, enjoy sweet treats\, and a performance. Celebrate friendship and fun in true Emerald City style. Costumes are encouraged!\nAll guests must be registered. Admission $30 – $35. Tables seat up to 8 – list a table mate’s last name to sit together.
URL:https://iandmcanal.org/events/defying-gravi-tea-party/
LOCATION:Prairie Bluff Golf Club\, 19433 Renwick Rd.\, Crest Hill\, IL\, 60402\, United States
ATTACH;FMTTYPE=image/png:https://iandmcanal.org/wp-content/uploads/2026/03/Screenshot-2026-03-23-at-3.09.03-PM.png
END:VEVENT
END:VCALENDAR