BEGIN:VCALENDAR
VERSION:2.0
PRODID:-//I &amp; M Canal - ECPv6.15.20//NONSGML v1.0//EN
CALSCALE:GREGORIAN
METHOD:PUBLISH
X-WR-CALNAME:I &amp; M Canal
X-ORIGINAL-URL:https://iandmcanal.org
X-WR-CALDESC:Events for I &amp; M Canal
REFRESH-INTERVAL;VALUE=DURATION:PT1H
X-Robots-Tag:noindex
X-PUBLISHED-TTL:PT1H
BEGIN:VTIMEZONE
TZID:America/Chicago
BEGIN:DAYLIGHT
TZOFFSETFROM:-0600
TZOFFSETTO:-0500
TZNAME:CDT
DTSTART:20230312T080000
END:DAYLIGHT
BEGIN:STANDARD
TZOFFSETFROM:-0500
TZOFFSETTO:-0600
TZNAME:CST
DTSTART:20231105T070000
END:STANDARD
BEGIN:DAYLIGHT
TZOFFSETFROM:-0600
TZOFFSETTO:-0500
TZNAME:CDT
DTSTART:20240310T080000
END:DAYLIGHT
BEGIN:STANDARD
TZOFFSETFROM:-0500
TZOFFSETTO:-0600
TZNAME:CST
DTSTART:20241103T070000
END:STANDARD
BEGIN:DAYLIGHT
TZOFFSETFROM:-0600
TZOFFSETTO:-0500
TZNAME:CDT
DTSTART:20250309T080000
END:DAYLIGHT
BEGIN:STANDARD
TZOFFSETFROM:-0500
TZOFFSETTO:-0600
TZNAME:CST
DTSTART:20251102T070000
END:STANDARD
END:VTIMEZONE
BEGIN:VEVENT
DTSTART;TZID=America/Chicago:20241013T140000
DTEND;TZID=America/Chicago:20241013T170000
DTSTAMP:20260422T174736
CREATED:20241011T174434Z
LAST-MODIFIED:20241011T191652Z
UID:10002374-1728828000-1728838800@iandmcanal.org
SUMMARY:Lemont Unlocked
DESCRIPTION:This free public event will provide behind-the-scenes access to architecturally\, historically and culturally significant sites throughout Downtown on Sunday\, October 13. Locations for the 2024 event will be revealed in the coming weeks! \nThis tour is self guided. Stop by our tent outside Village Hall at any point from 2-5pm to pick up your ticket and custom map guide. There will be volunteers at most locations to show you around! \nAll tours are taken at the participant’s own risk. All participating locations assume no responsibility for the safety of any persons or personal property while on tours. \n 
URL:https://iandmcanal.org/events/lemont-unlocked-2/
LOCATION:Lemont Village Hall\, 418 Main St.\, Lemont\, IL\, 60439\, United States
ATTACH;FMTTYPE=image/png:https://iandmcanal.org/wp-content/uploads/2024/10/Screen-Shot-2024-10-11-at-12.38.35-PM-300x191-1.png
END:VEVENT
END:VCALENDAR