BEGIN:VCALENDAR
VERSION:2.0
PRODID:-//I &amp; M Canal - ECPv6.15.20//NONSGML v1.0//EN
CALSCALE:GREGORIAN
METHOD:PUBLISH
X-WR-CALNAME:I &amp; M Canal
X-ORIGINAL-URL:https://iandmcanal.org
X-WR-CALDESC:Events for I &amp; M Canal
REFRESH-INTERVAL;VALUE=DURATION:PT1H
X-Robots-Tag:noindex
X-PUBLISHED-TTL:PT1H
BEGIN:VTIMEZONE
TZID:America/Chicago
BEGIN:DAYLIGHT
TZOFFSETFROM:-0600
TZOFFSETTO:-0500
TZNAME:CDT
DTSTART:20230312T080000
END:DAYLIGHT
BEGIN:STANDARD
TZOFFSETFROM:-0500
TZOFFSETTO:-0600
TZNAME:CST
DTSTART:20231105T070000
END:STANDARD
BEGIN:DAYLIGHT
TZOFFSETFROM:-0600
TZOFFSETTO:-0500
TZNAME:CDT
DTSTART:20240310T080000
END:DAYLIGHT
BEGIN:STANDARD
TZOFFSETFROM:-0500
TZOFFSETTO:-0600
TZNAME:CST
DTSTART:20241103T070000
END:STANDARD
BEGIN:DAYLIGHT
TZOFFSETFROM:-0600
TZOFFSETTO:-0500
TZNAME:CDT
DTSTART:20250309T080000
END:DAYLIGHT
BEGIN:STANDARD
TZOFFSETFROM:-0500
TZOFFSETTO:-0600
TZNAME:CST
DTSTART:20251102T070000
END:STANDARD
END:VTIMEZONE
BEGIN:VEVENT
DTSTART;TZID=America/Chicago:20241116T190000
DTEND;TZID=America/Chicago:20241116T203000
DTSTAMP:20260422T032824
CREATED:20241107T204145Z
LAST-MODIFIED:20241108T154759Z
UID:10002474-1731783600-1731789000@iandmcanal.org
SUMMARY:Made in Chicago
DESCRIPTION:Join the Lemont Area Historical Society for an incredible presentation\, “Made in Chicago\,” by local historian Barb Barrett!\nDiscover the fascinating history of iconic Chicago-made products that helped shape not only our city but also the world! From timeless brands to little-known inventions\, Barb will dive deep into Chicago’s legacy of innovation\, craftsmanship\, and cultural impact. You won’t want to miss it! \nDate: November 16 Time: 7 pm Location: Lemont Area Historical Society\, 306 Lemont St. \nAdmission is free for members\, $5 for non-members. \nTickets available at the door. \nCome celebrate the Windy City’s rich industrial past with us! \n 
URL:https://iandmcanal.org/events/made-in-chicago/
LOCATION:Lemont Historical Society
ATTACH;FMTTYPE=image/png:https://iandmcanal.org/wp-content/uploads/2024/11/made-in-chicago.png
END:VEVENT
END:VCALENDAR