BEGIN:VCALENDAR
VERSION:2.0
PRODID:-//I &amp; M Canal - ECPv6.15.20//NONSGML v1.0//EN
CALSCALE:GREGORIAN
METHOD:PUBLISH
X-ORIGINAL-URL:https://iandmcanal.org
X-WR-CALDESC:Events for I &amp; M Canal
REFRESH-INTERVAL;VALUE=DURATION:PT1H
X-Robots-Tag:noindex
X-PUBLISHED-TTL:PT1H
BEGIN:VTIMEZONE
TZID:America/Chicago
BEGIN:DAYLIGHT
TZOFFSETFROM:-0600
TZOFFSETTO:-0500
TZNAME:CDT
DTSTART:20230312T080000
END:DAYLIGHT
BEGIN:STANDARD
TZOFFSETFROM:-0500
TZOFFSETTO:-0600
TZNAME:CST
DTSTART:20231105T070000
END:STANDARD
BEGIN:DAYLIGHT
TZOFFSETFROM:-0600
TZOFFSETTO:-0500
TZNAME:CDT
DTSTART:20240310T080000
END:DAYLIGHT
BEGIN:STANDARD
TZOFFSETFROM:-0500
TZOFFSETTO:-0600
TZNAME:CST
DTSTART:20241103T070000
END:STANDARD
BEGIN:DAYLIGHT
TZOFFSETFROM:-0600
TZOFFSETTO:-0500
TZNAME:CDT
DTSTART:20250309T080000
END:DAYLIGHT
BEGIN:STANDARD
TZOFFSETFROM:-0500
TZOFFSETTO:-0600
TZNAME:CST
DTSTART:20251102T070000
END:STANDARD
END:VTIMEZONE
BEGIN:VEVENT
DTSTART;TZID=America/Chicago:20240913T160000
DTEND;TZID=America/Chicago:20240913T220000
DTSTAMP:20260422T154555
CREATED:20240910T200521Z
LAST-MODIFIED:20240912T193422Z
UID:10002259-1726243200-1726264800@iandmcanal.org
SUMMARY:BBQ-N-Blues LaSalle
DESCRIPTION:The 10th Annual BBQ-n-Blues is on September 13\, 2024.\nAnd we’ll be celebrating with Bands\, BBQ & a Rib Cook-Off Contest. Held on First Street between Marquette & Gooding in historic downtown La Salle\, bands will begin at 4:00 pm with the Rib Cook-Off turn in at 6:00 pm and the winner announced at 8:00 pm. Enjoy some of area’s best blues bands and don’t forget to grab some legendary BBQ! Free admission and free parking on all City streets and lots. \n 
URL:https://iandmcanal.org/events/bbq-n-blues-lasalle/
LOCATION:LaSalle\, IL\, United States
ATTACH;FMTTYPE=image/png:https://iandmcanal.org/wp-content/uploads/2024/09/Screen-Shot-2024-09-10-at-3.02.31-PM-300x169-1.png
END:VEVENT
END:VCALENDAR