BEGIN:VCALENDAR
VERSION:2.0
PRODID:-//I &amp; M Canal - ECPv6.15.20//NONSGML v1.0//EN
CALSCALE:GREGORIAN
METHOD:PUBLISH
X-ORIGINAL-URL:https://iandmcanal.org
X-WR-CALDESC:Events for I &amp; M Canal
REFRESH-INTERVAL;VALUE=DURATION:PT1H
X-Robots-Tag:noindex
X-PUBLISHED-TTL:PT1H
BEGIN:VTIMEZONE
TZID:America/Chicago
BEGIN:DAYLIGHT
TZOFFSETFROM:-0600
TZOFFSETTO:-0500
TZNAME:CDT
DTSTART:20240310T080000
END:DAYLIGHT
BEGIN:STANDARD
TZOFFSETFROM:-0500
TZOFFSETTO:-0600
TZNAME:CST
DTSTART:20241103T070000
END:STANDARD
BEGIN:DAYLIGHT
TZOFFSETFROM:-0600
TZOFFSETTO:-0500
TZNAME:CDT
DTSTART:20250309T080000
END:DAYLIGHT
BEGIN:STANDARD
TZOFFSETFROM:-0500
TZOFFSETTO:-0600
TZNAME:CST
DTSTART:20251102T070000
END:STANDARD
BEGIN:DAYLIGHT
TZOFFSETFROM:-0600
TZOFFSETTO:-0500
TZNAME:CDT
DTSTART:20260308T080000
END:DAYLIGHT
BEGIN:STANDARD
TZOFFSETFROM:-0500
TZOFFSETTO:-0600
TZNAME:CST
DTSTART:20261101T070000
END:STANDARD
END:VTIMEZONE
BEGIN:VEVENT
DTSTART;TZID=America/Chicago:20250307T190000
DTEND;TZID=America/Chicago:20250307T220000
DTSTAMP:20260422T032042
CREATED:20250224T210900Z
LAST-MODIFIED:20250225T165638Z
UID:10002752-1741374000-1741384800@iandmcanal.org
SUMMARY:Spiked!  - Joliet Railroad Museum
DESCRIPTION:ALL ABOARD for an evening of food\, drinks and dueling pianos at Joliet’s newest museum!\nThe Joliet Railroad Museum\, a repurposed switching tower that has stood at one of the busiest rail intersections on the continent for over a century\, will open for a special evening event on Friday\, March 7th from 7-10 pm. The Railroad Museum\, dedicated in 2024\, is located inside the former Union Depot Tower\, which was preserved as part of the City of Joliet’s Gateway Transportation Center complex. The Railroad Museum\, operated by the Joliet Area History Museums (JAHM)\, celebrates the City’s past\, present and future as an international transportation hub. The Museum is also an ideal vantage point for the internationally popular pastime of railfanning\, or train-watching\, and has preserved the UD Towers original mechanical and electric controls that coordinated the movement of trains through this critical intersection decades before computers took over. \nWhat’s included with your admission:- Entertainment – Dueling Pianos by Greg Woods Music- Entry into the Railroad Museum & Train Viewing Area- Heavy Appetizers & Cash Bar- Free Parking in the surrounding parking lots – \nwww.joliet.gov/parking \nRegister & Info: Admission is $30 for JAHM Members & $40 for General Public\, and you can register at www.jolietmuseum.org \nThe Joliet Railroad Museum is located in the Joliet Gateway Transportation Center at 90 E. Jefferson St. in Joliet. This is an age 21+ event. \n 
URL:https://iandmcanal.org/events/spiked-joliet-railroad-museum/
LOCATION:Joliet Railroad Museum\, 90 E. Jefferson St.\, Joliet\, IL\, 60432\, United States
ATTACH;FMTTYPE=image/jpeg:https://iandmcanal.org/wp-content/uploads/2025/02/038B5867-A298-4933-B238-EEE3A6F34FEE-e1740501644978.jpeg
END:VEVENT
END:VCALENDAR