BEGIN:VCALENDAR
VERSION:2.0
PRODID:-//I &amp; M Canal - ECPv6.15.20//NONSGML v1.0//EN
CALSCALE:GREGORIAN
METHOD:PUBLISH
X-ORIGINAL-URL:https://iandmcanal.org
X-WR-CALDESC:Events for I &amp; M Canal
REFRESH-INTERVAL;VALUE=DURATION:PT1H
X-Robots-Tag:noindex
X-PUBLISHED-TTL:PT1H
BEGIN:VTIMEZONE
TZID:America/Chicago
BEGIN:DAYLIGHT
TZOFFSETFROM:-0600
TZOFFSETTO:-0500
TZNAME:CDT
DTSTART:20240310T080000
END:DAYLIGHT
BEGIN:STANDARD
TZOFFSETFROM:-0500
TZOFFSETTO:-0600
TZNAME:CST
DTSTART:20241103T070000
END:STANDARD
BEGIN:DAYLIGHT
TZOFFSETFROM:-0600
TZOFFSETTO:-0500
TZNAME:CDT
DTSTART:20250309T080000
END:DAYLIGHT
BEGIN:STANDARD
TZOFFSETFROM:-0500
TZOFFSETTO:-0600
TZNAME:CST
DTSTART:20251102T070000
END:STANDARD
BEGIN:DAYLIGHT
TZOFFSETFROM:-0600
TZOFFSETTO:-0500
TZNAME:CDT
DTSTART:20260308T080000
END:DAYLIGHT
BEGIN:STANDARD
TZOFFSETFROM:-0500
TZOFFSETTO:-0600
TZNAME:CST
DTSTART:20261101T070000
END:STANDARD
END:VTIMEZONE
BEGIN:VEVENT
DTSTART;TZID=America/Chicago:20250517T120000
DTEND;TZID=America/Chicago:20250517T170000
DTSTAMP:20260419T081037
CREATED:20250513T201320Z
LAST-MODIFIED:20250513T204445Z
UID:10002902-1747483200-1747501200@iandmcanal.org
SUMMARY:Peru's TBM Avenger Reunion & Salute to Veterans
DESCRIPTION:Peru’s TBM Avenger Reunion & Salute to Veterans\nSaturday Schedule: \nGates Opening Time TBA \n12 Noon – Opening Ceremonies\, Veterans Parade & Honor Walk \nVeterans Salute \n12:20 PM – Missing Man Salute & Salute to Veterans Parade \n1 PM – 4:45 PM – Airshow Featuring: \n-USAF F-16 Fighting Falcon VIPER Demo Team \n-US Air Force Heritage Flight (F-16/P-51) \n-TBMs Galore! \n-Titan Aerobatic Team \n-Skydive Chicago \n-JP Mellor Aerobatics in the T-6 Texan “Spanish Lady” \n-2x AD-1 Skyraider \n-Lockheed T-33 Shooting Star \n-Fairchild PT-26 Cornell \n-Vultee BT-13 Valiant \n-North American SNJ/T-6 Texans \n-Beechcraft C-45 Expeditor \n-Douglas C-47 Skytrain \n 
URL:https://iandmcanal.org/events/perus-tbm-avenger-reunion-salute-to-veterans-2/
LOCATION:Illinois Valley Regional Airport\, 4251 Ed Urban Dr.\, Peru\, IL\, 61354\, United States
ATTACH;FMTTYPE=image/png:https://iandmcanal.org/wp-content/uploads/2025/05/Screenshot-2025-05-13-at-2.26.20 PM-e1747168963805.png
END:VEVENT
BEGIN:VEVENT
DTSTART;TZID=America/Chicago:20250516T110000
DTEND;TZID=America/Chicago:20250516T220000
DTSTAMP:20260419T081037
CREATED:20250513T200309Z
LAST-MODIFIED:20250513T204257Z
UID:10002901-1747393200-1747432800@iandmcanal.org
SUMMARY:Peru's TBM Avenger Reunion & Salute to Veterans
DESCRIPTION:Peru’s TBM Avenger Reunion & Salute to Veterans\nFriday Schedule: \n 11 AM – Gates Open \n 1 PM – 4 PM Airshow featuring: \n-USAF F-16 Fighting Falcon VIPER Demo Team \n-US Air Force Heritage Flight (F-16/P-51) \n-TBM Avengers \n-Illinois Air National Guard C-130H Flyby \n-Lockheed T-33 Shooting Star \n-2x AD-1 Skyraider \n-Fairchild PT-26 Cornell \n-Vultee BT-13 Valiant \n-North American SNJ/T-6 Texans \n-Beechcraft C-45 Expeditor \n-Douglas C-47 Skytrain \n**Evening Activities INCLUDE concert & beer garden. Plus tons of terrific aircraft on display and MORE! \n6 PM – Evening Airshow Begins featuring: \n-USAF F-16 Fighting Falcon VIPER Demo Team \n-US Air Force Heritage Flight (F-16/P-51) \n-JP Mellor Aerobatics in the T-6 Texan “Spanish Lady” \n-2x AD-1 Skyraider \n-Lockheed T-33 Shooting Star \n-Fairchild PT-26 Cornell \n-Vultee BT-13 Valiant \n-North American SNJ/T-6 Texans \n-Beechcraft C-45 Expeditor \n-Douglas C-47 Skytrain \nAfter 8 PM: \n-Titan Aerobatic Team Night Airshow \n-The World Famous TBM Avenger Glow \n-FIREWORKS to close the night \n 
URL:https://iandmcanal.org/events/perus-tbm-avenger-reunion-salute-to-veterans/
LOCATION:Illinois Valley Regional Airport\, 4251 Ed Urban Dr.\, Peru\, IL\, 61354\, United States
ATTACH;FMTTYPE=image/png:https://iandmcanal.org/wp-content/uploads/2025/05/Screenshot-2025-05-13-at-2.26.20 PM-e1747168963805.png
END:VEVENT
END:VCALENDAR