BEGIN:VCALENDAR
VERSION:2.0
PRODID:-//I &amp; M Canal - ECPv6.15.20//NONSGML v1.0//EN
CALSCALE:GREGORIAN
METHOD:PUBLISH
X-WR-CALNAME:I &amp; M Canal
X-ORIGINAL-URL:https://iandmcanal.org
X-WR-CALDESC:Events for I &amp; M Canal
REFRESH-INTERVAL;VALUE=DURATION:PT1H
X-Robots-Tag:noindex
X-PUBLISHED-TTL:PT1H
BEGIN:VTIMEZONE
TZID:America/Chicago
BEGIN:DAYLIGHT
TZOFFSETFROM:-0600
TZOFFSETTO:-0500
TZNAME:CDT
DTSTART:20250309T080000
END:DAYLIGHT
BEGIN:STANDARD
TZOFFSETFROM:-0500
TZOFFSETTO:-0600
TZNAME:CST
DTSTART:20251102T070000
END:STANDARD
BEGIN:DAYLIGHT
TZOFFSETFROM:-0600
TZOFFSETTO:-0500
TZNAME:CDT
DTSTART:20260308T080000
END:DAYLIGHT
BEGIN:STANDARD
TZOFFSETFROM:-0500
TZOFFSETTO:-0600
TZNAME:CST
DTSTART:20261101T070000
END:STANDARD
BEGIN:DAYLIGHT
TZOFFSETFROM:-0600
TZOFFSETTO:-0500
TZNAME:CDT
DTSTART:20270314T080000
END:DAYLIGHT
BEGIN:STANDARD
TZOFFSETFROM:-0500
TZOFFSETTO:-0600
TZNAME:CST
DTSTART:20271107T070000
END:STANDARD
END:VTIMEZONE
BEGIN:VEVENT
DTSTART;TZID=America/Chicago:20260502T120000
DTEND;TZID=America/Chicago:20260502T160000
DTSTAMP:20260419T120116
CREATED:20260330T204033Z
LAST-MODIFIED:20260330T204106Z
UID:10003720-1777723200-1777737600@iandmcanal.org
SUMMARY:Route 66 Spring Social
DESCRIPTION:Join us during the annual Red Carpet Corridor Festival as Duncan Manor opens its grounds for a lively spring weekend just steps off historic Route 66. Visitors are invited to wander the property\, explore a curated outdoor vendor market\, enjoy drinks and food from local vendors\, and soak in the energy of one of the most celebrated travel weekends along the Mother Road. Throughout the day we will also be offering small-group guided tours of the historic 1866 Duncan Manor\, where guests can step inside the Italianate home and hear the story of its restoration and the generations of life that have unfolded within its walls. Whether you’re traveling the Route 66 corridor or visiting from nearby Bloomington-Normal\, we invite you to stop by\, explore the grounds\, and experience a piece of Towanda’s history. Grounds access is free. Historic house tours are $20 and offered in limited small groups throughout the day. Duncan Manor is a 501c3 Not for Profit Organization. A ll proceeds benefit the restoration and preservation of the house and its grounds.\n 
URL:https://iandmcanal.org/events/route-66-spring-social/
LOCATION:Duncan Manor House & Gardens\, 1002 Towanda-Barnes Rd.\, Towanda\, IL\, 61776\, United States
ATTACH;FMTTYPE=image/png:https://iandmcanal.org/wp-content/uploads/2026/03/Screenshot-2026-03-30-at-3.36.24-PM.png
END:VEVENT
BEGIN:VEVENT
DTSTART;TZID=America/Chicago:20260503T120000
DTEND;TZID=America/Chicago:20260503T160000
DTSTAMP:20260419T120116
CREATED:20260330T204253Z
LAST-MODIFIED:20260330T204321Z
UID:10003721-1777809600-1777824000@iandmcanal.org
SUMMARY:Route 66 Spring Social
DESCRIPTION:Join us during the annual Red Carpet Corridor Festival as Duncan Manor opens its grounds for a lively spring weekend just steps off historic Route 66. Visitors are invited to wander the property\, explore a curated outdoor vendor market\, enjoy drinks and food from local vendors\, and soak in the energy of one of the most celebrated travel weekends along the Mother Road. Throughout the day we will also be offering small-group guided tours of the historic 1866 Duncan Manor\, where guests can step inside the Italianate home and hear the story of its restoration and the generations of life that have unfolded within its walls. Whether you’re traveling the Route 66 corridor or visiting from nearby Bloomington-Normal\, we invite you to stop by\, explore the grounds\, and experience a piece of Towanda’s history. Grounds access is free. Historic house tours are $20 and offered in limited small groups throughout the day. Duncan Manor is a 501c3 Not for Profit Organization. A ll proceeds benefit the restoration and preservation of the house and its grounds.\n 
URL:https://iandmcanal.org/events/route-66-spring-social-2/
LOCATION:Duncan Manor House & Gardens\, 1002 Towanda-Barnes Rd.\, Towanda\, IL\, 61776\, United States
ATTACH;FMTTYPE=image/png:https://iandmcanal.org/wp-content/uploads/2026/03/Screenshot-2026-03-30-at-3.36.24-PM.png
END:VEVENT
BEGIN:VEVENT
DTSTART;TZID=America/Chicago:20260509T120000
DTEND;TZID=America/Chicago:20260509T160000
DTSTAMP:20260419T120116
CREATED:20260331T204541Z
LAST-MODIFIED:20260331T204606Z
UID:10003725-1778328000-1778342400@iandmcanal.org
SUMMARY:A Garden Party to Celebrate the Women Who Raised You
DESCRIPTION:Celebrate Mothers Day weekend with a relaxed garden gathering at Duncan Manor. A Garden Party for the Women Who Raised Us is a two-day celebration honoring mothers\, daughters\, grandmothers\, and the women who shape our lives. Guests are invited to wander the historic grounds\, enjoy live music\, sip cocktails\, browse a curated selection of local makers\, and experience tarot and astrology readings inside The Meadows. Lawn games\, croquet\, and garden seating will invite guests to slow down and enjoy the beauty of spring at the manor. Throughout the weekend we will offer small-group guided tours of the historic Duncan Manor\, allowing visitors to step inside the 1866 Italianate home and experience its story firsthand. Garden attire is encouraged florals\, linen\, hats\, and vintage charm welcome. Bring your mother\, your daughter\, your best friend\, or simply come celebrate the women who raised you. Grounds access is free. Historic house tours are $20 per person in limited small groups. Duncan Manor is a 501c3 Not for Profit Organization; All proceeds benefit the restoration and preservation of the house and its grounds.\n 
URL:https://iandmcanal.org/events/a-garden-party-to-celebrate-the-women-who-raised-you/
LOCATION:Duncan Manor House & Gardens\, 1002 Towanda-Barnes Rd.\, Towanda\, IL\, 61776\, United States
ATTACH;FMTTYPE=image/png:https://iandmcanal.org/wp-content/uploads/2026/03/Screenshot-2026-03-31-at-3.41.24-PM.png
END:VEVENT
BEGIN:VEVENT
DTSTART;TZID=America/Chicago:20260510T120000
DTEND;TZID=America/Chicago:20260510T160000
DTSTAMP:20260419T120116
CREATED:20260331T204833Z
LAST-MODIFIED:20260331T204858Z
UID:10003726-1778414400-1778428800@iandmcanal.org
SUMMARY:A Garden Party to Celebrate the Women Who Raised You
DESCRIPTION:Celebrate Mothers Day weekend with a relaxed garden gathering at Duncan Manor. A Garden Party for the Women Who Raised Us is a two-day celebration honoring mothers\, daughters\, grandmothers\, and the women who shape our lives. Guests are invited to wander the historic grounds\, enjoy live music\, sip cocktails\, browse a curated selection of local makers\, and experience tarot and astrology readings inside The Meadows. Lawn games\, croquet\, and garden seating will invite guests to slow down and enjoy the beauty of spring at the manor. Throughout the weekend we will offer small-group guided tours of the historic Duncan Manor\, allowing visitors to step inside the 1866 Italianate home and experience its story firsthand. Garden attire is encouraged florals\, linen\, hats\, and vintage charm welcome. Bring your mother\, your daughter\, your best friend\, or simply come celebrate the women who raised you. Grounds access is free. Historic house tours are $20 per person in limited small groups. Duncan Manor is a 501c3 Not for Profit Organization; All proceeds benefit the restoration and preservation of the house and its grounds.\n 
URL:https://iandmcanal.org/events/a-garden-party-to-celebrate-the-women-who-raised-you-2/
LOCATION:Duncan Manor House & Gardens\, 1002 Towanda-Barnes Rd.\, Towanda\, IL\, 61776\, United States
ATTACH;FMTTYPE=image/png:https://iandmcanal.org/wp-content/uploads/2026/03/Screenshot-2026-03-31-at-3.41.24-PM.png
END:VEVENT
END:VCALENDAR