BEGIN:VCALENDAR
VERSION:2.0
PRODID:-//I &amp; M Canal - ECPv6.15.20//NONSGML v1.0//EN
CALSCALE:GREGORIAN
METHOD:PUBLISH
X-ORIGINAL-URL:https://iandmcanal.org
X-WR-CALDESC:Events for I &amp; M Canal
REFRESH-INTERVAL;VALUE=DURATION:PT1H
X-Robots-Tag:noindex
X-PUBLISHED-TTL:PT1H
BEGIN:VTIMEZONE
TZID:America/Chicago
BEGIN:DAYLIGHT
TZOFFSETFROM:-0600
TZOFFSETTO:-0500
TZNAME:CDT
DTSTART:20230312T080000
END:DAYLIGHT
BEGIN:STANDARD
TZOFFSETFROM:-0500
TZOFFSETTO:-0600
TZNAME:CST
DTSTART:20231105T070000
END:STANDARD
BEGIN:DAYLIGHT
TZOFFSETFROM:-0600
TZOFFSETTO:-0500
TZNAME:CDT
DTSTART:20240310T080000
END:DAYLIGHT
BEGIN:STANDARD
TZOFFSETFROM:-0500
TZOFFSETTO:-0600
TZNAME:CST
DTSTART:20241103T070000
END:STANDARD
BEGIN:DAYLIGHT
TZOFFSETFROM:-0600
TZOFFSETTO:-0500
TZNAME:CDT
DTSTART:20250309T080000
END:DAYLIGHT
BEGIN:STANDARD
TZOFFSETFROM:-0500
TZOFFSETTO:-0600
TZNAME:CST
DTSTART:20251102T070000
END:STANDARD
BEGIN:DAYLIGHT
TZOFFSETFROM:-0600
TZOFFSETTO:-0500
TZNAME:CDT
DTSTART:20260308T080000
END:DAYLIGHT
BEGIN:STANDARD
TZOFFSETFROM:-0500
TZOFFSETTO:-0600
TZNAME:CST
DTSTART:20261101T070000
END:STANDARD
END:VTIMEZONE
BEGIN:VEVENT
DTSTART;TZID=America/Chicago:20251108T160000
DTEND;TZID=America/Chicago:20251108T210000
DTSTAMP:20260419T092758
CREATED:20251009T202049Z
LAST-MODIFIED:20251013T142112Z
UID:10003426-1762617600-1762635600@iandmcanal.org
SUMMARY:Shop\, Sip & Sparkle Weekend!
DESCRIPTION:Kick off the holiday season in the Middle of Everywhere with a magical weekend full of festive fun!\n Happenings All Weekend Long \nDowntown Ottawa Christmas Open Houses \nOrnament Hunt & Lamp Light Carolers (Friday) \nKing Carriage Rides (Friday 4-9 PM) \nFreshly Baked Cobbler by the Ottawa Boy Scouts (Friday) \nWine & Art Walk at Heritage Harbor (Saturday\, Nov. 8\, 2–6 PM) \nExploreum’s Sparkle Spectacular Christmas Tree Auction \n Shop Local & Win!Bring 5 receipts from any downtown Ottawa businesses you shop at during Shop\, Sip & Sparkle Weekend to the Ottawa Visitors Center. Each set of 5 receipts enters you for a chance to win a $250 Downtown Discover Gift Card! Drawing will be held Tuesday\, November 26 at noon. \n Wine & Art WalkSip\, stroll\, and shop as you enjoy wine tastings and beautiful works from local artists at Heritage Harbor. Tickets are on sale now—don’t wait! \n It’s the perfect way to jumpstart your holiday spirit\, find unique gifts\, and make magical memories with family and friends. \n  \n 
URL:https://iandmcanal.org/events/shop-sip-sparkle-weekend-2/
LOCATION:Downtown Ottawa\, 223 W. Madison\, Ottawa\, 61350\, United States
ATTACH;FMTTYPE=image/png:https://iandmcanal.org/wp-content/uploads/2025/10/Screenshot-2025-10-09-at-3.14.27-PM-e1760365070474.png
END:VEVENT
BEGIN:VEVENT
DTSTART;TZID=America/Chicago:20251107T160000
DTEND;TZID=America/Chicago:20251107T210000
DTSTAMP:20260419T092758
CREATED:20251009T201834Z
LAST-MODIFIED:20251013T141826Z
UID:10003425-1762531200-1762549200@iandmcanal.org
SUMMARY:Shop\, Sip & Sparkle Weekend!
DESCRIPTION:Kick off the holiday season in the Middle of Everywhere with a magical weekend full of festive fun!\n Happenings All Weekend Long \nDowntown Ottawa Christmas Open Houses \nOrnament Hunt & Lamp Light Carolers (Friday) \nKing Carriage Rides (Friday 4-9 PM) \nFreshly Baked Cobbler by the Ottawa Boy Scouts (Friday) \nWine & Art Walk at Heritage Harbor (Saturday\, Nov. 8\, 2–6 PM) \nExploreum’s Sparkle Spectacular Christmas Tree Auction \n Shop Local & Win!Bring 5 receipts from any downtown Ottawa businesses you shop at during Shop\, Sip & Sparkle Weekend to the Ottawa Visitors Center. Each set of 5 receipts enters you for a chance to win a $250 Downtown Discover Gift Card! Drawing will be held Tuesday\, November 26 at noon. \n Wine & Art WalkSip\, stroll\, and shop as you enjoy wine tastings and beautiful works from local artists at Heritage Harbor. Tickets are on sale now—don’t wait! \n It’s the perfect way to jumpstart your holiday spirit\, find unique gifts\, and make magical memories with family and friends. \n 
URL:https://iandmcanal.org/events/shop-sip-sparkle-weekend/
LOCATION:Downtown Ottawa\, 223 W. Madison\, Ottawa\, 61350\, United States
ATTACH;FMTTYPE=image/png:https://iandmcanal.org/wp-content/uploads/2025/10/Screenshot-2025-10-09-at-3.14.27-PM-e1760365070474.png
END:VEVENT
BEGIN:VEVENT
DTSTART;TZID=America/Chicago:20251004T100000
DTEND;TZID=America/Chicago:20251004T160000
DTSTAMP:20260419T092758
CREATED:20250904T180510Z
LAST-MODIFIED:20250904T194827Z
UID:10003275-1759572000-1759593600@iandmcanal.org
SUMMARY:Ottawa Scarecrow Festival
DESCRIPTION:Join us in Downtown Ottawa for the Annual Scarecrow Festival.\n38 years and running! \nKids activities\, food\, music\, fundraising\, and\, of course\, the Scarecrow Competition. New fundraising activities this year:\nPet Costume Contest–Famous Duos (you and your pet)\, Pie Eating Contest–all age groups\, plus adult relay round! ’90s themed scarecrow competition! *Craft vendors* *Food trucks* *Entertainment* \n 
URL:https://iandmcanal.org/events/ottawa-scarecrow-festival/
LOCATION:Downtown Ottawa\, 223 W. Madison\, Ottawa\, 61350\, United States
ATTACH;FMTTYPE=image/jpeg:https://iandmcanal.org/wp-content/uploads/2025/09/ottawa-scarecrow-fest-e1757015298987.jpg
END:VEVENT
BEGIN:VEVENT
DTSTART;TZID=America/Chicago:20250920T170000
DTEND;TZID=America/Chicago:20250920T210000
DTSTAMP:20260419T092758
CREATED:20250821T200429Z
LAST-MODIFIED:20250821T211617Z
UID:10003239-1758387600-1758402000@iandmcanal.org
SUMMARY:Ottawa's Third Friday - Madison Street
DESCRIPTION:Arts\, culture\, and entertainment come alive every Third Friday in downtown Ottawa\, Illinois MAY – SEPTEMBER. Art vendors\, music\, food\, and live events hosted by Open Space Gallery. Enjoy later shopping hours at many downtown retailers and enjoy custom food and drink specials at several of our fantastic restaurants. \n 
URL:https://iandmcanal.org/events/ottawas-third-friday-madison-street-2/
LOCATION:Downtown Ottawa\, 223 W. Madison\, Ottawa\, 61350\, United States
ATTACH;FMTTYPE=image/png:https://iandmcanal.org/wp-content/uploads/2025/08/Screenshot-2025-08-21-at-3.01.01-PM-e1755810973269.png
END:VEVENT
BEGIN:VEVENT
DTSTART;TZID=America/Chicago:20250815T170000
DTEND;TZID=America/Chicago:20250815T210000
DTSTAMP:20260419T092758
CREATED:20250806T213958Z
LAST-MODIFIED:20250807T143526Z
UID:10003154-1755277200-1755291600@iandmcanal.org
SUMMARY:Third Friday - Madison Street
DESCRIPTION:Arts\, culture\, and entertainment come alive every Third Friday in downtown Ottawa\, Illinois MAY – SEPTEMBER. \nArt vendors\, music\, food\, and live events hosted by Open Space Gallery. Enjoy later shopping hours at many downtown retailers and enjoy custom food and drink specials at several of our fantastic restaurants. \n 
URL:https://iandmcanal.org/events/third-friday-madison-street-2/
LOCATION:Downtown Ottawa\, 223 W. Madison\, Ottawa\, 61350\, United States
ATTACH;FMTTYPE=image/png:https://iandmcanal.org/wp-content/uploads/2025/08/Screenshot-2025-08-06-at-4.36.11-PM-e1754577318252.png
END:VEVENT
BEGIN:VEVENT
DTSTART;TZID=America/Chicago:20250516T170000
DTEND;TZID=America/Chicago:20250516T210000
DTSTAMP:20260419T092758
CREATED:20250502T190704Z
LAST-MODIFIED:20250505T141200Z
UID:10002875-1747414800-1747429200@iandmcanal.org
SUMMARY:Ottawa's Third Fridays
DESCRIPTION:Arts\, culture\, and entertainment come alive every Third Friday in downtown Ottawa\, Illinois MAY – SEPTEMBER.\nArt vendors\, music\, food\, and live events hosted by Open Space Gallery. Enjoy later shopping hours at many downtown retailers and enjoy custom food and drink specials at several of our fantastic restaurants. \n 
URL:https://iandmcanal.org/events/ottawas-third-fridays/
LOCATION:Downtown Ottawa\, 223 W. Madison\, Ottawa\, 61350\, United States
ATTACH;FMTTYPE=image/png:https://iandmcanal.org/wp-content/uploads/2025/05/Screen-Shot-2025-05-02-at-2.02.55-PM-e1746454204897.png
END:VEVENT
BEGIN:VEVENT
DTSTART;TZID=America/Chicago:20241129T080000
DTEND;TZID=America/Chicago:20241129T170000
DTSTAMP:20260419T092758
CREATED:20241120T192602Z
LAST-MODIFIED:20241120T201219Z
UID:10002509-1732867200-1732899600@iandmcanal.org
SUMMARY:Festival of Lights Parade & Deck the Parks
DESCRIPTION:Join us for the 37th annual holiday parade\, a time-honored tradition of making cherished memories!\nThe parade will kick off at LaSalle Street and the 200 block of West Jackson Street\, with festive floats and performances winding their way south on LaSalle\, culminating at Main Street. \nAfter the parade\, the celebration continues with lively entertainment by the Friendly City Sound and the Shepherd Choir\, followed by a spectacular fireworks display.  \nTo top it all off\, witness the magical lighting of the tree in the Jordan Block\, marking the start of the holiday season! \nDon’t miss this joyful evening of community spirit and celebration!
URL:https://iandmcanal.org/events/festival-of-lights-parade-deck-the-parks/
LOCATION:Downtown Ottawa\, 223 W. Madison\, Ottawa\, 61350\, United States
ATTACH;FMTTYPE=image/png:https://iandmcanal.org/wp-content/uploads/2024/11/Screen-Shot-2024-11-20-at-1.15.22-PM-300x253-1.png
END:VEVENT
BEGIN:VEVENT
DTSTART;TZID=America/Chicago:20241108T160000
DTEND;TZID=America/Chicago:20241108T210000
DTSTAMP:20260419T092758
CREATED:20241105T194244Z
LAST-MODIFIED:20241106T205738Z
UID:10002457-1731081600-1731099600@iandmcanal.org
SUMMARY:Holiday Hustle Open House & Ornament Hunt
DESCRIPTION:Back by popular demand and for ONE NIGHT ONLY!\nJoin us in the Ottawa Hot Glass Hunt through enchanting downtown Ottawa\, IL. \nThe Ottawa Visitors Center has once again commissioned local artist Laura Johnson owner of Starved Rock Hot Glass to create 20 beautiful glass blown ornaments with a glass hook carefully attached to the top. This unique experience is a spin-off of the summer hunt to encourage local shopping. While visiting the downtown area during the Holiday Hustle Open Houses on Friday evening be sure to be on the look-out for these one-of-a-kind treasures inside one of the participating businesses* and throughout (outdoor) downtown. Find one and it is yours to keep! For many people to enjoy these one-of-a-kind creations\, we are kindly asking that you only claim one per family. Send us a selfie while you are hunting and once you hunt down an ornament\, let us know by posting it on your social media and tagging @VisitOttawaIL and hash-tagging #ottawailmiddleofeverywhere #starvedrockhotglass Happy hunting! * Not to confuse Christmas merchandise the ornament will be displayed in a clear box with an insert noting this is part of the hunt. \n 
URL:https://iandmcanal.org/events/holiday-hustle-open-house-ornament-hunt/
LOCATION:Downtown Ottawa\, 223 W. Madison\, Ottawa\, 61350\, United States
ATTACH;FMTTYPE=image/png:https://iandmcanal.org/wp-content/uploads/2024/11/glass.png
END:VEVENT
BEGIN:VEVENT
DTSTART;TZID=America/Chicago:20241026T100000
DTEND;TZID=America/Chicago:20241026T120000
DTSTAMP:20260419T092758
CREATED:20241023T214606Z
LAST-MODIFIED:20241024T202149Z
UID:10002415-1729936800-1729944000@iandmcanal.org
SUMMARY:Downtown Ottawa Halloween Parade & Trick-or-Treating
DESCRIPTION:The 2nd annual downtown Ottawa Halloween Parade is coming back on October 26th!\nJoin us as we haunt our way down LaSalle St. from Washington Park to Jordan Block with the spooky train and its conductor in tow. Anyone can join the parade (businesses\, organizations\, families) – \njust go to Halloween Parade Registration to sign up! \nNo fee to participate. \nWe are also bringing back downtown trick or treating! \nYou can start trick or treating at the stores at 10:00am. \nThe parade kicks off at 11:30am. \nThere will also be a Trunk or Treat from Floret Events down at Court Street at noon. \nSo much to do- a great day to have fun in your costume! \n 
URL:https://iandmcanal.org/events/downtown-ottawa-halloween-parade-trick-or-treating/
LOCATION:Downtown Ottawa\, 223 W. Madison\, Ottawa\, 61350\, United States
ATTACH;FMTTYPE=image/jpeg:https://iandmcanal.org/wp-content/uploads/2024/10/457524601_379394701884097_4521536307876977982_n.jpg
END:VEVENT
BEGIN:VEVENT
DTSTART;TZID=America/Chicago:20240928T100000
DTEND;TZID=America/Chicago:20240928T190000
DTSTAMP:20260419T092758
CREATED:20240925T201530Z
LAST-MODIFIED:20240925T210202Z
UID:10002289-1727517600-1727550000@iandmcanal.org
SUMMARY:Scarecrow Fest
DESCRIPTION:The long standing Ottawa Scarecrow Fest returns to Downtown Ottawa with activities for the entire family.\nStroll from Washington Park to the Jordan block visiting craft vendors\, trying a great variety of food (including freshly made apple cider donuts!)\, and listening to live music. Plus\, the kids can enjoy pumpkin painting and other free crafts\, games\, and fun entertainers before walking around to view this year’s Scarecrow Competition entries throughout Downtown! Don’t forget to stop in all the local shops along the way to check out all Ottawa has to offer. \n 
URL:https://iandmcanal.org/events/scarecrow-fest/
LOCATION:Downtown Ottawa\, 223 W. Madison\, Ottawa\, 61350\, United States
ATTACH;FMTTYPE=image/jpeg:https://iandmcanal.org/wp-content/uploads/2024/09/422798353_346112964888270_8224608225653524450_n.jpg
END:VEVENT
BEGIN:VEVENT
DTSTART;TZID=America/Chicago:20240803T090000
DTEND;TZID=America/Chicago:20240803T160000
DTSTAMP:20260419T092758
CREATED:20240801T173019Z
LAST-MODIFIED:20240801T182550Z
UID:10002045-1722675600-1722700800@iandmcanal.org
SUMMARY:Ottawa Canal Day
DESCRIPTION:Join us a fun-filled day with activities the entire family can enjoy. Demonstrations from a blacksmith\, canoeing on the canal\, music\, tours and so much more.
URL:https://iandmcanal.org/events/ottawa-canal-day-2/
LOCATION:Downtown Ottawa\, 223 W. Madison\, Ottawa\, 61350\, United States
ATTACH;FMTTYPE=image/png:https://iandmcanal.org/wp-content/uploads/2024/08/canoe-the-canal.png
END:VEVENT
BEGIN:VEVENT
DTSTART;TZID=America/Chicago:20240719T170000
DTEND;TZID=America/Chicago:20240719T210000
DTSTAMP:20260419T092758
CREATED:20240716T184804Z
LAST-MODIFIED:20240717T164221Z
UID:10001893-1721408400-1721422800@iandmcanal.org
SUMMARY:Ottawa's Third Friday Artisan Market
DESCRIPTION:We’re in the dog days of summer\, but that’s OK because even dogs  Third Friday! Bring your pup for a night on the town next Friday starting at 5 pm on Madison Street. With temps forecasted in the low 80s\, it’s shaping up to be a howling good time (sorry but we just can’t resist a good pun)! Be sure to check out our dog-friendly vendors like Howlin Moon Barkery\, Tricera Designs\, and more! \nArts culture and entertainment event in downtown Ottawa\, IL every Third Friday of the month.
URL:https://iandmcanal.org/events/ottawas-third-friday-artisan-market/
LOCATION:Downtown Ottawa\, 223 W. Madison\, Ottawa\, 61350\, United States
ATTACH;FMTTYPE=image/jpeg:https://iandmcanal.org/wp-content/uploads/2024/07/7CC5F897-4E6D-48EA-B9D4-1FC84D20B03F-300x251-1.jpeg
END:VEVENT
END:VCALENDAR