BEGIN:VCALENDAR
VERSION:2.0
PRODID:-//I &amp; M Canal - ECPv6.15.20//NONSGML v1.0//EN
CALSCALE:GREGORIAN
METHOD:PUBLISH
X-ORIGINAL-URL:https://iandmcanal.org
X-WR-CALDESC:Events for I &amp; M Canal
REFRESH-INTERVAL;VALUE=DURATION:PT1H
X-Robots-Tag:noindex
X-PUBLISHED-TTL:PT1H
BEGIN:VTIMEZONE
TZID:America/Chicago
BEGIN:DAYLIGHT
TZOFFSETFROM:-0600
TZOFFSETTO:-0500
TZNAME:CDT
DTSTART:20230312T080000
END:DAYLIGHT
BEGIN:STANDARD
TZOFFSETFROM:-0500
TZOFFSETTO:-0600
TZNAME:CST
DTSTART:20231105T070000
END:STANDARD
BEGIN:DAYLIGHT
TZOFFSETFROM:-0600
TZOFFSETTO:-0500
TZNAME:CDT
DTSTART:20240310T080000
END:DAYLIGHT
BEGIN:STANDARD
TZOFFSETFROM:-0500
TZOFFSETTO:-0600
TZNAME:CST
DTSTART:20241103T070000
END:STANDARD
BEGIN:DAYLIGHT
TZOFFSETFROM:-0600
TZOFFSETTO:-0500
TZNAME:CDT
DTSTART:20250309T080000
END:DAYLIGHT
BEGIN:STANDARD
TZOFFSETFROM:-0500
TZOFFSETTO:-0600
TZNAME:CST
DTSTART:20251102T070000
END:STANDARD
BEGIN:DAYLIGHT
TZOFFSETFROM:-0600
TZOFFSETTO:-0500
TZNAME:CDT
DTSTART:20260308T080000
END:DAYLIGHT
BEGIN:STANDARD
TZOFFSETFROM:-0500
TZOFFSETTO:-0600
TZNAME:CST
DTSTART:20261101T070000
END:STANDARD
END:VTIMEZONE
BEGIN:VEVENT
DTSTART;TZID=America/Chicago:20250608T090000
DTEND;TZID=America/Chicago:20250608T220000
DTSTAMP:20260419T204952
CREATED:20250507T180946Z
LAST-MODIFIED:20250507T191518Z
UID:10002884-1749373200-1749420000@iandmcanal.org
SUMMARY:Old Canal Days - Lockport
DESCRIPTION:  \n\n\n\n\nEvent\n\n\nTime\n\n\n\n\n\nWorship Service: Cross Point Church\n9:00 a.m. – 10:00 a.m. \n\n\nCarnival\n10:00 a.m.- 10:00 p.m.\n\n\nArtisan Market\n10:00 a.m.- 4:00 p.m.\n\n\nHeritage Village \n10:00 a.m.-6:00 p.m.\n\n\nCemetery Tours – Two tours per day\n11:00 a.m. & 2:00 p.m.\n\n\nFood Court\n11:00 a.m. – 9:00 p.m.\n\n\nLAGHS Historic Trolley Tours – Trolleys will depart from Heritage Village every 1/2 hour. The last trolley will depart at 2:30 p.m.\n1:00 p.m. – 5:00 p.m.\n\n\nPetting Zoo – A Zoo to You\n12:00 p.m. – 5:00 p.m.\n\n\nBeer Garden\n12 p.m. – 9:30 p.m.\n\n\nMain Street Wine Tent\n12 p.m. – 9:30 p.m.\n\n\nSister Cities Asiago Tent\n12 p.m. – 9:30 p.m.\n\n\n\nTribute to Veterans – American Legion Band \nLockport Swing Thing \nJJC Steel Drum Band \nMariachi De Joliet \nBallet Folklorico BFQuetzaloatl\n10:30 a.m. – 11:30 a.m.  \n12:00 p.m. – 12:30 p.m. \n12:30 p.m. – 1:00 p.m.\n \n1:30 p.m. – 2:00 p.m. \n2:00 p.m. – 2:30 p.m.\n\n\nWhite Sox: Speed Pitch & Prize Wheel\n10:00 a.m. – 6:00 p.m.\n\n\nFace Painting \n2:00 p.m. – 4:00 p.m.\n\n\nCaricature Artist\n3:00 p.m. – 5:00 p.m.\n\n\nBands:\n\n\n\nStrung Out\n3:00 p.m.- 4:30 p.m.\n\n\nClass of ’68\n5:00 p.m.- 7:00 p.m.\n\n\nHairbangers Ball\n7:30 p.m.- 9:30 p.m.\n\n\nFireworks Show \n9:30 p.m.\n\n\n\n 
URL:https://iandmcanal.org/events/old-canal-days-lockport-4/
LOCATION:City of Lockport
ATTACH;FMTTYPE=image/jpeg:https://iandmcanal.org/wp-content/uploads/2025/05/3E9BEC27-340A-4852-AB16-C05343060B6B-3-e1746645215513.jpeg
END:VEVENT
BEGIN:VEVENT
DTSTART;TZID=America/Chicago:20250607T100000
DTEND;TZID=America/Chicago:20250607T233000
DTSTAMP:20260419T204952
CREATED:20250507T180545Z
LAST-MODIFIED:20250507T191443Z
UID:10002883-1749290400-1749339000@iandmcanal.org
SUMMARY:Old Canal Days - Lockport
DESCRIPTION:  \n\n\n\n\nEvent\n\n\nTime\n\n\n\n\n\nCarnival\n10:00 a.m. – 11:30 p.m.\n\n\nFood Court\n11:00 a.m. – 11:00 p.m.\n\n\nBeer Garden\n12 p.m. – 11:30 p.m.\n\n\nMain Street Wine Tent\n12 p.m. – 11:30 p.m.\n\n\nSister Cities Asiago Tent\n12 p.m. – 11:30 p.m.\n\n\nBands:\n\n\n\nSchool of Rock Mokena\n12 p.m. – 1:30 p.m.\n\n\nFunk’d Up\n2:00 p.m.- 4:00 p.m.\n\n\nSparks Fly – Taylor Swift Tribute\n4:30 p.m. – 6:30 p.m.\n\n\nThe Boy Band\n7:00 p.m. – 9:00 p.m.\n\n\nJourney Recaptured \n9:30 p.m. – 11:30 p.m.\n\n\nArtisan Market\n10:00 a.m. – 6:00 p.m.\n\n\nHeritage Village \n10:00 a.m. – 5:00 p.m.\n\n\nWhite Sox: Speed Pitch & Prize Wheel\n10:00 a.m. – 6:00 p.m. \n\n\nPetting Zoo – A Zoo to You\n1:00 p.m. – 6:00 p.m.\n\n\nFace Painting\n2:00 p.m. – 4:00 p.m.\n\n\nCaricature Artist \n3:00 p.m. – 5:00 p.m.\n\n\nCemetery Tours – Two tours per day\n10:30 a.m. & 2:00 p.m.\n\n\nDuck Races\n3:00 p.m.-4:00 p.m.\n\n\nLAGHS Historic Trolley Tours – Trolleys will depart from Heritage Village every 1/2 hour. The last trolley will depart at 4:30 p.m.\n1:00 p.m. – 5:00 p.m.\n\n\n\n 
URL:https://iandmcanal.org/events/old-canal-days-lockport-3/
LOCATION:City of Lockport
ATTACH;FMTTYPE=image/jpeg:https://iandmcanal.org/wp-content/uploads/2025/05/3E9BEC27-340A-4852-AB16-C05343060B6B-3-e1746645215513.jpeg
END:VEVENT
BEGIN:VEVENT
DTSTART;TZID=America/Chicago:20250606T170000
DTEND;TZID=America/Chicago:20250606T233000
DTSTAMP:20260419T204952
CREATED:20250507T175553Z
LAST-MODIFIED:20250507T191402Z
UID:10002882-1749229200-1749252600@iandmcanal.org
SUMMARY:Old Canal Days - Lockport
DESCRIPTION:  \n\n\n\n\nEvent\n\n\nTime\n\n\n\n\n\nCarnival\n5:00 p.m. – 11:30 p.m.\n\n\nFood Court\n5:00 p.m. – 11:00 p.m.\n\n\nParade\n6:00 p.m. – 7:00 p.m.\n\n\nBeer Garden\n7:00 p.m. – 11:30 p.m.\n\n\nMain Street Wine Tent\n7:00 p.m. – 11:30 p.m.\n\n\nSister Cities Asiago Tent\n7:00 p.m. – 11:30 p.m.\n\n\nBands:\n\n\n\nBuckle Band\n7:00 p.m. – 9:00 p.m.\n\n\nTime Gleason & the Whiskey Disco Band\n9:30 p.m. – 11:30 p.m.\n\n\n\n\n\n\n 
URL:https://iandmcanal.org/events/old-canal-days-lockport-2/
LOCATION:City of Lockport
ATTACH;FMTTYPE=image/jpeg:https://iandmcanal.org/wp-content/uploads/2025/05/3E9BEC27-340A-4852-AB16-C05343060B6B-3-e1746645215513.jpeg
END:VEVENT
BEGIN:VEVENT
DTSTART;TZID=America/Chicago:20250605T170000
DTEND;TZID=America/Chicago:20250605T233000
DTSTAMP:20260419T204952
CREATED:20250507T175142Z
LAST-MODIFIED:20250507T191408Z
UID:10002881-1749142800-1749166200@iandmcanal.org
SUMMARY:Old Canal Days - Lockport
DESCRIPTION:  \n\n\n\n\nEvent\n\n\nTime\n\n\n\n\n\nCarnival\n5:00 p.m. – 11:30 p.m.\n\n\nFriends with Disabilities Day\nMUST BE REGISTERED\n2:00 p.m. – 4:00 p.m.\n\n\nFood Court\n5:00 p.m. – 10:00 p.m.\n\n\nMain Street Wine Tent\n5:00 p.m. – 11:00 p.m.\n\n\nSister Cities Asiago Tent\n5:00 p.m. – 11:00 p.m.\n\n\nBeer Garden\n5:00 p.m. – 11:00 p.m.\n\n\nDJ Jon Wise – JPW Productions\n8:00 p.m. – 11:00 p.m.\n\n\nOther Information:\n\nThe 1st 200 kids (under 21) will receive FREE glow wands and necklaces \nThe 1st 100 adults (over 21) will receive a FREE souvenir mug
URL:https://iandmcanal.org/events/old-canal-days-lockport/
LOCATION:City of Lockport
ATTACH;FMTTYPE=image/jpeg:https://iandmcanal.org/wp-content/uploads/2025/05/3E9BEC27-340A-4852-AB16-C05343060B6B-3-e1746645215513.jpeg
END:VEVENT
BEGIN:VEVENT
DTSTART;TZID=America/Chicago:20250517T083000
DTEND;TZID=America/Chicago:20250517T123000
DTSTAMP:20260419T204952
CREATED:20250503T195643Z
LAST-MODIFIED:20250505T142236Z
UID:10002879-1747470600-1747485000@iandmcanal.org
SUMMARY:Clean Sweep Lockport
DESCRIPTION:Help Clean\, Sweep & Plant Downtown Lockport!\nSign up for Clean Sweep! \nFree t-shirts and lunch for Volunteers! (Grilling hot dogs on the plaza.) \nDon’t forget your hats\, gloves & sunscreen. Water will be provided. \n\n\n\n\n\n\nACTION PLAN: \n• Weed\, Plant & Mulch Public Gardens  (at South Public Landing)\n• I&M Canal Path Trash Pick-Up  (Division to 2nd Street)\n• Beautify Volunteer Garden (1035 S. State Street) \nSign up online or call: (800) 600-2489. \n\n\n\n\n\n\n 
URL:https://iandmcanal.org/events/clean-sweep-lockport/
LOCATION:City of Lockport
ATTACH;FMTTYPE=image/png:https://iandmcanal.org/wp-content/uploads/2025/05/Screen-Shot-2025-05-03-at-2.44.48-PM-e1746454884184.png
END:VEVENT
BEGIN:VEVENT
DTSTART;TZID=America/Chicago:20250426T090000
DTEND;TZID=America/Chicago:20250426T120000
DTSTAMP:20260419T204952
CREATED:20250414T205456Z
LAST-MODIFIED:20250416T141602Z
UID:10002830-1745658000-1745668800@iandmcanal.org
SUMMARY:Recycling Resource Day - Lockport
DESCRIPTION:Learn about the resources available in Lockport to help you live a more eco-friendly lifestyle!\nLocal organizations will be on hand to share information about their services\, programs\, and initiatives designed to support environmentally conscious choices. Plus\, bring your plastic bags for collection as we work together to reduce waste and promote sustainability in our community! \n 
URL:https://iandmcanal.org/events/recycling-resource-day-lockport/
LOCATION:City of Lockport
ATTACH;FMTTYPE=image/png:https://iandmcanal.org/wp-content/uploads/2025/04/Screen-Shot-2025-04-14-at-2.45.34-PM-e1744812859654.png
END:VEVENT
BEGIN:VEVENT
DTSTART;TZID=America/Chicago:20241207T113000
DTEND;TZID=America/Chicago:20241207T153000
DTSTAMP:20260419T204952
CREATED:20241204T192045Z
LAST-MODIFIED:20241205T213159Z
UID:10002572-1733571000-1733585400@iandmcanal.org
SUMMARY:Downtown Lockport Cookie Walk
DESCRIPTION:Spend an afternoon strolling into businesses throughout downtown Lockport collecting holiday cookies and viewing holiday window murals created by artist Kevin Traynor.\nPlus- bring your Cookie Walk punch card to the Lockport Park District’s Jingle Bell Jam to receive a *free* holiday mug sponsored by All American Recycling! $10 ticket price includes Cookie Tote\, 20+ cookies\, business map/punch card & *free* holiday mug at the Jingle Bell Jam! \n2024 Participating Businesses: \nAmazing Fantasy Books\, Beanie’s Candy Store\, Biteable Baked Goods\, Citywide Title\, Cornolo Travel\, Country Insurance- Gary Bronner\, Dawn’s Barber Shop\, Edward Jones- Tom Crosby\, Embers Tap House\, Gallery 7\, Healthy Sins Inc (Vegan Cafe)\, Krema Coffee Roasters\, Lock & Mule by Tangled Roots\, Mangia Pizza\, Nik & Ivy Brewing Co.\, Perfectly Linked Permanent Jewelry\, OH! Design\, Public Landing\, Realtopia Real Estate\, Second City Greens\,  Showanda’s Nail Bar\, Submarine City\, State Street Restaurant\, The Corner Salon\, Thimbles & White Oak Library \n 
URL:https://iandmcanal.org/events/downtown-lockport-cookie-walk/
LOCATION:City of Lockport
ATTACH;FMTTYPE=image/png:https://iandmcanal.org/wp-content/uploads/2024/12/Screen-Shot-2024-12-04-at-1.16.41-PM-e1733434313383.png
END:VEVENT
BEGIN:VEVENT
DTSTART;TZID=America/Chicago:20240915T110000
DTEND;TZID=America/Chicago:20240915T150000
DTSTAMP:20260419T204952
CREATED:20240913T184457Z
LAST-MODIFIED:20240913T192620Z
UID:10002260-1726398000-1726412400@iandmcanal.org
SUMMARY:Sweets & Savory Crawl
DESCRIPTION:Take a culinary tour of Lockport’s eateries on Sunday\, September 15th.\nVisit Lockport restaurants and as many landmarks as you can!  Use your Restaurant Route Map & punch card to keep track of all the stops along the way. \nThe Sweets & Savory Crawl Ticket includes: \n\nReserved spot at 11+ Lockport restaurants serving menu item samples\nLockport Restaurant Route & Photo Scavenger Hunt Map & lanyard punch card\nActivities & entertainment throughout the crawl\n2024 Sweets & Savory T-shirt\n\nNote: When selecting tickets\, ticket purchasers choose from Route A or Route B. Both Routes contain different restaurants with similar offerings including candy\, ice cream\, Italian\, Mexican\, Pub/Grill\, baked goods & alcohol. See “Ticket Description” on universe.com for the restaurant listing per route.  Restaurants are subject to change without notice.  \n**Ticket holders must pick up their event packet before Sunday\, September 15th. Tickets must be presented to receive your Sweet & Savory Event Packet and T-shirt.** \nPacket pick-up dates and times are listed below. \nCity of Lockport\, 222 E. 9th Street\, Lockport\, 3rd floor \nWednesday\, September 11th: 2p-6p \nThursday\, September 12th: 9a-4p \nFriday\, September 13th: 9a-3p \nSunday\, September 15th: 10am-11am \n*Only one member of your party needs to pick up\, but must present the tickets for all included in the party. \nSupport local businesses! Ticket proceeds go back to participating restaurants. \nQuestions?  Please contact Allison Cann\, acann@lockport.org or 815-838-0549 ext. 2101 \n 
URL:https://iandmcanal.org/events/sweets-savory-crawl/
LOCATION:City of Lockport
ATTACH;FMTTYPE=image/jpeg:https://iandmcanal.org/wp-content/uploads/2024/09/sweet-and-savory.jpg
END:VEVENT
END:VCALENDAR