BEGIN:VCALENDAR
VERSION:2.0
PRODID:-//I &amp; M Canal - ECPv6.15.20//NONSGML v1.0//EN
CALSCALE:GREGORIAN
METHOD:PUBLISH
X-ORIGINAL-URL:https://iandmcanal.org
X-WR-CALDESC:Events for I &amp; M Canal
REFRESH-INTERVAL;VALUE=DURATION:PT1H
X-Robots-Tag:noindex
X-PUBLISHED-TTL:PT1H
BEGIN:VTIMEZONE
TZID:America/Chicago
BEGIN:DAYLIGHT
TZOFFSETFROM:-0600
TZOFFSETTO:-0500
TZNAME:CDT
DTSTART:20240310T080000
END:DAYLIGHT
BEGIN:STANDARD
TZOFFSETFROM:-0500
TZOFFSETTO:-0600
TZNAME:CST
DTSTART:20241103T070000
END:STANDARD
BEGIN:DAYLIGHT
TZOFFSETFROM:-0600
TZOFFSETTO:-0500
TZNAME:CDT
DTSTART:20250309T080000
END:DAYLIGHT
BEGIN:STANDARD
TZOFFSETFROM:-0500
TZOFFSETTO:-0600
TZNAME:CST
DTSTART:20251102T070000
END:STANDARD
BEGIN:DAYLIGHT
TZOFFSETFROM:-0600
TZOFFSETTO:-0500
TZNAME:CDT
DTSTART:20260308T080000
END:DAYLIGHT
BEGIN:STANDARD
TZOFFSETFROM:-0500
TZOFFSETTO:-0600
TZNAME:CST
DTSTART:20261101T070000
END:STANDARD
END:VTIMEZONE
BEGIN:VEVENT
DTSTART;TZID=America/Chicago:20251004T100000
DTEND;TZID=America/Chicago:20251004T130000
DTSTAMP:20260419T080920
CREATED:20251003T193556Z
LAST-MODIFIED:20251003T195057Z
UID:10003403-1759572000-1759582800@iandmcanal.org
SUMMARY:Bubbly Creek End-of-Summer Celebration
DESCRIPTION:Come out to learn\, enjoy\, and explore this hidden gem of a park along the Chicago River!\nAfter a summer of monthly cleanups\, paddles\, and other programming opportunities\, at this end-of-season celebration we will highlight the positive impacts of community volunteers\, engage in fun activities with local organizations\, and explore the plants and animals that call the park home. \nParticipants can stop by for coffee and snacks\, pop in on family-friendly activities like fishing and an art station happening throughout the event\, or learn more about what community organizations are doing in the area. You can also learn about the types of litter found at the park this season and even grab some gloves and pick up trash onsite. \nThese events are rain or shine\, but should there be threatening weather\, staff will alert all registered participants at least two hours before an event if it is cancelled due to weather. \nRegistration is not necessary\, but helpful so we can plan for supplies.  \n 
URL:https://iandmcanal.org/events/bubbly-creek-end-of-summer-celebration/
LOCATION:Canal Origins Park\, 2701 S. Ashland\, Chicago\, IL\, 60608\, United States
ATTACH;FMTTYPE=image/png:https://iandmcanal.org/wp-content/uploads/2025/10/Screenshot-2025-10-03-at-2.33.42-PM-e1759521005169.png
END:VEVENT
END:VCALENDAR