BEGIN:VCALENDAR
VERSION:2.0
PRODID:-//I &amp; M Canal - ECPv6.15.20//NONSGML v1.0//EN
CALSCALE:GREGORIAN
METHOD:PUBLISH
X-ORIGINAL-URL:https://iandmcanal.org
X-WR-CALDESC:Events for I &amp; M Canal
REFRESH-INTERVAL;VALUE=DURATION:PT1H
X-Robots-Tag:noindex
X-PUBLISHED-TTL:PT1H
BEGIN:VTIMEZONE
TZID:America/Chicago
BEGIN:DAYLIGHT
TZOFFSETFROM:-0600
TZOFFSETTO:-0500
TZNAME:CDT
DTSTART:20250309T080000
END:DAYLIGHT
BEGIN:STANDARD
TZOFFSETFROM:-0500
TZOFFSETTO:-0600
TZNAME:CST
DTSTART:20251102T070000
END:STANDARD
BEGIN:DAYLIGHT
TZOFFSETFROM:-0600
TZOFFSETTO:-0500
TZNAME:CDT
DTSTART:20260308T080000
END:DAYLIGHT
BEGIN:STANDARD
TZOFFSETFROM:-0500
TZOFFSETTO:-0600
TZNAME:CST
DTSTART:20261101T070000
END:STANDARD
BEGIN:DAYLIGHT
TZOFFSETFROM:-0600
TZOFFSETTO:-0500
TZNAME:CDT
DTSTART:20270314T080000
END:DAYLIGHT
BEGIN:STANDARD
TZOFFSETFROM:-0500
TZOFFSETTO:-0600
TZNAME:CST
DTSTART:20271107T070000
END:STANDARD
END:VTIMEZONE
BEGIN:VEVENT
DTSTART;TZID=America/Chicago:20260529T093000
DTEND;TZID=America/Chicago:20260529T170000
DTSTAMP:20260419T194508
CREATED:20260324T202515Z
LAST-MODIFIED:20260324T202536Z
UID:10003708-1780047000-1780074000@iandmcanal.org
SUMMARY:Digging to Discover: Our Common Roots & Our Potential to Flourish in the FHC - 6th Annual Conference
DESCRIPTION:We hope you will join us for the exciting activities comprising our sixth annual conference. You are welcome to participate in any and all elements that interest you by using the registration links below. \n\nFHC Conference Registration Options Space for in person participation is limited\, so it is recommended that you register soon! \nLes Archéologues\nIncludes conference\, lunch\, and cocktail reception on May 29 \n$75 FHS Members | $100 non-members \nLes Historiens\nIncludes all conference activities on May 29 and chartered bus tour\nand the Dinner Soirée on May 30 \nSpace is limited and registrations will be accepted on a first-come\, first-served basis \n$150 FHS Members | $200 non-members \nLes Ethnologues\nIncludes all conference activities on May 29 and\nDinner Soirée on May 30 \n$125 FHS Members | $150 non-members \nLes Techniciens\nVirtually attend the FHC Conference on May 29 via Zoom \nZoom link will be furnished closer to the date of the event \n$25 per person \nLes Étudiants\nAttend FHC Conference on May 29 for free \nStudents with valid student IDs only \nRegister Online \n\n 
URL:https://iandmcanal.org/events/digging-to-discover-our-common-roots-our-potential-to-flourish-in-the-fhc-6th-annual-conference/
LOCATION:Alliance Francaise MSP\, 227 Colfax Ave. North\, Minneapolis\, MN\, 55405\, United States
ATTACH;FMTTYPE=image/png:https://iandmcanal.org/wp-content/uploads/2026/03/Screenshot-2026-03-24-at-2.29.36-PM.png
END:VEVENT
BEGIN:VEVENT
DTSTART;TZID=America/Chicago:20260530T083000
DTEND;TZID=America/Chicago:20260530T183000
DTSTAMP:20260419T194508
CREATED:20260324T203350Z
LAST-MODIFIED:20260324T203811Z
UID:10003709-1780129800-1780165800@iandmcanal.org
SUMMARY:Full Day Exploring the Twin Cities Region - French Heritage Corridor 6th Annual Conference
DESCRIPTION:Chartered bus tour of French heritage sites in the Twin Cities Region\, including a French-Canadian lunch hosted by the Little Canada Historical Society.\n 
URL:https://iandmcanal.org/events/full-day-exploring-the-twin-cities-region-french-heritage-corridor-6th-annual-conference/
LOCATION:Alliance Francaise MSP\, 227 Colfax Ave. North\, Minneapolis\, MN\, 55405\, United States
ATTACH;FMTTYPE=image/png:https://iandmcanal.org/wp-content/uploads/2026/03/Screenshot-2026-03-24-at-2.29.36-PM.png
END:VEVENT
END:VCALENDAR