BEGIN:VCALENDAR
VERSION:2.0
PRODID:-//I &amp; M Canal - ECPv6.15.20//NONSGML v1.0//EN
CALSCALE:GREGORIAN
METHOD:PUBLISH
X-ORIGINAL-URL:https://iandmcanal.org
X-WR-CALDESC:Events for I &amp; M Canal
REFRESH-INTERVAL;VALUE=DURATION:PT1H
X-Robots-Tag:noindex
X-PUBLISHED-TTL:PT1H
BEGIN:VTIMEZONE
TZID:America/Chicago
BEGIN:DAYLIGHT
TZOFFSETFROM:-0600
TZOFFSETTO:-0500
TZNAME:CDT
DTSTART:20250309T080000
END:DAYLIGHT
BEGIN:STANDARD
TZOFFSETFROM:-0500
TZOFFSETTO:-0600
TZNAME:CST
DTSTART:20251102T070000
END:STANDARD
BEGIN:DAYLIGHT
TZOFFSETFROM:-0600
TZOFFSETTO:-0500
TZNAME:CDT
DTSTART:20260308T080000
END:DAYLIGHT
BEGIN:STANDARD
TZOFFSETFROM:-0500
TZOFFSETTO:-0600
TZNAME:CST
DTSTART:20261101T070000
END:STANDARD
BEGIN:DAYLIGHT
TZOFFSETFROM:-0600
TZOFFSETTO:-0500
TZNAME:CDT
DTSTART:20270314T080000
END:DAYLIGHT
BEGIN:STANDARD
TZOFFSETFROM:-0500
TZOFFSETTO:-0600
TZNAME:CST
DTSTART:20271107T070000
END:STANDARD
END:VTIMEZONE
BEGIN:VEVENT
DTSTART;TZID=America/Chicago:20260516T170000
DTEND;TZID=America/Chicago:20260516T200000
DTSTAMP:20260422T070756
CREATED:20260420T193438Z
LAST-MODIFIED:20260420T193522Z
UID:10003783-1778950800-1778961600@iandmcanal.org
SUMMARY:Downtown Pontiac Cruise Nights
DESCRIPTION:Join us for Pontiac Cruise Night\, hosted by Twisted Machinez Car & Truck Club! This is a welcoming event for car and truck enthusiasts of all kinds\, featuring classic vehicles\, food\, music\, and family-friendly fun. Whether you’re a seasoned collector\, a casual car fan\, or just looking for a fun night out\, everyone is invited to cruise\, connect\, and enjoy the Pontiac community.Get ready for a historic year of cruising\, classic cars\, and community fun! 2026 marks the 100th anniversary of both Route 66 and the Pontiac\, and we’re celebrating in style with Pontiac Cruise Night!!\n\n\n\n\n\n\n\n\n\n\n\n\n\n\n\n\n\n\n\n\n\n\n\n\n\n\n\n\n\n\n\n\n\n\n 
URL:https://iandmcanal.org/events/downtown-pontiac-cruise-nights/
LOCATION:Downtown Pontiac\, Downtown\, Pontiac\, 61764\, United States
ATTACH;FMTTYPE=image/png:https://iandmcanal.org/wp-content/uploads/2026/04/Screenshot-2026-04-20-at-2.23.57-PM.png
END:VEVENT
END:VCALENDAR