BEGIN:VCALENDAR
VERSION:2.0
PRODID:-//I &amp; M Canal - ECPv6.15.20//NONSGML v1.0//EN
CALSCALE:GREGORIAN
METHOD:PUBLISH
X-WR-CALNAME:I &amp; M Canal
X-ORIGINAL-URL:https://iandmcanal.org
X-WR-CALDESC:Events for I &amp; M Canal
REFRESH-INTERVAL;VALUE=DURATION:PT1H
X-Robots-Tag:noindex
X-PUBLISHED-TTL:PT1H
BEGIN:VTIMEZONE
TZID:America/Chicago
BEGIN:DAYLIGHT
TZOFFSETFROM:-0600
TZOFFSETTO:-0500
TZNAME:CDT
DTSTART:20230312T080000
END:DAYLIGHT
BEGIN:STANDARD
TZOFFSETFROM:-0500
TZOFFSETTO:-0600
TZNAME:CST
DTSTART:20231105T070000
END:STANDARD
BEGIN:DAYLIGHT
TZOFFSETFROM:-0600
TZOFFSETTO:-0500
TZNAME:CDT
DTSTART:20240310T080000
END:DAYLIGHT
BEGIN:STANDARD
TZOFFSETFROM:-0500
TZOFFSETTO:-0600
TZNAME:CST
DTSTART:20241103T070000
END:STANDARD
BEGIN:DAYLIGHT
TZOFFSETFROM:-0600
TZOFFSETTO:-0500
TZNAME:CDT
DTSTART:20250309T080000
END:DAYLIGHT
BEGIN:STANDARD
TZOFFSETFROM:-0500
TZOFFSETTO:-0600
TZNAME:CST
DTSTART:20251102T070000
END:STANDARD
END:VTIMEZONE
BEGIN:VEVENT
DTSTART;TZID=America/Chicago:20241208T130000
DTEND;TZID=America/Chicago:20241208T150000
DTSTAMP:20260419T194537
CREATED:20241205T193358Z
LAST-MODIFIED:20241205T215745Z
UID:10002577-1733662800-1733670000@iandmcanal.org
SUMMARY:Soils Hike
DESCRIPTION:Is all soil created equal? Come and see\, smell and hear for yourself.\nLearn how soil supports every form of life in the woods. On the hike\, we will observe real samples of Thorn Creek Woods soil. This program is sponsored by the Thorn Creek Audubon Society. \nFee: Free! Age: Ages 12 or older. \n 
URL:https://iandmcanal.org/events/soils-hike/
LOCATION:Thorn Creek Woods Nature Preserve\, 247 Monee Rd.\, Park Forest\, IL\, 60466\, United States
ATTACH;FMTTYPE=image/jpeg:https://iandmcanal.org/wp-content/uploads/2024/12/9540764F-98A8-4CFE-B405-0770B37D8955-e1733435860691.jpeg
END:VEVENT
BEGIN:VEVENT
DTSTART;TZID=America/Chicago:20241110T103000
DTEND;TZID=America/Chicago:20241110T123000
DTSTAMP:20260419T194537
CREATED:20241104T204642Z
LAST-MODIFIED:20241104T223542Z
UID:10002453-1731234600-1731241800@iandmcanal.org
SUMMARY:Fat\, Fur\, Food & Fight
DESCRIPTION:Come explore how animals prepare for cold weather and darker days.\nParticipants will create a bird feeder\, feel how fat insulates animals and look for clues of winter preparation on a hike in the preserve. This program is sponsored by the Thorn Creek Audubon Society. \nFee: $5 per person. Age: All ages. \nRegistration required by Nov. 4: 708-747-6320. Participants should be prepared to walk more than 1 mile outdoors on natural surface trails across uneven terrain. \nAnyone who requires an auxiliary aid or service to participate in this program should call 708-747-6320. (Photo courtesy of Joe Viola). \n 
URL:https://iandmcanal.org/events/fat-fur-food-fight/
LOCATION:Thorn Creek Woods Nature Preserve\, 247 Monee Rd.\, Park Forest\, IL\, 60466\, United States
ATTACH;FMTTYPE=image/png:https://iandmcanal.org/wp-content/uploads/2024/11/Screen-Shot-2024-11-04-at-2.43.00-PM-300x224-1.png
END:VEVENT
BEGIN:VEVENT
DTSTART;TZID=America/Chicago:20240818T193000
DTEND;TZID=America/Chicago:20240818T213000
DTSTAMP:20260419T194537
CREATED:20240812T185249Z
LAST-MODIFIED:20240813T205124Z
UID:10002128-1724009400-1724016600@iandmcanal.org
SUMMARY:Sounds of Insects Night Hike
DESCRIPTION:Join us as we venture out on the trail at dusk to listen for musical and mechanical insect sounds. Many insects become more active as the sun goes down. We’ll listen and learn the distinct sounds of common local species and why they make these sounds. \nThis program is sponsored by the Thorn Creek Audubon Society. \nFee: Free! Age: Ages 13 or older. \nRegistration required by Aug. 12: 708-747-6320. \nParticipants should be able to walk 2 miles outdoors on natural surface trails across uneven wet and muddy terrain. Anyone who requires an auxiliary aid or service to participate in this program should call 708-747-6320. \n 
URL:https://iandmcanal.org/events/sounds-of-insects-night-hike/
LOCATION:Thorn Creek Woods Nature Preserve\, 247 Monee Rd.\, Park Forest\, IL\, 60466\, United States
ATTACH;FMTTYPE=image/jpeg:https://iandmcanal.org/wp-content/uploads/2024/08/3829E95A-1B4C-4E5A-92DB-7D52A204D17C-300x200-1.jpeg
END:VEVENT
END:VCALENDAR