BEGIN:VCALENDAR
VERSION:2.0
PRODID:-//I &amp; M Canal - ECPv6.15.20//NONSGML v1.0//EN
CALSCALE:GREGORIAN
METHOD:PUBLISH
X-ORIGINAL-URL:https://iandmcanal.org
X-WR-CALDESC:Events for I &amp; M Canal
REFRESH-INTERVAL;VALUE=DURATION:PT1H
X-Robots-Tag:noindex
X-PUBLISHED-TTL:PT1H
BEGIN:VTIMEZONE
TZID:UTC
BEGIN:STANDARD
TZOFFSETFROM:+0000
TZOFFSETTO:+0000
TZNAME:UTC
DTSTART:20220101T000000
END:STANDARD
END:VTIMEZONE
BEGIN:VEVENT
DTSTART;TZID=UTC:20231014T100000
DTEND;TZID=UTC:20231014T150000
DTSTAMP:20260419T065704
CREATED:20230711T023328Z
LAST-MODIFIED:20230711T023720Z
UID:10001250-1697277600-1697295600@iandmcanal.org
SUMMARY:Mazon Creek Fossil Day
DESCRIPTION:The Mazon Creek fossil beds are a conservation lagerstätte found near Morris\, in Grundy County\, Illinois. The fossils are preserved in ironstone concretions\, formed approximately 309 million years ago in the mid-Pennsylvanian epoch of the Carboniferous period.\nDisplays of Mazon Creek Fossils.\nBooks on Mazon Creek Fossils for sale\nBring your Mazon Creek Fossils for identification\nFree admission\nLecture on collecting Mazon Creek fossils – 1:00 pm\n 
URL:https://iandmcanal.org/events/mazon-creek-fossil-day/
LOCATION:Coal City Public Library\, 85 N. Garfield St.\, Coal City\, IL\, 60416\, United States
END:VEVENT
END:VCALENDAR