BEGIN:VCALENDAR
VERSION:2.0
PRODID:-//I &amp; M Canal - ECPv6.15.20//NONSGML v1.0//EN
CALSCALE:GREGORIAN
METHOD:PUBLISH
X-WR-CALNAME:I &amp; M Canal
X-ORIGINAL-URL:https://iandmcanal.org
X-WR-CALDESC:Events for I &amp; M Canal
REFRESH-INTERVAL;VALUE=DURATION:PT1H
X-Robots-Tag:noindex
X-PUBLISHED-TTL:PT1H
BEGIN:VTIMEZONE
TZID:America/Chicago
BEGIN:DAYLIGHT
TZOFFSETFROM:-0600
TZOFFSETTO:-0500
TZNAME:CDT
DTSTART:20250309T080000
END:DAYLIGHT
BEGIN:STANDARD
TZOFFSETFROM:-0500
TZOFFSETTO:-0600
TZNAME:CST
DTSTART:20251102T070000
END:STANDARD
BEGIN:DAYLIGHT
TZOFFSETFROM:-0600
TZOFFSETTO:-0500
TZNAME:CDT
DTSTART:20260308T080000
END:DAYLIGHT
BEGIN:STANDARD
TZOFFSETFROM:-0500
TZOFFSETTO:-0600
TZNAME:CST
DTSTART:20261101T070000
END:STANDARD
BEGIN:DAYLIGHT
TZOFFSETFROM:-0600
TZOFFSETTO:-0500
TZNAME:CDT
DTSTART:20270314T080000
END:DAYLIGHT
BEGIN:STANDARD
TZOFFSETFROM:-0500
TZOFFSETTO:-0600
TZNAME:CST
DTSTART:20271107T070000
END:STANDARD
END:VTIMEZONE
BEGIN:VEVENT
DTSTART;TZID=America/Chicago:20260502T100000
DTEND;TZID=America/Chicago:20260502T190000
DTSTAMP:20260419T103558
CREATED:20260218T210807Z
LAST-MODIFIED:20260218T210848Z
UID:10003649-1777716000-1777748400@iandmcanal.org
SUMMARY:Route 66 Skoolie Swarm
DESCRIPTION:Join us in Downtown Pontiac for the first-ever Skoolie Swarm during Red Carpet Corridor Weekend. In honor of the beloved Route 66 artist Bob Waldmire and his Road Yacht\, what better way to celebrate the Route 66 Centennial than with a gathering of conversion vehicles? Explore 50+ unique rigs displayed throughout downtown Pontiac while enjoying the Red-Carpet Corridor and Swinging Bridges Art Festival\, all happening simultaneously. This free\, walkable event invites you to take photos\, meet the vehicle owners\, and tour their one-of-a-kind homes on wheels.\n 
URL:https://iandmcanal.org/events/route-66-skoolie-swarm/
LOCATION:Downtown Pontiac\, Downtown\, Pontiac\, 61764\, United States
ATTACH;FMTTYPE=image/jpeg:https://iandmcanal.org/wp-content/uploads/2026/02/Image-8.jpeg
END:VEVENT
BEGIN:VEVENT
DTSTART;TZID=America/Chicago:20260503T100000
DTEND;TZID=America/Chicago:20260503T190000
DTSTAMP:20260419T103558
CREATED:20260218T211040Z
LAST-MODIFIED:20260218T211102Z
UID:10003650-1777802400-1777834800@iandmcanal.org
SUMMARY:Route 66 Skoolie Swarm
DESCRIPTION:Join us in Downtown Pontiac for the first-ever Skoolie Swarm during Red Carpet Corridor Weekend. In honor of the beloved Route 66 artist Bob Waldmire and his Road Yacht\, what better way to celebrate the Route 66 Centennial than with a gathering of conversion vehicles? Explore 50+ unique rigs displayed throughout downtown Pontiac while enjoying the Red-Carpet Corridor and Swinging Bridges Art Festival\, all happening simultaneously. This free\, walkable event invites you to take photos\, meet the vehicle owners\, and tour their one-of-a-kind homes on wheels.\n  \n 
URL:https://iandmcanal.org/events/route-66-skoolie-swarm-2/
LOCATION:Downtown Pontiac\, Downtown\, Pontiac\, 61764\, United States
ATTACH;FMTTYPE=image/jpeg:https://iandmcanal.org/wp-content/uploads/2026/02/Image-8.jpeg
END:VEVENT
END:VCALENDAR