BEGIN:VCALENDAR
VERSION:2.0
PRODID:-//I &amp; M Canal - ECPv6.15.20//NONSGML v1.0//EN
CALSCALE:GREGORIAN
METHOD:PUBLISH
X-WR-CALNAME:I &amp; M Canal
X-ORIGINAL-URL:https://iandmcanal.org
X-WR-CALDESC:Events for I &amp; M Canal
REFRESH-INTERVAL;VALUE=DURATION:PT1H
X-Robots-Tag:noindex
X-PUBLISHED-TTL:PT1H
BEGIN:VTIMEZONE
TZID:America/Chicago
BEGIN:DAYLIGHT
TZOFFSETFROM:-0600
TZOFFSETTO:-0500
TZNAME:CDT
DTSTART:20250309T080000
END:DAYLIGHT
BEGIN:STANDARD
TZOFFSETFROM:-0500
TZOFFSETTO:-0600
TZNAME:CST
DTSTART:20251102T070000
END:STANDARD
BEGIN:DAYLIGHT
TZOFFSETFROM:-0600
TZOFFSETTO:-0500
TZNAME:CDT
DTSTART:20260308T080000
END:DAYLIGHT
BEGIN:STANDARD
TZOFFSETFROM:-0500
TZOFFSETTO:-0600
TZNAME:CST
DTSTART:20261101T070000
END:STANDARD
BEGIN:DAYLIGHT
TZOFFSETFROM:-0600
TZOFFSETTO:-0500
TZNAME:CDT
DTSTART:20270314T080000
END:DAYLIGHT
BEGIN:STANDARD
TZOFFSETFROM:-0500
TZOFFSETTO:-0600
TZNAME:CST
DTSTART:20271107T070000
END:STANDARD
END:VTIMEZONE
BEGIN:VEVENT
DTSTART;TZID=America/Chicago:20260411T170000
DTEND;TZID=America/Chicago:20260411T220000
DTSTAMP:20260419T150547
CREATED:20260219T204807Z
LAST-MODIFIED:20260219T204837Z
UID:10003651-1775926800-1775944800@iandmcanal.org
SUMMARY:Booze & Bunnies
DESCRIPTION:Prepare yourself for an evening of non-stop entertainment as you engage in thrilling contests\, win incredible prizes\, and dance the night away on the lively dance floor. The Booze and Bunnies Event boasts a cash bar\, mouth-watering food options\, and a variety of engaging activities to keep you and your friends entertained from start to finish.\nAs the event is exclusively for those aged 21 and over\, ensure you have your ID ready to embark on this unforgettable adventure. Don’t miss the chance to capture the perfect snapshot with the Easter Bunny or frolic amongst farm animals. Experience the thrill of sliding down a giant mountain slide and show off your dance moves on our hopping dance floor.\nGeneral Admission: $20\nVIP Ticket: $50\n\n\n\n\n 
URL:https://iandmcanal.org/events/booze-bunnies/
LOCATION:Siegel’s Cottonwood Farm\, 17250 Weber Rd.\, Crest Hill\, IL\, 60403\, United States
ATTACH;FMTTYPE=image/png:https://iandmcanal.org/wp-content/uploads/2026/02/Screenshot-2026-02-19-at-2.39.40-PM.png
END:VEVENT
END:VCALENDAR