BEGIN:VCALENDAR
VERSION:2.0
PRODID:-//I &amp; M Canal - ECPv6.15.20//NONSGML v1.0//EN
CALSCALE:GREGORIAN
METHOD:PUBLISH
X-ORIGINAL-URL:https://iandmcanal.org
X-WR-CALDESC:Events for I &amp; M Canal
REFRESH-INTERVAL;VALUE=DURATION:PT1H
X-Robots-Tag:noindex
X-PUBLISHED-TTL:PT1H
BEGIN:VTIMEZONE
TZID:America/Chicago
BEGIN:DAYLIGHT
TZOFFSETFROM:-0600
TZOFFSETTO:-0500
TZNAME:CDT
DTSTART:20230312T080000
END:DAYLIGHT
BEGIN:STANDARD
TZOFFSETFROM:-0500
TZOFFSETTO:-0600
TZNAME:CST
DTSTART:20231105T070000
END:STANDARD
BEGIN:DAYLIGHT
TZOFFSETFROM:-0600
TZOFFSETTO:-0500
TZNAME:CDT
DTSTART:20240310T080000
END:DAYLIGHT
BEGIN:STANDARD
TZOFFSETFROM:-0500
TZOFFSETTO:-0600
TZNAME:CST
DTSTART:20241103T070000
END:STANDARD
BEGIN:DAYLIGHT
TZOFFSETFROM:-0600
TZOFFSETTO:-0500
TZNAME:CDT
DTSTART:20250309T080000
END:DAYLIGHT
BEGIN:STANDARD
TZOFFSETFROM:-0500
TZOFFSETTO:-0600
TZNAME:CST
DTSTART:20251102T070000
END:STANDARD
END:VTIMEZONE
BEGIN:VEVENT
DTSTART;TZID=America/Chicago:20241129T110000
DTEND;TZID=America/Chicago:20241129T160000
DTSTAMP:20260419T203950
CREATED:20241125T194450Z
LAST-MODIFIED:20241125T213617Z
UID:10002531-1732878000-1732896000@iandmcanal.org
SUMMARY:Village Shanga - Black Friday Pot Luck & Marketplace
DESCRIPTION:Want some beautiful hand-crafted jewelry straight from Maasailand\, Kenya and other local artisans?\nJoin us for shared food and marketplace where a bevy of vendors\, food and music will be on deck. Come and check out some rare finds for gift giving this year! \n 
URL:https://iandmcanal.org/events/village-shanga-black-friday-pot-luck-marketplace/
LOCATION:Space Share Lab\, 4445 S. King Drive\, 2nd Floor\, Chicago\, IL\, 60653\, United States
ATTACH;FMTTYPE=image/png:https://iandmcanal.org/wp-content/uploads/2024/11/Screen-Shot-2024-11-25-at-1.33.28-PM-e1732570331392.png
END:VEVENT
END:VCALENDAR