BEGIN:VCALENDAR
VERSION:2.0
PRODID:-//I &amp; M Canal - ECPv6.15.20//NONSGML v1.0//EN
CALSCALE:GREGORIAN
METHOD:PUBLISH
X-ORIGINAL-URL:https://iandmcanal.org
X-WR-CALDESC:Events for I &amp; M Canal
REFRESH-INTERVAL;VALUE=DURATION:PT1H
X-Robots-Tag:noindex
X-PUBLISHED-TTL:PT1H
BEGIN:VTIMEZONE
TZID:America/Chicago
BEGIN:DAYLIGHT
TZOFFSETFROM:-0600
TZOFFSETTO:-0500
TZNAME:CDT
DTSTART:20230312T080000
END:DAYLIGHT
BEGIN:STANDARD
TZOFFSETFROM:-0500
TZOFFSETTO:-0600
TZNAME:CST
DTSTART:20231105T070000
END:STANDARD
BEGIN:DAYLIGHT
TZOFFSETFROM:-0600
TZOFFSETTO:-0500
TZNAME:CDT
DTSTART:20240310T080000
END:DAYLIGHT
BEGIN:STANDARD
TZOFFSETFROM:-0500
TZOFFSETTO:-0600
TZNAME:CST
DTSTART:20241103T070000
END:STANDARD
BEGIN:DAYLIGHT
TZOFFSETFROM:-0600
TZOFFSETTO:-0500
TZNAME:CDT
DTSTART:20250309T080000
END:DAYLIGHT
BEGIN:STANDARD
TZOFFSETFROM:-0500
TZOFFSETTO:-0600
TZNAME:CST
DTSTART:20251102T070000
END:STANDARD
BEGIN:DAYLIGHT
TZOFFSETFROM:-0600
TZOFFSETTO:-0500
TZNAME:CDT
DTSTART:20260308T080000
END:DAYLIGHT
BEGIN:STANDARD
TZOFFSETFROM:-0500
TZOFFSETTO:-0600
TZNAME:CST
DTSTART:20261101T070000
END:STANDARD
END:VTIMEZONE
BEGIN:VEVENT
DTSTART;TZID=America/Chicago:20250626T160000
DTEND;TZID=America/Chicago:20250626T200000
DTSTAMP:20260419T143138
CREATED:20250611T194110Z
LAST-MODIFIED:20250618T141727Z
UID:10002977-1750953600-1750968000@iandmcanal.org
SUMMARY:Main Street Sip & Shop - Princeton
DESCRIPTION:Sip\, shop\, and stroll through charming downtown Princeton!\nJoin us for an evening of local sips\, fabulous finds\, and small-town vibes you’ll love. \n 
URL:https://iandmcanal.org/events/main-street-sip-shop-princeton/
LOCATION:Downtown Princeton\, 2 Main St.\, Princeton\, IL\, 61356\, United States
ATTACH;FMTTYPE=image/png:https://iandmcanal.org/wp-content/uploads/2025/06/Screenshot-2025-06-11-at-2.36.41 PM-e1750256241908.png
END:VEVENT
BEGIN:VEVENT
DTSTART;TZID=America/Chicago:20250607T110000
DTEND;TZID=America/Chicago:20250607T210000
DTSTAMP:20260419T143138
CREATED:20250522T194835Z
LAST-MODIFIED:20250522T202048Z
UID:10002919-1749294000-1749330000@iandmcanal.org
SUMMARY:4th Annual Shrimpfest & Brew Hullabaloo
DESCRIPTION:4th Annual Shrimpfest & Brew Hullabaloo\nMusic Lineup: 12-1:30 pm- Al Brown Trio\, 2 pm-6 pm – Brass from the Past\, 7 pm-9 pm – American English Beatles Tribute Band \n 
URL:https://iandmcanal.org/events/4th-annual-shrimpfest-brew-hullabaloo/
LOCATION:Rotary Park – Princeton\, 13593 Bicentennial Dr.\, Princeton\, IL\, 61356\, United States
ATTACH;FMTTYPE=image/jpeg:https://iandmcanal.org/wp-content/uploads/2025/05/shrimpfest-e1747945242553.jpg
END:VEVENT
BEGIN:VEVENT
DTSTART;TZID=America/Chicago:20250607T100000
DTEND;TZID=America/Chicago:20250607T120000
DTSTAMP:20260419T143138
CREATED:20250522T192655Z
LAST-MODIFIED:20250602T142510Z
UID:10002918-1749290400-1749297600@iandmcanal.org
SUMMARY:The Princeton Mile
DESCRIPTION:The Princeton Mile is from the Apollo Theater to Rotary Park.\nThe elite division is at 10:00 am\, followed by age classifications race at 10:15 AM. More details to come. \n 
URL:https://iandmcanal.org/events/the-princeton-mile/
LOCATION:Apollo Theatre\, 455 S. Main Street\, Princeton\, IL\, 61356\, United States
ATTACH;FMTTYPE=image/png:https://iandmcanal.org/wp-content/uploads/2025/05/Screenshot-2025-05-22-at-2.14.44 PM-e1747945468653.png
END:VEVENT
BEGIN:VEVENT
DTSTART;TZID=America/Chicago:20250306T090000
DTEND;TZID=America/Chicago:20250309T210000
DTSTAMP:20260419T143138
CREATED:20250124T185005Z
LAST-MODIFIED:20250127T210900Z
UID:10002737-1741251600-1741554000@iandmcanal.org
SUMMARY:Princeton Restaurant Weekend
DESCRIPTION:Princeton restaurants invite you to Princeton Restaurant Weekend\, a four-day celebration of our local culinary scene!\nMarch 6th-9th\, experience creative specials\, and hometown hospitality as our restaurants showcase the best of what they have to offer. Whether you’re craving comfort food\, innovative chef creations\, or sweet treats\, this is your chance to experience the unique tastes that make Princeton a dining destination. Gather your friends and family\, explore local menus\, and support our local favorites! \n 
URL:https://iandmcanal.org/events/princeton-restaurant-weekend/
LOCATION:Downtown Princeton\, 2 Main St.\, Princeton\, IL\, 61356\, United States
ATTACH;FMTTYPE=image/png:https://iandmcanal.org/wp-content/uploads/2025/01/Screen-Shot-2025-01-24-at-12.37.55-PM-e1738012088449.png
END:VEVENT
BEGIN:VEVENT
DTSTART;TZID=America/Chicago:20241012T083000
DTEND;TZID=America/Chicago:20241012T170000
DTSTAMP:20260419T143138
CREATED:20241010T214411Z
LAST-MODIFIED:20241011T144444Z
UID:10002366-1728721800-1728752400@iandmcanal.org
SUMMARY:Monster Mash Balloon Bash
DESCRIPTION:Join us on Saturday\, October 12th as Princeton Tourism\, Princeton Area Chamber of Commerce\, and the Bureau County Fair reimagine Scarecrow Festival. \nWe are ecstatic to announce that the hot air balloons are making a grand return to be part of Princeton’s first-ever…. \n• MONSTER MASH BALLOON BASH •\nTricks\, Treats\, and Scares\nat the Bureau County Fair!!!\nEvents for the day will include:\n• Trick-or-Treating on Main Street!\n• Kids Costume Contest!\n• Bureau County Fair’s Annual Halloween Parade followed by a performance of the Hocus Pocus Hags!\n• Nightmare Haunted Attraction celebrating 21 years of spooks\, scares\, and screams!\n• Petting Zoo!\n• Food Vendors!\n• Fun Activities for Kids!\n• Hot Air Balloon Glow & Tethered Rides!\n• And So Much More!!!\n\nMark your calendars and stay tuned for more details to follow.\n\nThis is one event you won’t want to miss! Please follow our Facebook pages to stay up-to-date on all of the latest details!!!
URL:https://iandmcanal.org/events/monster-mash-balloon-bash/
LOCATION:Bureau County Fairgrounds\, 811 W. Peru St.\, Princeton\, IL\, 61356\, United States
ATTACH;FMTTYPE=image/jpeg:https://iandmcanal.org/wp-content/uploads/2024/10/Monster-Mash-Web.jpg
END:VEVENT
END:VCALENDAR