BEGIN:VCALENDAR
VERSION:2.0
PRODID:-//I &amp; M Canal - ECPv6.15.20//NONSGML v1.0//EN
CALSCALE:GREGORIAN
METHOD:PUBLISH
X-WR-CALNAME:I &amp; M Canal
X-ORIGINAL-URL:https://iandmcanal.org
X-WR-CALDESC:Events for I &amp; M Canal
REFRESH-INTERVAL;VALUE=DURATION:PT1H
X-Robots-Tag:noindex
X-PUBLISHED-TTL:PT1H
BEGIN:VTIMEZONE
TZID:America/Chicago
BEGIN:DAYLIGHT
TZOFFSETFROM:-0600
TZOFFSETTO:-0500
TZNAME:CDT
DTSTART:20230312T080000
END:DAYLIGHT
BEGIN:STANDARD
TZOFFSETFROM:-0500
TZOFFSETTO:-0600
TZNAME:CST
DTSTART:20231105T070000
END:STANDARD
BEGIN:DAYLIGHT
TZOFFSETFROM:-0600
TZOFFSETTO:-0500
TZNAME:CDT
DTSTART:20240310T080000
END:DAYLIGHT
BEGIN:STANDARD
TZOFFSETFROM:-0500
TZOFFSETTO:-0600
TZNAME:CST
DTSTART:20241103T070000
END:STANDARD
BEGIN:DAYLIGHT
TZOFFSETFROM:-0600
TZOFFSETTO:-0500
TZNAME:CDT
DTSTART:20250309T080000
END:DAYLIGHT
BEGIN:STANDARD
TZOFFSETFROM:-0500
TZOFFSETTO:-0600
TZNAME:CST
DTSTART:20251102T070000
END:STANDARD
END:VTIMEZONE
BEGIN:VEVENT
DTSTART;TZID=America/Chicago:20240811T140000
DTEND;TZID=America/Chicago:20240811T160000
DTSTAMP:20260422T031918
CREATED:20240807T183325Z
LAST-MODIFIED:20240808T193424Z
UID:10002080-1723384800-1723392000@iandmcanal.org
SUMMARY:"Bring Him Home" Opera Concert
DESCRIPTION:Tickets are General Admission\, $35. To reserve your ticket and set up payment\, please email prairieartsprinceton@gmail.com or call 815-875-2631 X 1014. \nIf special seating is needed\, please note at ticket contact. The venue is  wheelchair accessible. Please contact us for any special accommodations. \nDon’t miss this unforgettable afternoon of opera in support of the arts. We look forward to seeing you there! \n 
URL:https://iandmcanal.org/events/bring-him-home-opera-concert-2/
LOCATION:Princeton High School\, 103 S. Euclid\, Princeton\, IL\, 61356\, United States
ATTACH;FMTTYPE=image/jpeg:https://iandmcanal.org/wp-content/uploads/2024/08/490CF02E-3369-4795-B7BE-06693E415448_4_5005_c-231x300-2.jpeg
END:VEVENT
BEGIN:VEVENT
DTSTART;TZID=America/Chicago:20240810T170000
DTEND;TZID=America/Chicago:20240810T200000
DTSTAMP:20260422T031918
CREATED:20240807T182714Z
LAST-MODIFIED:20240808T192842Z
UID:10002079-1723309200-1723320000@iandmcanal.org
SUMMARY:"Bring Him Home" Opera Concert
DESCRIPTION:Join us for a special evening of opera as the Prairie Arts Council proudly presents “Bring Him Home: Opera Concert for the Arts.” This special event features a selection of beautiful arias\, art songs\, and contemporary music performed by Princeton’s own\, Dane Suarez\, tenor\, and Nick Towns\, piano. \nSaturday\, August 10\, 2024: Gala Experience $45– 5:00 PM\, Gala – Enjoy appetizers and cocktails\, view the Gallery Exhibit (located in Prairie Arts Center Gallery) \n– 6:00 PM\, Performance in Prairie Arts Center Theater \nTickets are General Admission. To reserve your ticket and set up payment\, please email prairieartsprinceton@gmail.com or call 815-875-2631 X 1014. \nIf special seating is needed\, please note at ticket contact. The venue is wheelchair accessible. Please contact us for any special accommodations. \nDon’t miss this unforgettable night of opera in support of the arts. We look forward to seeing you there! \n 
URL:https://iandmcanal.org/events/bring-him-home-opera-concert/
LOCATION:Prairie Arts Center\, 24 Park Ave. E\, Princeton\, IL\, 61356\, United States
ATTACH;FMTTYPE=image/jpeg:https://iandmcanal.org/wp-content/uploads/2024/08/490CF02E-3369-4795-B7BE-06693E415448_4_5005_c-231x300-1.jpeg
END:VEVENT
END:VCALENDAR