BEGIN:VCALENDAR
VERSION:2.0
PRODID:-//I &amp; M Canal - ECPv6.15.20//NONSGML v1.0//EN
CALSCALE:GREGORIAN
METHOD:PUBLISH
X-WR-CALNAME:I &amp; M Canal
X-ORIGINAL-URL:https://iandmcanal.org
X-WR-CALDESC:Events for I &amp; M Canal
REFRESH-INTERVAL;VALUE=DURATION:PT1H
X-Robots-Tag:noindex
X-PUBLISHED-TTL:PT1H
BEGIN:VTIMEZONE
TZID:America/Chicago
BEGIN:DAYLIGHT
TZOFFSETFROM:-0600
TZOFFSETTO:-0500
TZNAME:CDT
DTSTART:20250309T080000
END:DAYLIGHT
BEGIN:STANDARD
TZOFFSETFROM:-0500
TZOFFSETTO:-0600
TZNAME:CST
DTSTART:20251102T070000
END:STANDARD
BEGIN:DAYLIGHT
TZOFFSETFROM:-0600
TZOFFSETTO:-0500
TZNAME:CDT
DTSTART:20260308T080000
END:DAYLIGHT
BEGIN:STANDARD
TZOFFSETFROM:-0500
TZOFFSETTO:-0600
TZNAME:CST
DTSTART:20261101T070000
END:STANDARD
BEGIN:DAYLIGHT
TZOFFSETFROM:-0600
TZOFFSETTO:-0500
TZNAME:CDT
DTSTART:20270314T080000
END:DAYLIGHT
BEGIN:STANDARD
TZOFFSETFROM:-0500
TZOFFSETTO:-0600
TZNAME:CST
DTSTART:20271107T070000
END:STANDARD
END:VTIMEZONE
BEGIN:VEVENT
DTSTART;TZID=America/Chicago:20260502T100000
DTEND;TZID=America/Chicago:20260502T190000
DTSTAMP:20260419T103754
CREATED:20260218T203428Z
LAST-MODIFIED:20260218T203504Z
UID:10003647-1777716000-1777748400@iandmcanal.org
SUMMARY:2026 Swinging Bridges Art Festival & Red Carpet Corridor
DESCRIPTION:Join us for the 18th Annual Red Carpet Corridor Festival on Saturday\, May 2nd and Sunday\, May 3rd as we celebrate 100 miles of Route 66 through Illinois! This exciting event spans 14 communities\, each hosting their own unique activities and attractions.\nPontiac is packed with exciting events you won’t want to miss! The celebration features the Swinging Bridges Art Festival\, hosted by the Pontiac Community Art Center. During the festival\, two blocks of Madison Street will be closed to traffic and filled with local artists and vendors creating and showcasing their work\, live music performances\, and more.\nIn celebration of the Route 66 Centennial\, we’ll also unveil our newly constructed Centennial Plaza this weekend. The plaza is located behind the Historic Museum Complex and next to the iconic Route 66 shield mural.\nBe sure to check out the Skoolie Swarm as well – a gathering of 30 to 50 converted vans\, buses\, and other unique vehicles taking over Downtown Pontiac for the entire weekend. This Route 66 Swarm honors the legacy of Route 66 artist Bob Waldmire and adds a vibrant\, one-of-a-kind element to the festivities.\n\n\n\n\n 
URL:https://iandmcanal.org/events/2026-swinging-bridges-art-festival-red-carpet-corridor/
LOCATION:Downtown Pontiac\, Downtown\, Pontiac\, 61764\, United States
ATTACH;FMTTYPE=image/png:https://iandmcanal.org/wp-content/uploads/2026/02/Screenshot-2026-02-18-at-2.25.35-PM.png
END:VEVENT
BEGIN:VEVENT
DTSTART;TZID=America/Chicago:20260503T100000
DTEND;TZID=America/Chicago:20260503T190000
DTSTAMP:20260419T103754
CREATED:20260218T203720Z
LAST-MODIFIED:20260218T203743Z
UID:10003648-1777802400-1777834800@iandmcanal.org
SUMMARY:2026 Swinging Bridges Art Festival & Red Carpet Corridor
DESCRIPTION:Join us for the 18th Annual Red Carpet Corridor Festival on Saturday\, May 2nd and Sunday\, May 3rd as we celebrate 100 miles of Route 66 through Illinois! This exciting event spans 14 communities\, each hosting their own unique activities and attractions.\nPontiac is packed with exciting events you won’t want to miss! The celebration features the Swinging Bridges Art Festival\, hosted by the Pontiac Community Art Center. During the festival\, two blocks of Madison Street will be closed to traffic and filled with local artists and vendors creating and showcasing their work\, live music performances\, and more.\nIn celebration of the Route 66 Centennial\, we’ll also unveil our newly constructed Centennial Plaza this weekend. The plaza is located behind the Historic Museum Complex and next to the iconic Route 66 shield mural.\nBe sure to check out the Skoolie Swarm as well – a gathering of 30 to 50 converted vans\, buses\, and other unique vehicles taking over Downtown Pontiac for the entire weekend. This Route 66 Swarm honors the legacy of Route 66 artist Bob Waldmire and adds a vibrant\, one-of-a-kind element to the festivities.\n 
URL:https://iandmcanal.org/events/2026-swinging-bridges-art-festival-red-carpet-corridor-2/
LOCATION:Downtown Pontiac\, Downtown\, Pontiac\, 61764\, United States
ATTACH;FMTTYPE=image/png:https://iandmcanal.org/wp-content/uploads/2026/02/Screenshot-2026-02-18-at-2.25.35-PM.png
END:VEVENT
END:VCALENDAR