BEGIN:VCALENDAR
VERSION:2.0
PRODID:-//I &amp; M Canal - ECPv6.15.20//NONSGML v1.0//EN
CALSCALE:GREGORIAN
METHOD:PUBLISH
X-ORIGINAL-URL:https://iandmcanal.org
X-WR-CALDESC:Events for I &amp; M Canal
REFRESH-INTERVAL;VALUE=DURATION:PT1H
X-Robots-Tag:noindex
X-PUBLISHED-TTL:PT1H
BEGIN:VTIMEZONE
TZID:America/Chicago
BEGIN:DAYLIGHT
TZOFFSETFROM:-0600
TZOFFSETTO:-0500
TZNAME:CDT
DTSTART:20250309T080000
END:DAYLIGHT
BEGIN:STANDARD
TZOFFSETFROM:-0500
TZOFFSETTO:-0600
TZNAME:CST
DTSTART:20251102T070000
END:STANDARD
BEGIN:DAYLIGHT
TZOFFSETFROM:-0600
TZOFFSETTO:-0500
TZNAME:CDT
DTSTART:20260308T080000
END:DAYLIGHT
BEGIN:STANDARD
TZOFFSETFROM:-0500
TZOFFSETTO:-0600
TZNAME:CST
DTSTART:20261101T070000
END:STANDARD
BEGIN:DAYLIGHT
TZOFFSETFROM:-0600
TZOFFSETTO:-0500
TZNAME:CDT
DTSTART:20270314T080000
END:DAYLIGHT
BEGIN:STANDARD
TZOFFSETFROM:-0500
TZOFFSETTO:-0600
TZNAME:CST
DTSTART:20271107T070000
END:STANDARD
END:VTIMEZONE
BEGIN:VEVENT
DTSTART;TZID=America/Chicago:20260423T180000
DTEND;TZID=America/Chicago:20260423T220000
DTSTAMP:20260419T080936
CREATED:20260309T185100Z
LAST-MODIFIED:20260309T185244Z
UID:10003685-1776967200-1776981600@iandmcanal.org
SUMMARY:Back to the 80's - The Best of Times!!
DESCRIPTION:Back to the 80’s – The Best of Times! The Illinois Rock & Roll Museum on Route 66 is taking you back to the 80’s! Wear your best eighties fashion and join us for an evening of music and fun! Featuring: ARRA – Classic Rock. Also appearing\, event sponsor DeLorean USA! It wouldn’t be the 80’s without 1.21 gigawatts to the flux capacitor! Great Scott!Hors d’oeuvers and Cash Bar will be available. Tickets: Individual $25\, Couple $45\, Reserved table for 10 $200. Sponsorships Available (tickets included). To purchase tickets visit: https://roadtorock.org/upcoming-events/Need more info? Contact the Museum at 815-927-1540 or email Hello@RoadtoRock.orgALL PROCEEDS BENEFIT THE ILLINOIS ROCK & ROLL MUSEUM ON ROUTE 66. (The ILRR66 Museum is a public charity 501c3 nonprofit organization).\n 
URL:https://iandmcanal.org/events/back-to-the-80s-the-best-of-times/
LOCATION:Jacob Henry Mansion\, 20 S. Eastern\, Joliet\, IL\, 60433\, United States
ATTACH;FMTTYPE=image/png:https://iandmcanal.org/wp-content/uploads/2026/03/Screenshot-2026-03-09-at-1.41.36-PM.png
END:VEVENT
BEGIN:VEVENT
DTSTART;TZID=America/Chicago:20260501T160000
DTEND;TZID=America/Chicago:20260501T193000
DTSTAMP:20260419T080936
CREATED:20260403T181642Z
LAST-MODIFIED:20260403T181704Z
UID:10003736-1777651200-1777663800@iandmcanal.org
SUMMARY:Sounds on 66
DESCRIPTION:Join us in the heart of downtown Joliet to kick off the Route 66 Red Carpet Corridor weekend. We are proud to debut this celebration at the brand-new City Square\, transforming our downtown into a vibrant stage for historic sound and cars to commemorate 100 years of Route 66. Free admission.\n 
URL:https://iandmcanal.org/events/sounds-on-66/
LOCATION:Joliet City Center\, 302 N. Chicago St.\, Joliet\, IL\, 60432\, United States
ATTACH;FMTTYPE=image/jpeg:https://iandmcanal.org/wp-content/uploads/2026/04/Image-16.jpeg
END:VEVENT
BEGIN:VEVENT
DTSTART;TZID=America/Chicago:20260501T170000
DTEND;TZID=America/Chicago:20260501T200000
DTSTAMP:20260419T080936
CREATED:20260323T202422Z
LAST-MODIFIED:20260323T202509Z
UID:10003707-1777654800-1777665600@iandmcanal.org
SUMMARY:Cars & Guitars - Sounds on 66
DESCRIPTION:Join the Illinois Rock & Roll Museum on Route 66 as we kick off the Cars & Guitars Summer Season! We will be at our new location\, Downtown Joliet City Square\, to kick off the Route 66 Red Carpet Corridor Weekend! Experience the evolution of the automobile up and down Chicago Street for a premier auto show! The first 75 cars receive a Cars & Guitars Dash Plaque.\n 
URL:https://iandmcanal.org/events/cars-guitars-sounds-on-66/
LOCATION:Joliet City Center\, 302 N. Chicago St.\, Joliet\, IL\, 60432\, United States
ATTACH;FMTTYPE=image/png:https://iandmcanal.org/wp-content/uploads/2026/03/Screenshot-2026-03-23-at-3.19.11-PM.png
END:VEVENT
END:VCALENDAR