BEGIN:VCALENDAR
VERSION:2.0
PRODID:-//I &amp; M Canal - ECPv6.15.20//NONSGML v1.0//EN
CALSCALE:GREGORIAN
METHOD:PUBLISH
X-WR-CALNAME:I &amp; M Canal
X-ORIGINAL-URL:https://iandmcanal.org
X-WR-CALDESC:Events for I &amp; M Canal
REFRESH-INTERVAL;VALUE=DURATION:PT1H
X-Robots-Tag:noindex
X-PUBLISHED-TTL:PT1H
BEGIN:VTIMEZONE
TZID:America/Chicago
BEGIN:DAYLIGHT
TZOFFSETFROM:-0600
TZOFFSETTO:-0500
TZNAME:CDT
DTSTART:20250309T080000
END:DAYLIGHT
BEGIN:STANDARD
TZOFFSETFROM:-0500
TZOFFSETTO:-0600
TZNAME:CST
DTSTART:20251102T070000
END:STANDARD
BEGIN:DAYLIGHT
TZOFFSETFROM:-0600
TZOFFSETTO:-0500
TZNAME:CDT
DTSTART:20260308T080000
END:DAYLIGHT
BEGIN:STANDARD
TZOFFSETFROM:-0500
TZOFFSETTO:-0600
TZNAME:CST
DTSTART:20261101T070000
END:STANDARD
BEGIN:DAYLIGHT
TZOFFSETFROM:-0600
TZOFFSETTO:-0500
TZNAME:CDT
DTSTART:20270314T080000
END:DAYLIGHT
BEGIN:STANDARD
TZOFFSETFROM:-0500
TZOFFSETTO:-0600
TZNAME:CST
DTSTART:20271107T070000
END:STANDARD
END:VTIMEZONE
BEGIN:VEVENT
DTSTART;TZID=America/Chicago:20260313T180000
DTEND;TZID=America/Chicago:20260313T210000
DTSTAMP:20260419T092559
CREATED:20260305T212552Z
LAST-MODIFIED:20260305T212622Z
UID:10003675-1773424800-1773435600@iandmcanal.org
SUMMARY:Rock the Mic - Poetry Unplugged
DESCRIPTION:The Illinois Rock & Roll Museum on Route 66 presents: ROCK THE MIC – POETRY UNPLUGGED. Hosted by Uxmar Torres\, Joliet’s Poet Laureate. Join us for Poetry and Acoustic Music Open Mic Night. Sign up at the door or sign up early by email: uxmar@outlook.com\, Suggested donation of $10.00\, or whatever you can give. All proceeds support the ILRR66 Museum. Need more info? Contact the Museum at 815-927-1540 or email Hello@RoadToRock.org\n 
URL:https://iandmcanal.org/events/rock-the-mic-poetry-unplugged/
LOCATION:Illinois Rock & Roll Museum on Route 66\, 9 W. Cass\, Joliet\, IL\, 60432\, United States
ATTACH;FMTTYPE=image/png:https://iandmcanal.org/wp-content/uploads/2026/03/Screenshot-2026-03-05-at-3.15.29-PM.png
END:VEVENT
END:VCALENDAR