BEGIN:VCALENDAR
VERSION:2.0
PRODID:-//I &amp; M Canal - ECPv6.15.20//NONSGML v1.0//EN
CALSCALE:GREGORIAN
METHOD:PUBLISH
X-WR-CALNAME:I &amp; M Canal
X-ORIGINAL-URL:https://iandmcanal.org
X-WR-CALDESC:Events for I &amp; M Canal
REFRESH-INTERVAL;VALUE=DURATION:PT1H
X-Robots-Tag:noindex
X-PUBLISHED-TTL:PT1H
BEGIN:VTIMEZONE
TZID:America/Chicago
BEGIN:DAYLIGHT
TZOFFSETFROM:-0600
TZOFFSETTO:-0500
TZNAME:CDT
DTSTART:20230312T080000
END:DAYLIGHT
BEGIN:STANDARD
TZOFFSETFROM:-0500
TZOFFSETTO:-0600
TZNAME:CST
DTSTART:20231105T070000
END:STANDARD
BEGIN:DAYLIGHT
TZOFFSETFROM:-0600
TZOFFSETTO:-0500
TZNAME:CDT
DTSTART:20240310T080000
END:DAYLIGHT
BEGIN:STANDARD
TZOFFSETFROM:-0500
TZOFFSETTO:-0600
TZNAME:CST
DTSTART:20241103T070000
END:STANDARD
BEGIN:DAYLIGHT
TZOFFSETFROM:-0600
TZOFFSETTO:-0500
TZNAME:CDT
DTSTART:20250309T080000
END:DAYLIGHT
BEGIN:STANDARD
TZOFFSETFROM:-0500
TZOFFSETTO:-0600
TZNAME:CST
DTSTART:20251102T070000
END:STANDARD
END:VTIMEZONE
BEGIN:VEVENT
DTSTART;TZID=America/Chicago:20241019T090000
DTEND;TZID=America/Chicago:20241019T120000
DTSTAMP:20260422T185939
CREATED:20240930T193020Z
LAST-MODIFIED:20240930T204445Z
UID:10002290-1729328400-1729339200@iandmcanal.org
SUMMARY:Hofmann Dam River Rats Present Their Annual Fall Clean-Up
DESCRIPTION:Meet in the forest preserve area east of the Barrypoint Bridge and the Hofmann Tower. Bring your kids\, parents\, neighbors and friends! We accept AND recycle aluminum cans to raise money for future cleanups and events. Refreshments will be served. Bags and poker sticks will be provided by the Cook County Forest Preserve District. Wear long pants\, sleeves and sturdy shoes. \nFor more information contact: \nSteve Marcus (847) 224-5590 \nBob Bezouska (872) 239-0323 \nKen Sherrier (224) 808-1764 \nThe Hofmann Dam River Rats is a registered 501(c) 3 charitable organization and will sign off on Community Service Hours.
URL:https://iandmcanal.org/events/hofmann-dam-river-rats-present-their-annual-fall-clean-up/
LOCATION:Hofmann Dam\, 3910 Barrypoint Rd.\, Lyons\, IL\, 60534\, United States
ATTACH;FMTTYPE=image/jpeg:https://iandmcanal.org/wp-content/uploads/2024/09/12BE7D87-514F-47DE-84E3-AE20FFBCE374-300x225-1.jpeg
END:VEVENT
END:VCALENDAR