BEGIN:VCALENDAR
VERSION:2.0
PRODID:-//I &amp; M Canal - ECPv6.15.20//NONSGML v1.0//EN
CALSCALE:GREGORIAN
METHOD:PUBLISH
X-WR-CALNAME:I &amp; M Canal
X-ORIGINAL-URL:https://iandmcanal.org
X-WR-CALDESC:Events for I &amp; M Canal
REFRESH-INTERVAL;VALUE=DURATION:PT1H
X-Robots-Tag:noindex
X-PUBLISHED-TTL:PT1H
BEGIN:VTIMEZONE
TZID:America/Chicago
BEGIN:DAYLIGHT
TZOFFSETFROM:-0600
TZOFFSETTO:-0500
TZNAME:CDT
DTSTART:20240310T080000
END:DAYLIGHT
BEGIN:STANDARD
TZOFFSETFROM:-0500
TZOFFSETTO:-0600
TZNAME:CST
DTSTART:20241103T070000
END:STANDARD
BEGIN:DAYLIGHT
TZOFFSETFROM:-0600
TZOFFSETTO:-0500
TZNAME:CDT
DTSTART:20250309T080000
END:DAYLIGHT
BEGIN:STANDARD
TZOFFSETFROM:-0500
TZOFFSETTO:-0600
TZNAME:CST
DTSTART:20251102T070000
END:STANDARD
BEGIN:DAYLIGHT
TZOFFSETFROM:-0600
TZOFFSETTO:-0500
TZNAME:CDT
DTSTART:20260308T080000
END:DAYLIGHT
BEGIN:STANDARD
TZOFFSETFROM:-0500
TZOFFSETTO:-0600
TZNAME:CST
DTSTART:20261101T070000
END:STANDARD
END:VTIMEZONE
BEGIN:VEVENT
DTSTART;TZID=America/Chicago:20251004T140000
DTEND;TZID=America/Chicago:20251004T210000
DTSTAMP:20260419T092518
CREATED:20250904T183536Z
LAST-MODIFIED:20250904T195425Z
UID:10003279-1759586400-1759611600@iandmcanal.org
SUMMARY:Oktoberfest
DESCRIPTION:Oktoberfest on October 4 2025\nFrom 2pm to 9pm. \nBands play from 2-4 and 6-9. \nFood and Oktoberfest beers. \nFamily friendly \n 
URL:https://iandmcanal.org/events/oktoberfest/
LOCATION:Ginger Road Brewing Company\, 166 Mill St.\, Unit G\, Utica\, IL\, 61373\, United States
ATTACH;FMTTYPE=image/png:https://iandmcanal.org/wp-content/uploads/2025/09/Screenshot-2025-09-04-at-1.27.49-PM-e1757015658790.png
END:VEVENT
END:VCALENDAR