BEGIN:VCALENDAR
VERSION:2.0
PRODID:-//I &amp; M Canal - ECPv6.15.20//NONSGML v1.0//EN
CALSCALE:GREGORIAN
METHOD:PUBLISH
X-WR-CALNAME:I &amp; M Canal
X-ORIGINAL-URL:https://iandmcanal.org
X-WR-CALDESC:Events for I &amp; M Canal
REFRESH-INTERVAL;VALUE=DURATION:PT1H
X-Robots-Tag:noindex
X-PUBLISHED-TTL:PT1H
BEGIN:VTIMEZONE
TZID:America/Chicago
BEGIN:DAYLIGHT
TZOFFSETFROM:-0600
TZOFFSETTO:-0500
TZNAME:CDT
DTSTART:20250309T080000
END:DAYLIGHT
BEGIN:STANDARD
TZOFFSETFROM:-0500
TZOFFSETTO:-0600
TZNAME:CST
DTSTART:20251102T070000
END:STANDARD
BEGIN:DAYLIGHT
TZOFFSETFROM:-0600
TZOFFSETTO:-0500
TZNAME:CDT
DTSTART:20260308T080000
END:DAYLIGHT
BEGIN:STANDARD
TZOFFSETFROM:-0500
TZOFFSETTO:-0600
TZNAME:CST
DTSTART:20261101T070000
END:STANDARD
BEGIN:DAYLIGHT
TZOFFSETFROM:-0600
TZOFFSETTO:-0500
TZNAME:CDT
DTSTART:20270314T080000
END:DAYLIGHT
BEGIN:STANDARD
TZOFFSETFROM:-0500
TZOFFSETTO:-0600
TZNAME:CST
DTSTART:20271107T070000
END:STANDARD
END:VTIMEZONE
BEGIN:VEVENT
DTSTART;TZID=America/Chicago:20260419T140000
DTEND;TZID=America/Chicago:20260419T153000
DTSTAMP:20260419T080920
CREATED:20260407T200218Z
LAST-MODIFIED:20260407T200656Z
UID:10003741-1776607200-1776612600@iandmcanal.org
SUMMARY:Beer Stories from a Dry Town - Everyday Life in Historic Pullman
DESCRIPTION:Pullman was designed to be sober\, orderly\, and respectable. George Pullman believed that eliminating alcohol would help create a productive\, morally upright industrial community. But beer\, and the culture around it\, existed alongside the town from the very beginning.\nJoin us for a 21+ experience that blends neighborhood storytelling\, a short guided tour\, and a beer tasting from one of Chicago’s most famous breweries. Together\, the Friends of Pullman\, Seipp Beer\, and the Beer Culture Center will explore how workers navigated company rules\, where they went for leisure\, and what beer reveals about everyday life in a tightly controlled industrial town.\nWhether you’re discovering Pullman for the first time or seeing a familiar place through a new lens\, this interactive program invites conversation\, curiosity\, and connection.
URL:https://iandmcanal.org/events/beer-stories-from-a-dry-town-everyday-life-in-historic-pullman/
LOCATION:Pullman Exhibit Hall\, 11141 S. Cottage Grove\, Chicago\, 60628\, United States
ATTACH;FMTTYPE=image/png:https://iandmcanal.org/wp-content/uploads/2026/04/Screenshot-2026-04-07-at-2.57.05-PM.png
END:VEVENT
END:VCALENDAR