BEGIN:VCALENDAR
VERSION:2.0
PRODID:-//I &amp; M Canal - ECPv6.15.20//NONSGML v1.0//EN
CALSCALE:GREGORIAN
METHOD:PUBLISH
X-WR-CALNAME:I &amp; M Canal
X-ORIGINAL-URL:https://iandmcanal.org
X-WR-CALDESC:Events for I &amp; M Canal
REFRESH-INTERVAL;VALUE=DURATION:PT1H
X-Robots-Tag:noindex
X-PUBLISHED-TTL:PT1H
BEGIN:VTIMEZONE
TZID:America/Chicago
BEGIN:DAYLIGHT
TZOFFSETFROM:-0600
TZOFFSETTO:-0500
TZNAME:CDT
DTSTART:20250309T080000
END:DAYLIGHT
BEGIN:STANDARD
TZOFFSETFROM:-0500
TZOFFSETTO:-0600
TZNAME:CST
DTSTART:20251102T070000
END:STANDARD
BEGIN:DAYLIGHT
TZOFFSETFROM:-0600
TZOFFSETTO:-0500
TZNAME:CDT
DTSTART:20260308T080000
END:DAYLIGHT
BEGIN:STANDARD
TZOFFSETFROM:-0500
TZOFFSETTO:-0600
TZNAME:CST
DTSTART:20261101T070000
END:STANDARD
BEGIN:DAYLIGHT
TZOFFSETFROM:-0600
TZOFFSETTO:-0500
TZNAME:CDT
DTSTART:20270314T080000
END:DAYLIGHT
BEGIN:STANDARD
TZOFFSETFROM:-0500
TZOFFSETTO:-0600
TZNAME:CST
DTSTART:20271107T070000
END:STANDARD
END:VTIMEZONE
BEGIN:VEVENT
DTSTART;TZID=America/Chicago:20260416T121500
DTEND;TZID=America/Chicago:20260416T124500
DTSTAMP:20260419T092634
CREATED:20260407T195300Z
LAST-MODIFIED:20260407T195413Z
UID:10003740-1776341700-1776343500@iandmcanal.org
SUMMARY:Eight Decades of Pullman Cars - The Later Steel Cars
DESCRIPTION:David Duncan returns for the third year in a row to treat us to another deep dive into the many cars of the Pullman company. Last year’s program explored the early editions of Pullman’s steel cars\, but like a fine wine\, Pullman’s designs continued to evolve into the mid-20th century with grace and luxury.\nJoin us this month for another detailed look at the majesty of Pullman’s later steel cars. Free. No reservation required.\nZoom Link: https://zoom.us/j/92422038830
URL:https://iandmcanal.org/events/eight-decades-of-pullman-cars-the-later-steel-cars/
LOCATION:Zoom Meeting\, 000\, (000) 000-0000\, IL\, 00000\, United States
ATTACH;FMTTYPE=image/png:https://iandmcanal.org/wp-content/uploads/2026/04/Screenshot-2026-04-07-at-2.30.16-PM.png
END:VEVENT
END:VCALENDAR