BEGIN:VCALENDAR
VERSION:2.0
PRODID:-//I &amp; M Canal - ECPv6.15.20//NONSGML v1.0//EN
CALSCALE:GREGORIAN
METHOD:PUBLISH
X-WR-CALNAME:I &amp; M Canal
X-ORIGINAL-URL:https://iandmcanal.org
X-WR-CALDESC:Events for I &amp; M Canal
REFRESH-INTERVAL;VALUE=DURATION:PT1H
X-Robots-Tag:noindex
X-PUBLISHED-TTL:PT1H
BEGIN:VTIMEZONE
TZID:America/Chicago
BEGIN:DAYLIGHT
TZOFFSETFROM:-0600
TZOFFSETTO:-0500
TZNAME:CDT
DTSTART:20250309T080000
END:DAYLIGHT
BEGIN:STANDARD
TZOFFSETFROM:-0500
TZOFFSETTO:-0600
TZNAME:CST
DTSTART:20251102T070000
END:STANDARD
BEGIN:DAYLIGHT
TZOFFSETFROM:-0600
TZOFFSETTO:-0500
TZNAME:CDT
DTSTART:20260308T080000
END:DAYLIGHT
BEGIN:STANDARD
TZOFFSETFROM:-0500
TZOFFSETTO:-0600
TZNAME:CST
DTSTART:20261101T070000
END:STANDARD
BEGIN:DAYLIGHT
TZOFFSETFROM:-0600
TZOFFSETTO:-0500
TZNAME:CDT
DTSTART:20270314T080000
END:DAYLIGHT
BEGIN:STANDARD
TZOFFSETFROM:-0500
TZOFFSETTO:-0600
TZNAME:CST
DTSTART:20271107T070000
END:STANDARD
END:VTIMEZONE
BEGIN:VEVENT
DTSTART;TZID=America/Chicago:20260418T140000
DTEND;TZID=America/Chicago:20260418T170000
DTSTAMP:20260419T091915
CREATED:20260323T195643Z
LAST-MODIFIED:20260323T195707Z
UID:10003704-1776520800-1776531600@iandmcanal.org
SUMMARY:Jim Noethe
DESCRIPTION:Enjoy an afternoon of entertainment with Jim!! Admission is free.\n  \n 
URL:https://iandmcanal.org/events/jim-noethe/
LOCATION:Clarks Run Antiques\, 215 N. Division St.\, Utica\, IL\, 61373\, United States
ATTACH;FMTTYPE=image/png:https://iandmcanal.org/wp-content/uploads/2026/03/Screenshot-2026-03-23-at-2.52.17-PM.png
END:VEVENT
BEGIN:VEVENT
DTSTART;TZID=America/Chicago:20260328T140000
DTEND;TZID=America/Chicago:20260328T170000
DTSTAMP:20260419T091915
CREATED:20260320T202153Z
LAST-MODIFIED:20260320T202232Z
UID:10003691-1774706400-1774717200@iandmcanal.org
SUMMARY:John Piontek
DESCRIPTION:Accomplished acoustic performer John Piontek will entertain us!! Admission is free.\n 
URL:https://iandmcanal.org/events/john-piontek/
LOCATION:Clarks Run Antiques\, 215 N. Division St.\, Utica\, IL\, 61373\, United States
ATTACH;FMTTYPE=image/png:https://iandmcanal.org/wp-content/uploads/2026/03/Screenshot-2026-03-20-at-3.17.37-PM.png
END:VEVENT
BEGIN:VEVENT
DTSTART;TZID=America/Chicago:20260321T140000
DTEND;TZID=America/Chicago:20260321T170000
DTSTAMP:20260419T091915
CREATED:20260320T201437Z
LAST-MODIFIED:20260320T201629Z
UID:10003690-1774101600-1774112400@iandmcanal.org
SUMMARY:Joey Figiani
DESCRIPTION:Enjoy an afternoon of entertainment with Joey! Admission is free.\n 
URL:https://iandmcanal.org/events/joey-figiani/
LOCATION:Clarks Run Antiques\, 215 N. Division St.\, Utica\, IL\, 61373\, United States
ATTACH;FMTTYPE=image/png:https://iandmcanal.org/wp-content/uploads/2026/03/Screenshot-2026-03-20-at-3.02.52-PM.png
END:VEVENT
END:VCALENDAR