BEGIN:VCALENDAR
VERSION:2.0
PRODID:-//I &amp; M Canal - ECPv6.15.20//NONSGML v1.0//EN
CALSCALE:GREGORIAN
METHOD:PUBLISH
X-WR-CALNAME:I &amp; M Canal
X-ORIGINAL-URL:https://iandmcanal.org
X-WR-CALDESC:Events for I &amp; M Canal
REFRESH-INTERVAL;VALUE=DURATION:PT1H
X-Robots-Tag:noindex
X-PUBLISHED-TTL:PT1H
BEGIN:VTIMEZONE
TZID:America/Chicago
BEGIN:DAYLIGHT
TZOFFSETFROM:-0600
TZOFFSETTO:-0500
TZNAME:CDT
DTSTART:20240310T080000
END:DAYLIGHT
BEGIN:STANDARD
TZOFFSETFROM:-0500
TZOFFSETTO:-0600
TZNAME:CST
DTSTART:20241103T070000
END:STANDARD
BEGIN:DAYLIGHT
TZOFFSETFROM:-0600
TZOFFSETTO:-0500
TZNAME:CDT
DTSTART:20250309T080000
END:DAYLIGHT
BEGIN:STANDARD
TZOFFSETFROM:-0500
TZOFFSETTO:-0600
TZNAME:CST
DTSTART:20251102T070000
END:STANDARD
BEGIN:DAYLIGHT
TZOFFSETFROM:-0600
TZOFFSETTO:-0500
TZNAME:CDT
DTSTART:20260308T080000
END:DAYLIGHT
BEGIN:STANDARD
TZOFFSETFROM:-0500
TZOFFSETTO:-0600
TZNAME:CST
DTSTART:20261101T070000
END:STANDARD
BEGIN:DAYLIGHT
TZOFFSETFROM:-0600
TZOFFSETTO:-0500
TZNAME:CDT
DTSTART:20270314T080000
END:DAYLIGHT
BEGIN:STANDARD
TZOFFSETFROM:-0500
TZOFFSETTO:-0600
TZNAME:CST
DTSTART:20271107T070000
END:STANDARD
END:VTIMEZONE
BEGIN:VEVENT
DTSTART;TZID=America/Chicago:20260331T110000
DTEND;TZID=America/Chicago:20260331T120000
DTSTAMP:20260419T194615
CREATED:20260321T172530Z
LAST-MODIFIED:20260321T172552Z
UID:10003700-1774954800-1774958400@iandmcanal.org
SUMMARY:Messy Art
DESCRIPTION:Using non-traditional tools and methods helps little artists practice thinking outside the box. New textures and effects promotes exploration and playfulness in art and helps us break free from the perfectionism that can surround art. Included with admission. Admission $5 – $15. \n 
URL:https://iandmcanal.org/events/messy-art/
LOCATION:Children’s Museum of Oak Lawn\, 5100 Museum Dr.\, Oak Lawn\, IL\, 60453\, United States
ATTACH;FMTTYPE=image/png:https://iandmcanal.org/wp-content/uploads/2026/03/Screenshot-2026-03-21-at-12.09.43-PM.png
END:VEVENT
BEGIN:VEVENT
DTSTART;TZID=America/Chicago:20250126T090000
DTEND;TZID=America/Chicago:20250126T100000
DTSTAMP:20260419T194615
CREATED:20250107T200349Z
LAST-MODIFIED:20250107T223051Z
UID:10002675-1737882000-1737885600@iandmcanal.org
SUMMARY:Sensory Friendly Play Session
DESCRIPTION:Join us every Sunday from 9:00-10:00 am.\nThis hour low sensory play session is for families with children who would benefit from a more relaxed atmosphere at the museum. \nPre-registration is required. Please register each person attending the play session. In order to maintain a sensory friendly environment we are limiting capacity. \n 
URL:https://iandmcanal.org/events/sensory-friendly-play-session-4/
LOCATION:Children’s Museum of Oak Lawn\, 5100 Museum Dr.\, Oak Lawn\, IL\, 60453\, United States
ATTACH;FMTTYPE=image/jpeg:https://iandmcanal.org/wp-content/uploads/2024/12/sensory-e1735660810774.jpg
END:VEVENT
BEGIN:VEVENT
DTSTART;TZID=America/Chicago:20250119T090000
DTEND;TZID=America/Chicago:20250119T100000
DTSTAMP:20260419T194615
CREATED:20241230T200753Z
LAST-MODIFIED:20241231T161017Z
UID:10002657-1737277200-1737280800@iandmcanal.org
SUMMARY:Sensory Friendly Play Session
DESCRIPTION:This hour low sensory play session is for families with children who would benefit from a more relaxed atmosphere at the museum. \nJoin us every Sunday from 9:00-10:00 am. \nPre-registration is required. Please register each person attending the play session. \nIn order to maintain a sensory friendly environment we are limiting capacity.
URL:https://iandmcanal.org/events/sensory-friendly-play-session-3/
LOCATION:Children’s Museum of Oak Lawn\, 5100 Museum Dr.\, Oak Lawn\, IL\, 60453\, United States
ATTACH;FMTTYPE=image/jpeg:https://iandmcanal.org/wp-content/uploads/2024/12/sensory-e1735660810774.jpg
END:VEVENT
BEGIN:VEVENT
DTSTART;TZID=America/Chicago:20250112T090000
DTEND;TZID=America/Chicago:20250112T100000
DTSTAMP:20260419T194615
CREATED:20241230T200521Z
LAST-MODIFIED:20241231T160319Z
UID:10002656-1736672400-1736676000@iandmcanal.org
SUMMARY:Sensory Friendly Play Session
DESCRIPTION:This hour low sensory play session is for families with children who would benefit from a more relaxed atmosphere at the museum. \nJoin us every Sunday from 9:00-10:00 am. \nPre-registration is required. Please register each person attending the play session. \nIn order to maintain a sensory friendly environment we are limiting capacity.
URL:https://iandmcanal.org/events/sensory-friendly-play-session-2/
LOCATION:Children’s Museum of Oak Lawn\, 5100 Museum Dr.\, Oak Lawn\, IL\, 60453\, United States
ATTACH;FMTTYPE=image/jpeg:https://iandmcanal.org/wp-content/uploads/2024/12/sensory-e1735660810774.jpg
END:VEVENT
BEGIN:VEVENT
DTSTART;TZID=America/Chicago:20250105T090000
DTEND;TZID=America/Chicago:20250105T100000
DTSTAMP:20260419T194615
CREATED:20241230T200214Z
LAST-MODIFIED:20241231T160015Z
UID:10002655-1736067600-1736071200@iandmcanal.org
SUMMARY:Sensory Friendly Play Session
DESCRIPTION:This hour low sensory play session is for families with children who would benefit from a more relaxed atmosphere at the museum. \nJoin us every Sunday from 9:00-10:00 am. \nPre-registration is required. Please register each person attending the play session. \nIn order to maintain a sensory friendly environment we are limiting capacity. \n 
URL:https://iandmcanal.org/events/sensory-friendly-play-session/
LOCATION:Children’s Museum of Oak Lawn\, 5100 Museum Dr.\, Oak Lawn\, IL\, 60453\, United States
ATTACH;FMTTYPE=image/jpeg:https://iandmcanal.org/wp-content/uploads/2024/12/sensory-e1735660810774.jpg
END:VEVENT
END:VCALENDAR