BEGIN:VCALENDAR
VERSION:2.0
PRODID:-//I &amp; M Canal - ECPv6.15.20//NONSGML v1.0//EN
CALSCALE:GREGORIAN
METHOD:PUBLISH
X-ORIGINAL-URL:https://iandmcanal.org
X-WR-CALDESC:Events for I &amp; M Canal
REFRESH-INTERVAL;VALUE=DURATION:PT1H
X-Robots-Tag:noindex
X-PUBLISHED-TTL:PT1H
BEGIN:VTIMEZONE
TZID:America/Chicago
BEGIN:DAYLIGHT
TZOFFSETFROM:-0600
TZOFFSETTO:-0500
TZNAME:CDT
DTSTART:20250309T080000
END:DAYLIGHT
BEGIN:STANDARD
TZOFFSETFROM:-0500
TZOFFSETTO:-0600
TZNAME:CST
DTSTART:20251102T070000
END:STANDARD
BEGIN:DAYLIGHT
TZOFFSETFROM:-0600
TZOFFSETTO:-0500
TZNAME:CDT
DTSTART:20260308T080000
END:DAYLIGHT
BEGIN:STANDARD
TZOFFSETFROM:-0500
TZOFFSETTO:-0600
TZNAME:CST
DTSTART:20261101T070000
END:STANDARD
BEGIN:DAYLIGHT
TZOFFSETFROM:-0600
TZOFFSETTO:-0500
TZNAME:CDT
DTSTART:20270314T080000
END:DAYLIGHT
BEGIN:STANDARD
TZOFFSETFROM:-0500
TZOFFSETTO:-0600
TZNAME:CST
DTSTART:20271107T070000
END:STANDARD
END:VTIMEZONE
BEGIN:VEVENT
DTSTART;TZID=America/Chicago:20260422T100000
DTEND;TZID=America/Chicago:20260422T103000
DTSTAMP:20260419T080918
CREATED:20260415T195249Z
LAST-MODIFIED:20260415T195641Z
UID:10003771-1776852000-1776853800@iandmcanal.org
SUMMARY:Wednesday Storytime
DESCRIPTION:STORYTIME is the best morning on the farm. YAY! Grab the kids and come out to listen to story reading\, enjoy an interactive experience\, and then visit the farm animals at 10:00 am every Wednesday of our season!\nWant more time on the farm after? We have Storytime themed crafts on the 2nd and 4th Wednesday’s of every month. Storytime is FREE and open to all – no sign up required.\nHowever\, if you plan to stay for the craft on the 2nd or 4th weeks\, we do encourage you to sign up and secure your spot so we can ensure there to be sure supplies and plenty of room.
URL:https://iandmcanal.org/events/wednesday-storytime/
LOCATION:Bronkberry Farms\, 18061 Bronk Rd.\, Plainfield\, IL\, 60586\, United States
ATTACH;FMTTYPE=image/png:https://iandmcanal.org/wp-content/uploads/2026/04/Screenshot-2026-04-15-at-2.49.31-PM.png
END:VEVENT
BEGIN:VEVENT
DTSTART;TZID=America/Chicago:20260422T103000
DTEND;TZID=America/Chicago:20260422T123000
DTSTAMP:20260419T080918
CREATED:20260415T200043Z
LAST-MODIFIED:20260415T200104Z
UID:10003772-1776853800-1776861000@iandmcanal.org
SUMMARY:Silly Faces - Egg Carton Seeding Class
DESCRIPTION:A silly\, hands-on growing craft for early childhood creators this class is a playful early childhood art and planting class offered as part of our Sprout & Create series on the farm. In this hands-on experience\, little creators will plant grass seeds into egg carton cups\, then decorate their carton with faces and designs—creating a silly grass head friend whose hair grows over time.\nThis class blends creativity\, nature\, and laughter\, giving kids a chance to create something fun and watch it grow after they take it home. $10 per child.
URL:https://iandmcanal.org/events/silly-faces-egg-carton-seeding-class/
LOCATION:Bronkberry Farms\, 18061 Bronk Rd.\, Plainfield\, IL\, 60586\, United States
ATTACH;FMTTYPE=image/png:https://iandmcanal.org/wp-content/uploads/2026/04/Screenshot-2026-04-15-at-2.55.44-PM.png
END:VEVENT
BEGIN:VEVENT
DTSTART;TZID=America/Chicago:20260501T180000
DTEND;TZID=America/Chicago:20260501T193000
DTSTAMP:20260419T080918
CREATED:20260415T201932Z
LAST-MODIFIED:20260415T202158Z
UID:10003774-1777658400-1777663800@iandmcanal.org
SUMMARY:Wine Glass Painting
DESCRIPTION:A BYOB creative night at Handmade Happy Hour!!\nSip\, paint\, and unwind at our Paint Your Own Wine Glass Workshop\, part of our Handmade Happy Hour series. This BYOB\, adults-only craft night on the farm invites you to design a custom wine glass that’s as fun\, bold\, or elegant as you’d like. $40 per person. 
URL:https://iandmcanal.org/events/wine-glass-painting/
LOCATION:Bronkberry Farms\, 18061 Bronk Rd.\, Plainfield\, IL\, 60586\, United States
ATTACH;FMTTYPE=image/png:https://iandmcanal.org/wp-content/uploads/2026/04/Screenshot-2026-04-15-at-3.15.43-PM.png
END:VEVENT
BEGIN:VEVENT
DTSTART;TZID=America/Chicago:20260503T100000
DTEND;TZID=America/Chicago:20260503T130000
DTSTAMP:20260419T080918
CREATED:20260417T193221Z
LAST-MODIFIED:20260417T193247Z
UID:10003776-1777802400-1777813200@iandmcanal.org
SUMMARY:Create Your Own Spring Planter
DESCRIPTION:S \ntart the Season in STYLE and deck out your porch patio\, or garden area with a gorgeous\, handmade planter…done by YOU!\nWe are there to help and guide you as you create\, but the sky is the limit on what you bring to life. The class is a $20 sitting fee and the pot and flowers you choose are additional and dependent on your choices.\nCustomize to your hearts desire! Your final total will be based on the flowers and add-on’s you chose as you create away. These classes are ALL AGES so whether 6 or 60 – planters can be made!\nHave a favorite planter or two you want to use\, feel free to BRING YOUR OWN POT and dive into your beautiful creation!
URL:https://iandmcanal.org/events/create-your-own-spring-planter/
LOCATION:Bronkberry Farms\, 18061 Bronk Rd.\, Plainfield\, IL\, 60586\, United States
ATTACH;FMTTYPE=image/png:https://iandmcanal.org/wp-content/uploads/2026/04/Screenshot-2026-04-17-at-2.27.31-PM.png
END:VEVENT
BEGIN:VEVENT
DTSTART;TZID=America/Chicago:20260517T090000
DTEND;TZID=America/Chicago:20260517T150000
DTSTAMP:20260419T080918
CREATED:20260417T193816Z
LAST-MODIFIED:20260417T193836Z
UID:10003777-1779008400-1779030000@iandmcanal.org
SUMMARY:Monthly Craft & Vendor Fair
DESCRIPTION:Every third Sunday from the months of May through October\, Bronkberry Farms hosts vendors from the Chicagoland area and beyond who showcase\, share\, and sell their unique products to the community. See what our talented crafters and vendors have to offer this season and mark your calendars to come out and enjoy a day at the farm\, supporting local!\nAdmission into our Craft & Vendor Fairs is ALWAYS FREE!\nFOOD TRUCKS. FARM ANIMALS. COFFEE TRUCKS. AND MORE!
URL:https://iandmcanal.org/events/monthly-craft-vendor-fair/
LOCATION:Bronkberry Farms\, 18061 Bronk Rd.\, Plainfield\, IL\, 60586\, United States
ATTACH;FMTTYPE=image/png:https://iandmcanal.org/wp-content/uploads/2026/04/Screenshot-2026-04-17-at-2.34.32-PM.png
END:VEVENT
END:VCALENDAR