BEGIN:VCALENDAR
VERSION:2.0
PRODID:-//I &amp; M Canal - ECPv6.15.20//NONSGML v1.0//EN
CALSCALE:GREGORIAN
METHOD:PUBLISH
X-ORIGINAL-URL:https://iandmcanal.org
X-WR-CALDESC:Events for I &amp; M Canal
REFRESH-INTERVAL;VALUE=DURATION:PT1H
X-Robots-Tag:noindex
X-PUBLISHED-TTL:PT1H
BEGIN:VTIMEZONE
TZID:America/Chicago
BEGIN:DAYLIGHT
TZOFFSETFROM:-0600
TZOFFSETTO:-0500
TZNAME:CDT
DTSTART:20250309T080000
END:DAYLIGHT
BEGIN:STANDARD
TZOFFSETFROM:-0500
TZOFFSETTO:-0600
TZNAME:CST
DTSTART:20251102T070000
END:STANDARD
BEGIN:DAYLIGHT
TZOFFSETFROM:-0600
TZOFFSETTO:-0500
TZNAME:CDT
DTSTART:20260308T080000
END:DAYLIGHT
BEGIN:STANDARD
TZOFFSETFROM:-0500
TZOFFSETTO:-0600
TZNAME:CST
DTSTART:20261101T070000
END:STANDARD
BEGIN:DAYLIGHT
TZOFFSETFROM:-0600
TZOFFSETTO:-0500
TZNAME:CDT
DTSTART:20270314T080000
END:DAYLIGHT
BEGIN:STANDARD
TZOFFSETFROM:-0500
TZOFFSETTO:-0600
TZNAME:CST
DTSTART:20271107T070000
END:STANDARD
END:VTIMEZONE
BEGIN:VEVENT
DTSTART;TZID=America/Chicago:20260516T110000
DTEND;TZID=America/Chicago:20260516T150000
DTSTAMP:20260422T141012
CREATED:20260422T172123Z
LAST-MODIFIED:20260422T173512Z
UID:10003794-1778929200-1778943600@iandmcanal.org
SUMMARY:Kites in Flight
DESCRIPTION:Get ready to look to the skies! Kites in Flight returns for its 6th year at Peck Park in Ottawa with two days of high-flying fun and family entertainment. We’re excited to welcome Chicago Kite back again this year\, bringing their incredible professional kite displays that fill the sky with color and excitement. Admission is free.\n\n\nYou can look forward to:\n\nFREE kite flying and professional kite demonstrations\nKids + family activities\nLive entertainment\nCommunity vendors + sponsors\nA relaxed outdoor festival atmosphere\n Important Admission Info:\nKite flying and kite demonstrations are FREE to enjoy\nAll other activities will require a $5 activity fee\n(This helps support the event and allows us to continue offering engaging activities for families)\nGrab your kite\, gather the family\, and help us celebrate six years of Kites in Flight!!
URL:https://iandmcanal.org/events/kites-in-flight-2/
LOCATION:Peck Park – Ottawa\, 1498 State St.\, Ottawa\, IL\, 61350\, United States
ATTACH;FMTTYPE=image/png:https://iandmcanal.org/wp-content/uploads/2026/04/Screenshot-2026-04-22-at-12.15.51-PM.png
END:VEVENT
BEGIN:VEVENT
DTSTART;TZID=America/Chicago:20260516T120000
DTEND;TZID=America/Chicago:20260516T131700
DTSTAMP:20260422T141012
CREATED:20260414T181049Z
LAST-MODIFIED:20260414T182042Z
UID:10003770-1778932800-1778937420@iandmcanal.org
SUMMARY:Walldogs Makers Market
DESCRIPTION:The Food Trucks are coming back to Streator for our 9th year and we are looking for artisan\, antique\, garden and other unique vendors to join us on May 16th 12-7pm. Registration cost is $35. Email the Streator Walldogs at streatormarketmanager@gmail.com for a registration form. Looking forward to seeing you for a great day in the City Park (221 E. Hickory St) with great music\, family fun and amazing food at the ready. Please\, send all inquiries to our email and not facebook as it is easier to organize. Thank you.\n 
URL:https://iandmcanal.org/events/walldogs-makers-market/
LOCATION:Streator City Park\, 301 N. Vermillion St.\, Streator\, 61364\, United States
ATTACH;FMTTYPE=image/png:https://iandmcanal.org/wp-content/uploads/2026/04/Screenshot-2026-04-14-at-1.06.40-PM.png
END:VEVENT
BEGIN:VEVENT
DTSTART;TZID=America/Chicago:20260516T120000
DTEND;TZID=America/Chicago:20260516T190000
DTSTAMP:20260422T141012
CREATED:20260414T180443Z
LAST-MODIFIED:20260414T180522Z
UID:10003769-1778932800-1778958000@iandmcanal.org
SUMMARY:The Streator Food Truck Festival
DESCRIPTION:A family fun day of great food trucks\, artisan vendors\, and great music. Bring a lawn chair\, and a healthy appetite for a full day of good food and fun.\nThe Streator Food Truck Festival was started in 2017 as a fundraiser for the Streator Walldogs Murals. The event continues to raise funds for murals and public art in Streator.\n 
URL:https://iandmcanal.org/events/the-streator-food-truck-festival/
LOCATION:Streator City Park\, 301 N. Vermillion St.\, Streator\, 61364\, United States
ATTACH;FMTTYPE=image/jpeg:https://iandmcanal.org/wp-content/uploads/2026/04/Image-3.jpeg
END:VEVENT
BEGIN:VEVENT
DTSTART;TZID=America/Chicago:20260516T170000
DTEND;TZID=America/Chicago:20260516T200000
DTSTAMP:20260422T141012
CREATED:20260420T193438Z
LAST-MODIFIED:20260420T193522Z
UID:10003783-1778950800-1778961600@iandmcanal.org
SUMMARY:Downtown Pontiac Cruise Nights
DESCRIPTION:Join us for Pontiac Cruise Night\, hosted by Twisted Machinez Car & Truck Club! This is a welcoming event for car and truck enthusiasts of all kinds\, featuring classic vehicles\, food\, music\, and family-friendly fun. Whether you’re a seasoned collector\, a casual car fan\, or just looking for a fun night out\, everyone is invited to cruise\, connect\, and enjoy the Pontiac community.Get ready for a historic year of cruising\, classic cars\, and community fun! 2026 marks the 100th anniversary of both Route 66 and the Pontiac\, and we’re celebrating in style with Pontiac Cruise Night!!\n\n\n\n\n\n\n\n\n\n\n\n\n\n\n\n\n\n\n\n\n\n\n\n\n\n\n\n\n\n\n\n\n\n\n 
URL:https://iandmcanal.org/events/downtown-pontiac-cruise-nights/
LOCATION:Downtown Pontiac\, Downtown\, Pontiac\, 61764\, United States
ATTACH;FMTTYPE=image/png:https://iandmcanal.org/wp-content/uploads/2026/04/Screenshot-2026-04-20-at-2.23.57-PM.png
END:VEVENT
BEGIN:VEVENT
DTSTART;TZID=America/Chicago:20260517T090000
DTEND;TZID=America/Chicago:20260517T150000
DTSTAMP:20260422T141012
CREATED:20260417T193816Z
LAST-MODIFIED:20260417T193836Z
UID:10003777-1779008400-1779030000@iandmcanal.org
SUMMARY:Monthly Craft & Vendor Fair
DESCRIPTION:Every third Sunday from the months of May through October\, Bronkberry Farms hosts vendors from the Chicagoland area and beyond who showcase\, share\, and sell their unique products to the community. See what our talented crafters and vendors have to offer this season and mark your calendars to come out and enjoy a day at the farm\, supporting local!\nAdmission into our Craft & Vendor Fairs is ALWAYS FREE!\nFOOD TRUCKS. FARM ANIMALS. COFFEE TRUCKS. AND MORE!
URL:https://iandmcanal.org/events/monthly-craft-vendor-fair/
LOCATION:Bronkberry Farms\, 18061 Bronk Rd.\, Plainfield\, IL\, 60586\, United States
ATTACH;FMTTYPE=image/png:https://iandmcanal.org/wp-content/uploads/2026/04/Screenshot-2026-04-17-at-2.34.32-PM.png
END:VEVENT
BEGIN:VEVENT
DTSTART;TZID=America/Chicago:20260517T110000
DTEND;TZID=America/Chicago:20260517T150000
DTSTAMP:20260422T141012
CREATED:20260422T173908Z
LAST-MODIFIED:20260422T174219Z
UID:10003795-1779015600-1779030000@iandmcanal.org
SUMMARY:Kites in Flight
DESCRIPTION:Get ready to look to the skies! Kites in Flight returns for its 6th year at Peck Park in Ottawa with two days of high-flying fun and family entertainment. We’re excited to welcome Chicago Kite back again this year\, bringing their incredible professional kite displays that fill the sky with color and excitement. Admission is free.\nYou can look forward to:\nFREE kite flying and professional kite demonstrations\nKids + family activities\nLive entertainment\nCommunity vendors + sponsors\nA relaxed outdoor festival atmosphere\nImportant Admission Info:\nKite flying and kite demonstrations are FREE to enjoy\nAll other activities will require a $5 activity fee\n(This helps support the event and allows us to continue offering engaging activities for families)\nGrab your kite\, gather the family\, and help us celebrate six years of Kites in Flight!!\n\n 
URL:https://iandmcanal.org/events/kites-in-flight-3/
LOCATION:Peck Park – Ottawa\, 1498 State St.\, Ottawa\, IL\, 61350\, United States
ATTACH;FMTTYPE=image/png:https://iandmcanal.org/wp-content/uploads/2026/04/Screenshot-2026-04-22-at-12.15.51-PM.png
END:VEVENT
BEGIN:VEVENT
DTSTART;TZID=America/Chicago:20260521T160000
DTEND;TZID=America/Chicago:20260521T200000
DTSTAMP:20260422T141012
CREATED:20260417T195740Z
LAST-MODIFIED:20260417T195804Z
UID:10003778-1779379200-1779393600@iandmcanal.org
SUMMARY:New Lenox Farmers Market
DESCRIPTION:In its second year\, Chicago Street Markets continues to collaborate with the Village of New Lenox to expand the New Lenox Farmers Market\, offering more variety from local farmers\, growers\, makers and bakers.\n 
URL:https://iandmcanal.org/events/new-lenox-farmers-market/
LOCATION:New Lenox Commons\, 1 Veterans' Parkway P\, New Lenox\, IL\, 60451\, United States
ATTACH;FMTTYPE=image/png:https://iandmcanal.org/wp-content/uploads/2026/04/Screenshot-2026-04-17-at-2.50.50-PM.png
END:VEVENT
BEGIN:VEVENT
DTSTART;TZID=America/Chicago:20260522T173000
DTEND;TZID=America/Chicago:20260522T193000
DTSTAMP:20260422T141012
CREATED:20260417T200524Z
LAST-MODIFIED:20260417T200623Z
UID:10003779-1779471000-1779478200@iandmcanal.org
SUMMARY:First Time Fishing
DESCRIPTION:Theres no time like the present to learn a new skill! Learn fishing basics\, such as putting tackle on the pole and baiting the hook. Practice casting and gain hands-on experience while fishing along the shoreline with the guidance of an instructor. All materials are provided\, including pole\, tackle\, and bait. Just bring yourself! Ages 8 or older. $5 per person. Registration required by Thursday\, May 21: 815-722-4121.
URL:https://iandmcanal.org/events/first-time-fishing-2/
LOCATION:Hidden Lakes Historic Trout Farm\, 475 Trout Farm Road\, Bolingbrook\, IL\, 60440\, United States
ATTACH;FMTTYPE=image/png:https://iandmcanal.org/wp-content/uploads/2026/04/Screenshot-2026-04-17-at-2.59.42-PM.png
END:VEVENT
BEGIN:VEVENT
DTSTART;TZID=America/Chicago:20260523T090000
DTEND;TZID=America/Chicago:20260523T130000
DTSTAMP:20260422T141012
CREATED:20260418T195058Z
LAST-MODIFIED:20260418T195118Z
UID:10003780-1779526800-1779541200@iandmcanal.org
SUMMARY:Trackside Farmers Market
DESCRIPTION:The Trackside Farmers Market is a curated\, locally driven market dedicated to supporting farmers\, makers\, bakers\, and growers while elevating small businesses. Through a partnership between Chicago Street Markets and the City of Lockport\, the market brings a diverse selection of fresh produce\, artisan foods\, handcrafted goods\, and locally made products to historic downtown Lockport.\n 
URL:https://iandmcanal.org/events/trackside-farmers-market/
LOCATION:Lockport Metra Station\, 133 W. 13th St.\, Lockport\, IL\, 60441\, United States
ATTACH;FMTTYPE=image/jpeg:https://iandmcanal.org/wp-content/uploads/2026/04/Image-13.jpeg
END:VEVENT
BEGIN:VEVENT
DTSTART;TZID=America/Chicago:20260523T100000
DTEND;TZID=America/Chicago:20260523T120000
DTSTAMP:20260422T141012
CREATED:20260422T180004Z
LAST-MODIFIED:20260422T180034Z
UID:10003796-1779530400-1779537600@iandmcanal.org
SUMMARY:Prairie in a Pot Butterfly Garden
DESCRIPTION:Join retired USDA Biologist and Pollinator Habitat Advocate Ellen Starr for a special pollinator-focused make-and-take workshop. During this informative and hands-on session\, Ellen will talk about native plants and how they support and attract a variety of pollinators\, including butterflies\, bees\, and other beneficial insects. Participants will learn how different plants play specific roles in a pollinator’s life cycle\, then put that knowledge into action by creating their own prairie in a pot to take home. This workshop is perfect for anyone looking to support pollinators while creating a beautiful\, meaningful container garden. $10 per person.\n 
URL:https://iandmcanal.org/events/prairie-in-a-pot-butterfly-garden/
LOCATION:Hornbaker Gardens\, 22937 County Rd. 1140 N\, Princeton\, IL\, 61356\, United States
ATTACH;FMTTYPE=image/jpeg:https://iandmcanal.org/wp-content/uploads/2026/04/Image-7.jpeg
END:VEVENT
BEGIN:VEVENT
DTSTART;TZID=America/Chicago:20260523T100000
DTEND;TZID=America/Chicago:20260523T120000
DTSTAMP:20260422T141012
CREATED:20260422T180717Z
LAST-MODIFIED:20260422T180742Z
UID:10003797-1779530400-1779537600@iandmcanal.org
SUMMARY:Year Round Porch Pots
DESCRIPTION:Learn how to create porch pots that look great in every season—and don’t stop thriving when the weather changes. In this session with Carol\, you’ll design versatile porch containers using houseplants and select annuals that can transition indoors to overwinter when temperatures drop. Carol will walk you through plant selection\, container design\, seasonal care\, and tips for successfully moving plants from porch to home. Perfect for anyone who wants beautiful containers now and lasting plants all year long. $10 per person (does not include plants & pot). \n 
URL:https://iandmcanal.org/events/year-round-porch-pots/
LOCATION:Hornbaker Gardens\, 22937 County Rd. 1140 N\, Princeton\, IL\, 61356\, United States
ATTACH;FMTTYPE=image/jpeg:https://iandmcanal.org/wp-content/uploads/2026/04/Image-8.jpeg
END:VEVENT
BEGIN:VEVENT
DTSTART;TZID=America/Chicago:20260523T100000
DTEND;TZID=America/Chicago:20260523T160000
DTSTAMP:20260422T141012
CREATED:20260418T195922Z
LAST-MODIFIED:20260418T200032Z
UID:10003781-1779530400-1779552000@iandmcanal.org
SUMMARY:Museum Campus Day
DESCRIPTION:Have you ever wondered whats going on in our 18th-century Traders Cabin or wanted to peek inside the Native American longhouse above the pollinator garden? This is your chance to explore all the buildings at Isle a la Cache Museum and learn about the French fur traders and Potawatomi who once called this area home. Drop in for self-guided exploration during normal operating hours.\n 
URL:https://iandmcanal.org/events/museum-campus-day-10/
LOCATION:Isle a la Cache Museum\, 501 E Romeo Road\, Romeoville\, IL\, 60446\, United States
ATTACH;FMTTYPE=image/png:https://iandmcanal.org/wp-content/uploads/2026/04/Screenshot-2026-04-18-at-2.53.03-PM.png
END:VEVENT
BEGIN:VEVENT
DTSTART;TZID=America/Chicago:20260523T120000
DTEND;TZID=America/Chicago:20260523T190000
DTSTAMP:20260422T141012
CREATED:20260420T195338Z
LAST-MODIFIED:20260420T195446Z
UID:10003784-1779537600-1779562800@iandmcanal.org
SUMMARY:Blues\, Brews & BBQ Fest
DESCRIPTION:Beer tastings from 15+ regional breweries\, smoky barbecue and live Blues music all day! Experience the signature flavors and soulful sounds of Chicago at Blues\, Brews & BBQ\, an outdoor festival featuring live blues music\, smoky barbecue and craft brews from more than 15 regional breweries.\n 
URL:https://iandmcanal.org/events/blues-brews-bbq-fest/
LOCATION:The Forge Adventure Park and Ziplines\, 227 Heritage Quarries Drive\, Lemont\, Illinois\, 60439
ATTACH;FMTTYPE=image/png:https://iandmcanal.org/wp-content/uploads/2026/04/Screenshot-2026-04-20-at-2.50.02-PM.png
END:VEVENT
BEGIN:VEVENT
DTSTART;TZID=America/Chicago:20260523T173000
DTEND;TZID=America/Chicago:20260523T193000
DTSTAMP:20260422T141012
CREATED:20260418T200809Z
LAST-MODIFIED:20260418T200833Z
UID:10003782-1779557400-1779564600@iandmcanal.org
SUMMARY:First Time Fishing
DESCRIPTION:Theres no time like the present to learn a new skill! Learn fishing basics\, such as putting tackle on the pole and baiting the hook. Practice casting and gain hands-on experience while fishing along the shoreline with the guidance of an instructor.. All materials are provided\, including a pole\, tackle and bait. Just bring yourself! Ages 8 or older. $5 per person. Registration required by Friday\, May 22: 815-722-4121.\n 
URL:https://iandmcanal.org/events/first-time-fishing-3/
LOCATION:Hidden Lakes Historic Trout Farm\, 475 Trout Farm Road\, Bolingbrook\, IL\, 60440\, United States
ATTACH;FMTTYPE=image/png:https://iandmcanal.org/wp-content/uploads/2026/04/Screenshot-2026-04-18-at-3.04.36-PM.png
END:VEVENT
BEGIN:VEVENT
DTSTART;TZID=America/Chicago:20260524T130000
DTEND;TZID=America/Chicago:20260524T150000
DTSTAMP:20260422T141012
CREATED:20260420T200414Z
LAST-MODIFIED:20260420T200530Z
UID:10003785-1779627600-1779634800@iandmcanal.org
SUMMARY:Create Your Own Spring Planter
DESCRIPTION:A fully customizable spring planter experience Planter Workshop on the farm\, a hands-on\, creative class where guests design and build a planter that celebrates spring in their own unique way. From soft and simple to full\, colorful\, and overflowing\, this workshop invites you to create something that feels joyful\, fresh\, and perfectly suited to your space. $20 per person plus cost of planter & plants you choose.\n 
URL:https://iandmcanal.org/events/create-your-own-spring-planter-2/
LOCATION:Bronkberry Farms\, 18061 Bronk Rd.\, Plainfield\, IL\, 60586\, United States
ATTACH;FMTTYPE=image/png:https://iandmcanal.org/wp-content/uploads/2026/04/Screenshot-2026-04-20-at-2.57.45-PM.png
END:VEVENT
BEGIN:VEVENT
DTSTART;TZID=America/Chicago:20260527T183000
DTEND;TZID=America/Chicago:20260527T210000
DTSTAMP:20260422T141012
CREATED:20260420T202007Z
LAST-MODIFIED:20260420T202028Z
UID:10003786-1779906600-1779915600@iandmcanal.org
SUMMARY:Illinois Valley Pistol Shrimp Baseball Opening Night
DESCRIPTION:The Illinois Valley Pistol Shrimp are a collegiate wood-bat summer league baseball team in the Prospect League\, based in Peru\, Illinois. They play at Veterans Memorial Park and won the league championship in 2024. The team serves as a development league for college players\, with a 60-game season.\nGates Open at 5:35 PM | Food Trucks: Tony’s Butt Shack\, Dog House LaSalle & Tropical Sno Two Rivers
URL:https://iandmcanal.org/events/illinois-valley-pistol-shrimp-baseball-opening-night/
LOCATION:Schweickert Stadium in Veterans Memorial Park\, 2600 Plank Rd.\, Peru\, IL\, 61354\, United States
ATTACH;FMTTYPE=image/png:https://iandmcanal.org/wp-content/uploads/2026/04/Screenshot-2026-04-20-at-3.09.16-PM.png
END:VEVENT
BEGIN:VEVENT
DTSTART;TZID=America/Chicago:20260528T190000
DTEND;TZID=America/Chicago:20260528T210000
DTSTAMP:20260422T141012
CREATED:20260422T181223Z
LAST-MODIFIED:20260422T181241Z
UID:10003798-1779994800-1780002000@iandmcanal.org
SUMMARY:Rialto Reels: Butch Cassidy and The Sundance Kid
DESCRIPTION:Tickets are $5 each and will be available in advance or on the day of the reel at the Rialto Square Theatre Box Office. Tickets are unavailable online and are now on sale at the box office. Doors will open 30 minutes before showtime; a free organ concert will begin when doors open\, and all movies start at 7 PM*. All seating will be general admission—first come\, first served. Bar and concessions (including freshly popped popcorn) will be available for purchase.\n 
URL:https://iandmcanal.org/events/rialto-reels-butch-cassidy-and-the-sundance-kid/
LOCATION:Rialto Square Theatre\, 102 N. Chicago St.\, Joliet\, 60432\, United States
ATTACH;FMTTYPE=image/png:https://iandmcanal.org/wp-content/uploads/2026/04/Screenshot-2026-04-22-at-1.08.54-PM.png
END:VEVENT
BEGIN:VEVENT
DTSTART;TZID=America/Chicago:20260529T093000
DTEND;TZID=America/Chicago:20260529T170000
DTSTAMP:20260422T141012
CREATED:20260324T202515Z
LAST-MODIFIED:20260324T202536Z
UID:10003708-1780047000-1780074000@iandmcanal.org
SUMMARY:Digging to Discover: Our Common Roots & Our Potential to Flourish in the FHC - 6th Annual Conference
DESCRIPTION:We hope you will join us for the exciting activities comprising our sixth annual conference. You are welcome to participate in any and all elements that interest you by using the registration links below. \n\nFHC Conference Registration Options Space for in person participation is limited\, so it is recommended that you register soon! \nLes Archéologues\nIncludes conference\, lunch\, and cocktail reception on May 29 \n$75 FHS Members | $100 non-members \nLes Historiens\nIncludes all conference activities on May 29 and chartered bus tour\nand the Dinner Soirée on May 30 \nSpace is limited and registrations will be accepted on a first-come\, first-served basis \n$150 FHS Members | $200 non-members \nLes Ethnologues\nIncludes all conference activities on May 29 and\nDinner Soirée on May 30 \n$125 FHS Members | $150 non-members \nLes Techniciens\nVirtually attend the FHC Conference on May 29 via Zoom \nZoom link will be furnished closer to the date of the event \n$25 per person \nLes Étudiants\nAttend FHC Conference on May 29 for free \nStudents with valid student IDs only \nRegister Online \n\n 
URL:https://iandmcanal.org/events/digging-to-discover-our-common-roots-our-potential-to-flourish-in-the-fhc-6th-annual-conference/
LOCATION:Alliance Francaise MSP\, 227 Colfax Ave. North\, Minneapolis\, MN\, 55405\, United States
ATTACH;FMTTYPE=image/png:https://iandmcanal.org/wp-content/uploads/2026/03/Screenshot-2026-03-24-at-2.29.36-PM.png
END:VEVENT
BEGIN:VEVENT
DTSTART;TZID=America/Chicago:20260530T083000
DTEND;TZID=America/Chicago:20260530T183000
DTSTAMP:20260422T141012
CREATED:20260324T203350Z
LAST-MODIFIED:20260324T203811Z
UID:10003709-1780129800-1780165800@iandmcanal.org
SUMMARY:Full Day Exploring the Twin Cities Region - French Heritage Corridor 6th Annual Conference
DESCRIPTION:Chartered bus tour of French heritage sites in the Twin Cities Region\, including a French-Canadian lunch hosted by the Little Canada Historical Society.\n 
URL:https://iandmcanal.org/events/full-day-exploring-the-twin-cities-region-french-heritage-corridor-6th-annual-conference/
LOCATION:Alliance Francaise MSP\, 227 Colfax Ave. North\, Minneapolis\, MN\, 55405\, United States
ATTACH;FMTTYPE=image/png:https://iandmcanal.org/wp-content/uploads/2026/03/Screenshot-2026-03-24-at-2.29.36-PM.png
END:VEVENT
BEGIN:VEVENT
DTSTART;TZID=America/Chicago:20260530T183000
DTEND;TZID=America/Chicago:20260530T213000
DTSTAMP:20260422T141012
CREATED:20260324T204419Z
LAST-MODIFIED:20260324T204440Z
UID:10003710-1780165800-1780176600@iandmcanal.org
SUMMARY:Dinner Soiree with Live Music & Dancing - French Heritage Corridor 6th Annual Conference
DESCRIPTION:Dinner\, live music and dancing at the Historic Fort Snelling Museum! 
URL:https://iandmcanal.org/events/dinner-soiree-with-live-music-dancing-french-heritage-corridor-6th-annual-conference/
LOCATION:Historic Fort Snelling Museum\, 200 Tower Ave.\, St. Paul\, MN\, 55111\, United States
ATTACH;FMTTYPE=image/png:https://iandmcanal.org/wp-content/uploads/2026/03/Screenshot-2026-03-24-at-2.29.36-PM.png
END:VEVENT
END:VCALENDAR